Workbook
Name ChiSoTaiChinh: Chisotaichinh!$A$1:$M$704
Name GDNganh: GDNganh!$A$1:$AG$736
Name IndexRealTime: 'Real-time HNX'!$A$1:$F$101
Name IndexRealTime: 'Real-time Hose'!$A$1:$F$101
Name LichSuKien: Líchukien!$A$1:$G$31
Name ThongKeThiTruong: ThongkeTT!$A$1:$J$63
Name TopGD: TopGD!$A$1:$F$355

Sheet Nhandinh_Page1
J5: BẢN TIN THỊ TRƯỜNG
G6: Phiên giao dịch ngày: | K6: =ThongkeTT!A2 -> 41459
B9: Thống kê thị trường | E9: HOSE | G9: HNX
B10: Index | D10: =ThongkeTT!B2/100 -> 487.22 | F10: =ThongkeTT!B34 -> 63.07
B11: % Thay đổi | E11: =ThongkeTT!B2/ThongkeTT!B3-1 -> -0.00026674874 | G11: =ThongkeTT!B34/ThongkeTT!B35-1 -> 0
B12: KLGD (CP) | D12: =ThongkeTT!C2*10 -> 39430283 | F12: =ThongkeTT!C34 -> 20548185
B13: GTGD (tỷ đồng) | D13: =ThongkeTT!D2/10^8 -> 827.35473 | F13: =ThongkeTT!D34/10^9 -> 163.51956 | J13: Diễn biến thị trường:
B14: Tổng cung (CP) | D14: =ThongkeTT!F2 -> 90775830 | F14: =ThongkeTT!F34 -> 47729700
B15: Tổng cầu (CP) | D15: =ThongkeTT!E2 -> 88961040 | F15: =ThongkeTT!E34 -> 47265900
B17: Giao dịch NĐTNN | E17: HOSE | G17: HNX
B18: KL bán (CP) | D18: =ThongkeTT!H2 -> 5293959 | F18: =ThongkeTT!H34 -> 1244757
B19: KL mua (CP) | D19: =ThongkeTT!G2 -> 3034299 | F19: =ThongkeTT!G34 -> 1469424
B20: GTmua (tỷ đồng) | D20: =ThongkeTT!I2/10^9 -> 133.94013 | F20: =ThongkeTT!I34/10^9 -> 21.070706
B21: GT bán (tỷ đồng) | D21: =ThongkeTT!J2/10^9 -> 194.28802 | F21: =ThongkeTT!J34/10^9 -> 17.313002
B22: GT ròng (tỷ đồng) | D22: =D20-D21 -> -60.347895 | F22: =F20-F21 -> 3.7577039
B24: Tương quan cung cầu | G24: HOSE
Q25: HOSE | R25: KLGD | S25: KL đặt mua | T25: KL đặt bán | U25: Mua - Bán
Q26: =ThongkeTT!A2 -> 41459 | R26: =ThongkeTT!C2*10 -> 39430283 | S26: =ThongkeTT!E2 -> 88961040 | T26: =-ThongkeTT!F2 -> -90775830 | U26: =S26+T26 -> -1814790
Q27: =ThongkeTT!A3 -> 41458 | R27: =ThongkeTT!C3*10 -> 45991406 | S27: =ThongkeTT!E3 -> 86502930 | T27: =-ThongkeTT!F3 -> -95009300 | U27: =S27+T27 -> -8506370
Q28: =ThongkeTT!A4 -> 41457 | R28: =ThongkeTT!C4*10 -> 37835960 | S28: =ThongkeTT!E4 -> 86957480 | T28: =-ThongkeTT!F4 -> -79369770 | U28: =S28+T28 -> 7587710
Q29: =ThongkeTT!A5 -> 41456 | R29: =ThongkeTT!C5*10 -> 35055382 | S29: =ThongkeTT!E5 -> 78514470 | T29: =-ThongkeTT!F5 -> -77030090 | U29: =S29+T29 -> 1484380
Q30: =ThongkeTT!A6 -> 41453 | R30: =ThongkeTT!C6*10 -> 62412303 | S30: =ThongkeTT!E6 -> 87345270 | T30: =-ThongkeTT!F6 -> -114281900 | U30: =S30+T30 -> -26936630
Q31: =ThongkeTT!A7 -> 41452 | R31: =ThongkeTT!C7*10 -> 46019883 | S31: =ThongkeTT!E7 -> 100764770 | T31: =-ThongkeTT!F7 -> -92201540 | U31: =S31+T31 -> 8563230
Q32: =ThongkeTT!A8 -> 41451 | R32: =ThongkeTT!C8*10 -> 66675880 | S32: =ThongkeTT!E8 -> 116056910 | T32: =-ThongkeTT!F8 -> -107351220 | U32: =S32+T32 -> 8705690
Q33: =ThongkeTT!A9 -> 41450 | R33: =ThongkeTT!C9*10 -> 86819654 | S33: =ThongkeTT!E9 -> 127700370 | T33: =-ThongkeTT!F9 -> -158708740 | U33: =S33+T33 -> -31008370
Q34: =ThongkeTT!A10 -> 41449 | R34: =ThongkeTT!C10*10 -> 58308957 | S34: =ThongkeTT!E10 -> 105704030 | T34: =-ThongkeTT!F10 -> -117186110 | U34: =S34+T34 -> -11482080
Q35: =ThongkeTT!A11 -> 41446 | R35: =ThongkeTT!C11*10 -> 94144650 | S35: =ThongkeTT!E11 -> 171010470 | T35: =-ThongkeTT!F11 -> -169476340 | U35: =S35+T35 -> 1534130
B36: Giá trị Giao dịch NDTNN | G36: HOSE | Q36: =ThongkeTT!A12 -> 41445 | R36: =ThongkeTT!C12*10 -> 49534013 | S36: =ThongkeTT!E12 -> 98898620 | T36: =-ThongkeTT!F12 -> -119477160 | U36: =S36+T36 -> -20578540
Q37: =ThongkeTT!A13 -> 41444 | R37: =ThongkeTT!C13*10 -> 43058375 | S37: =ThongkeTT!E13 -> 100596580 | T37: =-ThongkeTT!F13 -> -100612150 | U37: =S37+T37 -> -15570
Q38: =ThongkeTT!A14 -> 41443 | R38: =ThongkeTT!C14*10 -> 55766067 | S38: =ThongkeTT!E14 -> 110127750 | T38: =-ThongkeTT!F14 -> -109235190 | U38: =S38+T38 -> 892560
Q39: =ThongkeTT!A15 -> 41442 | R39: =ThongkeTT!C15*10 -> 75810190 | S39: =ThongkeTT!E15 -> 120568640 | T39: =-ThongkeTT!F15 -> -154939810 | U39: =S39+T39 -> -34371170
Q40: =ThongkeTT!A16 -> 41439 | R40: =ThongkeTT!C16*10 -> 60674030 | S40: =ThongkeTT!E16 -> 132479130 | T40: =-ThongkeTT!F16 -> -135280240 | U40: =S40+T40 -> -2801110
Q41: =ThongkeTT!A17 -> 41438 | R41: =ThongkeTT!C17*10 -> 62541629 | S41: =ThongkeTT!E17 -> 133922830 | T41: =-ThongkeTT!F17 -> -137144200 | U41: =S41+T41 -> -3221370
Q42: =ThongkeTT!A18 -> 41437 | R42: =ThongkeTT!C18*10 -> 70558170 | S42: =ThongkeTT!E18 -> 149208190 | T42: =-ThongkeTT!F18 -> -128291970 | U42: =S42+T42 -> 20916220
Q43: =ThongkeTT!A19 -> 41436 | R43: =ThongkeTT!C19*10 -> 68047473 | S43: =ThongkeTT!E19 -> 127196440 | T43: =-ThongkeTT!F19 -> -129753240 | U43: =S43+T43 -> -2556800
Q44: =ThongkeTT!A20 -> 41435 | R44: =ThongkeTT!C20*10 -> 94171518 | S44: =ThongkeTT!E20 -> 144334820 | T44: =-ThongkeTT!F20 -> -169019580 | U44: =S44+T44 -> -24684760
Q45: =ThongkeTT!A21 -> 41432 | R45: =ThongkeTT!C21*10 -> 74548104 | S45: =ThongkeTT!E21 -> 144421860 | T45: =-ThongkeTT!F21 -> -168737970 | U45: =S45+T45 -> -24316110
B48: Ngành Cấp 1 | D48: % thay đổi | E48: P/E | F48: P/B | G48: %GTGD
A49: 304 | B49: Công nghệ Thông tin | D49: =GDNganh!AE4/GDNganh!AD4-1 -> 0.011281433 | E49: =VLOOKUP($A49,Chisotaichinh!$A:$IX,8,0) -> 7.1554746 | F49: =VLOOKUP($A49,Chisotaichinh!$A:$IX,9,0) -> 1.5736272 | G49: =H51/$H$61 -> 0.073161832
A50: 169 | B50: Công nghiệp | D50: =GDNganh!AE5/GDNganh!AD5-1 -> 0.0024465482 | E50: =VLOOKUP($A50,Chisotaichinh!$A:$IX,8,0) -> 22.605791 | F50: =VLOOKUP($A50,Chisotaichinh!$A:$IX,9,0) -> 0.99836268 | G50: =H52/$H$61 -> 0.13811029
...

Sheet PTKT_Page2
O5: PHÂN TÍCH KỸ THUẬT
J6: VN-INDEX
B28: Minor Trend | D28: Short term trend | F28: Intermediate Trend
B29: Tăng | D29: Giảm | F29: Trung tính
B30: Ghi chú:
B31: Minor Trend là xu hướng từ 5 ngày đến 10 ngày
B32: short term trend là xu hướng từ 10 ngày đến 3 tuần
B33: Intermediate trend là xu hướng từ 3 tuần đến 6 tháng
J34: HNX-INDEX
B58: Minor Trend | D58: Short term trend | F58: Intermediate Trend
B59: Trung tính | D59: Giảm | F59: Tăng
B60: Ghi chú:
B61: Minor Trend là xu hướng từ 5 ngày đến 10 ngày
B62: short term trend là xu hướng từ 10 ngày đến 3 tuần
B63: Intermediate trend là xu hướng từ 3 tuần đến 6 tháng
A65: BẢN TIN THỊ TRƯỜNG | O65: Trang 3

Sheet TVDT1
O5: KHUYẾN NGHỊ ĐẦU TƯ
G7: MÃ CỔ PHIẾU: SII | O7: MUA
B32: Khuyến nghị đã đóng
B33: Mã | C33: Ngày mở khuyến nghị | D33: Ngày đóng khuyến nghị | E33: Khuyến nghị | F33: Giá khuyến nghị | G33: Giá mục tiêu | H33: Giá cắt lỗ | I33: Giá đóng khuyến nghị | J33: Hiệu suất (%)
B34: GMD | C34: 12/12/2012 | D34: 21/12/2012 | E34: Mua | F34: 17.6 | G34: 19.5 | H34: 16.2 | I34: 17.4 | J34: =100*(I34-F34)/F34 -> -1.1363636
B35: OGC | C35: 17/12/2012 | D35: 21/12/2012 | E35: Mua | F35: 9.3 | G35: 10.4 | H35: 8.8 | I35: 9.6 | J35: =100*(I35-F35)/F35 -> 3.2258065
B36: LSS | C36: 26/12/2012 | D36: 02/01/2013 | E36: Mua | F36: 14.3 | G36: 16.5 | H36: 13.7 | I36: 15.8 | J36: =100*(I36-F36)/F36 -> 10.48951
B37: NTL | C37: 26/12/2012 | D37: 03/01/2013 | E37: Mua | F37: 15.7 | G37: 19 | H37: 14.8 | I37: 16.5 | J37: =100*(I37-F37)/F37 -> 5.0955414
B38: KSD | C38: 15/01/2013 | D38: 18/01/2013 | E38: Mua | F38: 2.2 | G38: 2.8 | H38: 2 | I38: 2.5 | J38: =100*(I38-F38)/F38 -> 13.636364
B39: DRC | C39: 04/02/2013 | D39: 07/02/2013 | E39: Mua | F39: 33.8 | G39: 40 | H39: 32 | I39: 41.5 | J39: =100*(I39-F39)/F39 -> 22.781065
B40: PGC | C40: 06/02/2013 | D40: 21/02/2013 | E40: Mua | F40: 9.6 | G40: 14 | H40: 8.9 | I40: 10.4 | J40: =100*(I40-F40)/F40 -> 8.3333333
B43: Khuyến nghị đang mở
B44: Mã | C44: Ngày mở khuyến nghị | D44: Ngày đóng khuyến nghị | E44: Khuyến nghị | F44: Giá khuyến nghị | G44: Giá mục tiêu | H44: Giá cắt lỗ | I44: Giá hiện tại | J44: Hiệu suất tạm tính (%)
B45: SII | C45: 09/04/2013 | E45: Mua | F45: 15.2 | G45: 18 | H45: 14.5 | I45: 15.4 | J45: =100*(I45-F45)/F45 -> 1.3157895
A62: BẢN TIN THỊ TRƯỜNG | N62: Trang 3

Sheet TVDT1 (2)
O5: KHUYẾN NGHỊ ĐẦU TƯ
G7: MÃ CỔ PHIẾU: KLS | O7: MUA
G30: MÃ CỔ PHIẾU: OGC | O30: MUA
A64: BẢN TIN THỊ TRƯỜNG | N64: Trang 3

Sheet TVDT2
O5: KHUYẾN NGHỊ ĐẦU TƯ
B6: Khuyến nghị đã đóng
B7: Mã | C7: Ngày mở khuyến nghị | D7: Ngày đóng khuyến nghị | E7: Khuyến nghị | F7: Giá khuyến nghị | G7: Giá mục tiêu | H7: Giá cắt lỗ | I7: Giá đóng khuyến nghị | J7: Hiệu suất (%)
B8: GMD | C8: 12/12/2012 | D8: 21/12/2012 | E8: Mua | F8: 17.6 | G8: 19.5 | H8: 16.2 | I8: 17.4 | J8: =100*(I8-F8)/F8 -> -1.1363636
B9: OGC | C9: 17/12/2012 | D9: 21/12/2012 | E9: Mua | F9: 9.3 | G9: 10.4 | H9: 8.8 | I9: 9.6 | J9: =100*(I9-F9)/F9 -> 3.2258065
B10: LSS | C10: 26/12/2012 | D10: 02/01/2013 | E10: Mua | F10: 14.3 | G10: 16.5 | H10: 13.7 | I10: 15.8 | J10: =100*(I10-F10)/F10 -> 10.48951
B11: NTL | C11: 26/12/2012 | D11: 03/01/2013 | E11: Mua | F11: 15.7 | G11: 19 | H11: 14.8 | I11: 16.5 | J11: =100*(I11-F11)/F11 -> 5.0955414
B12: KSD | C12: 15/01/2013 | D12: 18/01/2013 | E12: Mua | F12: 2.2 | G12: 2.8 | H12: 2 | I12: 2.5 | J12: =100*(I12-F12)/F12 -> 13.636364
B13: DRC | C13: 04/02/2013 | D13: 07/02/2013 | E13: Mua | F13: 33.8 | G13: 40 | H13: 32 | I13: 41.5 | J13: =100*(I13-F13)/F13 -> 22.781065
B14: PGC | C14: 06/02/2013 | D14: 21/02/2013 | E14: Mua | F14: 9.6 | G14: 14 | H14: 8.9 | I14: 10.4 | J14: =100*(I14-F14)/F14 -> 8.3333333
B15: SII | C15: 09/04/2013 | D15: 12/04/2013 | E15: Mua | F15: 15.2 | G15: 18 | H15: 14.5 | I15: 15.1 | J15: =100*(I15-F15)/F15 -> -0.65789474
B16: KLS | C16: 27/05/2013 | D16: 17/06/2013 | E16: Mua | F16: 9 | G16: 11.5 | H16: 8.5 | I16: 8.9 | J16: =100*(I16-F16)/F16 -> -1.1111111
B17: OGC | C17: 27/05/2013 | D17: 17/06/2013 | E17: Mua | F17: 12.5 | G17: 16 | H17: 11.8 | I17: 11.8 | J17: =100*(I17-F17)/F17 -> -5.6
A64: BẢN TIN THỊ TRƯỜNG | K64: Trang 3 | O64: Trang 3

Sheet Loc FA
N5: LỌC CỔ PHIẾU
B16: TOP CỔ PHIẾU CÓ TĂNG TRƯỞNG LỢI NHUẬN Q1.2013 SO CÙNG KỲ CAO NHẤT
B18: Mã CK | C18: LN Q1.2013 | D18: LN Q1 YOY | E18: KLGD TB | F18: EPS | G18: BV | H18: ROA | I18: ROE | J18: P/E | K18: Công nợ/VCSH | L18: Beta | M18: PB | N18: Kế hoạch cổ tức 2013
B19: SDA | C19: 1.957381 | D19: 96.869048 | E19: 9807.591 | F19: 197.5012 | G19: 14632.31 | H19: 0.007001761 | I19: 0.01360569 | J19: 22.784672 | K19: 0.9697037 | L19: 0.79 | M19: 0.30753859 | N19: 500
B20: KDC | C20: 32.636887 | D20: 89.658019 | E20: 29134.09 | F20: 2448.25 | G20: 27514.53 | H20: 0.06843603 | I20: 0.09209888 | J20: 19.115695 | K20: 0.3202932 | L20: 0.36 | M20: 1.7009195 | N20: 2000
B21: PGC | C21: 20.890754 | D21: 46.478987 | E21: 490948.2 | F21: 1615.809 | G21: 12478.05 | H21: 0.05613407 | I21: 0.1350467 | J21: 5.5699653 | K21: 1.506185 | L21: 1.19 | M21: 0.72126654 | N21: 1200
B22: SDE | C22: 0.94362099 | D22: 30.454033 | E22: 6819.818 | F22: 1822.302 | G22: 14678.46 | H22: 0.04193553 | I22: 0.1306049 | J22: 3.6217927 | K22: 2.335527 | L22: 1.02 | M22: 0.44963845 | N22: 1000
B23: NKG | C23: 25.271633 | D23: 20.236666 | E23: 105403.2 | F23: -3516.047 | G23: 10141.78 | H23: -0.0498745 | I23: -0.3178319 | J23: -3.7826571 | K23: 6.562294 | L23: -0.11 | M23: 1.3114069 | N23: 0
B24: HTL | C24: 0.53486783 | D24: 18.828928 | E24: 209.0909 | F24: 487.3191 | G24: 11104.91 | H24: 0.02780021 | I24: 0.04514506 | J24: 14.1591 | K24: 0.766969 | L24: 0.39 | M24: 0.62134677 | N24: 500
B25: RIC | C25: 4.027802 | D25: 18.180009 | E25: 1200.455 | F25: 177.6594 | G25: 14906.8 | H25: 0.009772088 | I25: 0.01194749 | J25: 31.520989 | K25: 0.2411331 | L25: 0.29 | M25: 0.37566748 | N25: 0
B26: VIP | C26: 112.08788 | D26: 17.588371 | E26: 1028581 | F26: 2694.186 | G26: 16481.2 | H26: 0.07942349 | I26: 0.1788301 | J26: 2.7466552 | K26: 1.060901 | L26: 1.86 | M26: 0.44899643 | N26: 0
B27: PSI | C27: 3.2580813 | D27: 16.147796 | E27: 562292.8 | F27: 64.99801 | G27: 9943.688 | H27: 0.00363038 | I27: 0.006554943 | J27: 103.08008 | K27: 0.8560611 | L27: 1.86 | M27: 0.67379427 | N27: 0
B28: PDC | C28: 1.3640805 | D28: 16.051006 | E28: 8154.545 | F28: 443.9906 | G28: 8499.481 | H28: 0.03591969 | I28: 0.05304918 | J28: 6.9821298 | K28: 0.427401 | L28: 0.78 | M28: 0.36472815 | N28: 0
O29: -0.42103877
B30: TOP CỔ PHIẾU CÓ KQKD Q1.2013 HOÀN THÀNH KẾ HOẠCH NĂM 2013 CAO NHẤT
B32: Mã CK | C32: LN Q1.2013 | D32: LN Q1 YOY | E32: KLGD TB | F32: EPS | G32: BV | H32: ROA | I32: ROE | J32: P/E | K32: % hoàn thành kế hoạch LN 2013 | L32: Beta | M32: PB | N32: Kế hoạch cổ tức 2013
B33: PPC | C33: 944.69873 | D33: 6.1179832 | E33: 1538617 | F33: 4489.108 | G33: 15628.58 | H33: 0.1196533 | I33: 0.349663 | J33: 4.9898554 | K33: 2.8166331 | L33: 1.54 | M33: 1.4332716 | N33: 800
B34: PSI | C34: 3.2580813 | D34: 16.147796 | E34: 562292.8 | F34: 64.99801 | G34: 9943.688 | H34: 0.00363038 | I34: 0.006554943 | J34: 103.08008 | K34: 1.620936 | L34: 1.86 | M34: 0.67379427 | N34: 0
B35: PVT | C35: 52.927982 | D35: 0.28966818 | E35: 1947128 | F35: 461.3597 | G35: 11343.76 | H35: 0.01318427 | I35: 0.04187934 | J35: 11.054282 | K35: 1.3571277 | L35: 1.29 | M35: 0.44958638 | N35: 0
B36: NBP | C36: 11.403574 | D36: 1.909075 | E36: 3900 | F36: 2780.314 | G36: 17393.73 | H36: 0.101117 | I36: 0.1641486 | J36: 5.7547457 | K36: 1.1007311 | L36: 0.76 | M36: 0.9198717 | N36: 500
B37: BSI | C37: 2.4134819 | D37: -0.91380422 | E37: 86275.45 | F37: -49.50783 | G37: 7860.801 | H37: -0.003316378 | I37: -0.006176399 | J37: -76.755535 | K37: 1.0632079 | L37: 0.7 | M37: 0.4834113 | N37: 0
B38: SEC | C38: 32.039612 | D38: 0.18797227 | E38: 2262.727 | F38: 4009.811 | G38: 14498.31 | H38: 0.1092798 | I38: 0.2782732 | J38: 4.1647848 | K38: 1.0272399 | L38: 0.29 | M38: 1.1518584 | N38: 1300
B39: SLS | C39: 11.92405 | D39: #N/A | E39: 45.45454 | F39: 7243.805 | G39: 25153.64 | H39: 0.1856671 | I39: 0.2986062 | J39: 3.7549327 | K39: 0.99367086 | L39: 0.04 | M39: 1.0813544 | N39: 1500
B40: MKV | C40: 0.49804213 | D40: 1.7669007 | E40: 1700 | F40: 223.666 | G40: 9383.384 | H40: 0.01820484 | I40: 0.02826076 | J40: 28.166999 | K40: 0.9765532 | L40: 0.87 | M40: 0.67139957 | N40: 0
B41: VIP | C41: 112.08788 | D41: 17.588371 | E41: 1028581 | F41: 2694.186 | G41: 16481.2 | H41: 0.07942349 | I41: 0.1788301 | J41: 2.7466552 | K41: 0.94580946 | L41: 1.86 | M41: 0.44899643 | N41: 0
B42: ITC | C42: 6.6228576 | D42: 0.89766693 | E42: 571133.6 | F42: 130.6847 | G42: 25717.83 | H42: 0.00329222 | I42: 0.005070875 | J42: 58.155239 | K42: 0.88304768 | L42: 1.16 | M42: 0.29551482 | N42: 0
B44: TOP CỔ PHIẾU CÓ TỶ LỆ SỞ HỮU NĐTNN CAO NHẤT
B46: Mã CK | C46: LN Q1.2013 | D46: LN Q1 YOY | E46: KLGD TB | F46: EPS | G46: BV | H46: ROA | I46: ROE | J46: P/E | K46: P/E Ngành | L46: Beta | M46: KH Cổ tức 2013 | N46: Tỷ lệ sở hữu NĐTNN
B47: BBC | C47: 4.4134059 | D47: 1.507617 | E47: 6331.364 | F47: 1820.606 | G47: 37836.34 | H47: 0.03876427 | I47: 0.05051875 | J47: 12.193742 | K47: 12.77 | L47: 0.82 | M47: 0 | N47: 0.49
B48: JVC | C48: 7.0801754 | D48: 0.76562979 | E48: 165850.5 | F48: 4674.152 | G48: 19890.58 | H48: 0.141224 | I48: 0.2765598 | J48: 3.9793314 | K48: 7.66 | L48: 0.99 | M48: 0 | N48: 0.49
B49: FPT | C49: 474.68097 | D49: 0.39353834 | E49: 286977.3 | F49: 5712.724 | G49: 23841.03 | H49: 0.1085235 | I49: 0.2497581 | J49: 7.2469806 | K49: 6.97 | L49: 1.01 | M49: 2000 | N49: 0.49
B50: GBS | C50: 0 | D50: - | E50: 174759.1 | F50: -514.5312 | G50: 11230.2 | H50: -0.01531005 | I50: -0.04465106 | J50: -3.3039785 | K50: #N/A | L50: 1.89 | M50: 0 | N50: 0.49
B51: TCR | C51: -44.262962 | D51: -1.2851297 | E51: 5101.818 | F51: -522.7973 | G51: 14344.23 | H51: -0.01423169 | I51: -0.03528759 | J51: -6.886034 | K51: 44.37 | L51: 0.27 | M51: 0 | N51: 0.49
B52: TKU | C52: 9.7977373 | D52: 1.7763659 | E52: 609.7727 | F52: 981.6645 | G52: 11073.62 | H52: 0.0388799 | I52: 0.09421764 | J52: 6.3158034 | K52: 44.37 | L52: 1.87 | M52: 0 | N52: 0.49
B53: SSI | C53: 160.06244 | D53: -0.13531178 | E53: 1778575 | F53: 1258.518 | G53: 15169.32 | H53: 0.05350592 | I53: 0.08548395 | J53: 13.825786 | K53: #N/A | L53: 1.2 | M53: 1000 | N53: 0.49
B54: VSC | C54: 45.272669 | D54: -0.17954568 | E54: 43040 | F54: 9193.872 | G54: 32434.18 | H54: 0.2119762 | I54: 0.2946191 | J54: 4.5682602 | K54: 9.97 | L54: 0.67 | M54: 0 | N54: 0.49
B55: DHG | C55: 118.71979 | D55: 0.16164174 | E55: 13053.64 | F55: 7753.031 | G55: 27591.74 | H55: 0.21375 | I55: 0.3046634 | J55: 11.221418 | K55: 7.66 | L55: 0.52 | M55: 2500 | N55: 0.49
B56: PNJ | C56: 65.940053 | D56: -0.29400371 | E56: 33252.27 | F56: 3090.437 | G56: 18151.92 | H56: 0.08104476 | I56: 0.1790245 | J56: 8.2512603 | K56: 5.95 | L56: 0.56 | M56: 2000 | N56: 0.49
A61: BẢN TIN THỊ TRƯỜNG | N61: Trang 3

Sheet TKGD_Page3
R4: % | S4: GTGD
M5: THỐNG KÊ GIAO DỊCH | P5: 304 | Q5: =Nhandinh_Page1!B49 -> Công nghệ Thông tin | R5: =Nhandinh_Page1!D49 -> 0.011281433 | S5: =SUMIF(GDNganh!$AH$37:$AH$5000,Q5,GDNganh!$AG$37:$AG$4999)/10^9 -> 72.377437
P6: 169 | Q6: =Nhandinh_Page1!B50 -> Công nghiệp | R6: =Nhandinh_Page1!D50 -> 0.0024465482 | S6: =SUMIF(GDNganh!$AH$37:$AH$5000,Q6,GDNganh!$AG$37:$AG$4999)/10^9 -> 136.62956
B7: KLGD và VN-Index trong phiên | I7: KLGD và HNX-Index trong phiên | P7: 141 | Q7: Dầu khí | R7: =Nhandinh_Page1!D51 -> -0.00021204411 | S7: =SUMIF(GDNganh!$AH$37:$AH$5000,Q7,GDNganh!$AG$37:$AG$4999)/10^9 -> 51.267175
P8: 239 | Q8: =Nhandinh_Page1!B52 -> Dịch vụ Tiêu dùng | R8: =Nhandinh_Page1!D52 -> 0.0087646077 | S8: =SUMIF(GDNganh!$AH$37:$AH$5000,Q8,GDNganh!$AG$37:$AG$4999)/10^9 -> 24.929428
P9: 230 | Q9: =Nhandinh_Page1!B53 -> Dược phẩm và Y tế | R9: =Nhandinh_Page1!D53 -> 0.0033581195 | S9: =SUMIF(GDNganh!$AH$37:$AH$5000,Q9,GDNganh!$AG$37:$AG$4999)/10^9 -> 7.842146
P10: 200 | Q10: =Nhandinh_Page1!B54 -> Hàng Tiêu dùng | R10: =Nhandinh_Page1!D54 -> 0.00048303623 | S10: =SUMIF(GDNganh!$AH$37:$AH$5000,Q10,GDNganh!$AG$37:$AG$4999)/10^9 -> 146.07956
P11: 324 | Q11: =Nhandinh_Page1!B55 -> Ngân hàng | R11: =Nhandinh_Page1!D55 -> -0.00076564349 | S11: =SUMIF(GDNganh!$AH$37:$AH$5000,Q11,GDNganh!$AG$37:$AG$4999)/10^9 -> 39.843372
P12: 146 | Q12: =Nhandinh_Page1!B56 -> Nguyên vật liệu | R12: =Nhandinh_Page1!D56 -> -0.0024199403 | S12: =SUMIF(GDNganh!$AH$37:$AH$5000,Q12,GDNganh!$AG$37:$AG$4999)/10^9 -> 86.656998
P13: 278 | Q13: =Nhandinh_Page1!B57 -> Tài chính | R13: =Nhandinh_Page1!D57 -> -0.0027151016 | S13: =SUMIF(GDNganh!$AH$37:$AH$5000,Q13,GDNganh!$AG$37:$AG$4999)/10^9 -> 355.54164
P14: 270 | Q14: =Nhandinh_Page1!B58 -> Tiện ích Cộng đồng | R14: =Nhandinh_Page1!D58 -> 0.00051736881 | S14: =SUMIF(GDNganh!$AH$37:$AH$5000,Q14,GDNganh!$AG$37:$AG$4999)/10^9 -> 68.111312
P15: 263 | Q15: =Nhandinh_Page1!B59 -> VN - Index | R15: =Nhandinh_Page1!D59 -> -0.00026674874
P16: HNX | Q16: =Nhandinh_Page1!B60 -> HNX - Index | R16: =Nhandinh_Page1!D60 -> 0
P20: MarketCapIndex | R20: % | S20: GTGD
P21: 1 | Q21: Large Cap Index | R21: =GDNganh!B14/GDNganh!C14-1 -> -0.024305578 | S21: =SUMIF(GDNganh!$C$37:$C$4999,TKGD_Page3!P21,GDNganh!$D$37:$D$4999)/10^9 -> 388.55718
P22: 2 | Q22: Mid Cap Index | R22: =GDNganh!B15/GDNganh!C15-1 -> -0.024621926 | S22: =SUMIF(GDNganh!$C$37:$C$4999,TKGD_Page3!P22,GDNganh!$D$37:$D$4999)/10^9 -> 423.4484
P23: 3 | Q23: Small Cap Index | R23: =GDNganh!B16/GDNganh!C16-1 -> -0.023305434 | S23: =SUMIF(GDNganh!$C$37:$C$4999,TKGD_Page3!P23,GDNganh!$D$37:$D$4999)/10^9 -> 337.53327
B24: Biến động giá phân theo nhóm Ngành | I24: Giá trị giao dịch phân theo nhóm Ngành | P24: 4 | Q24: Micro Cap Index | R24: =GDNganh!B17/GDNganh!C17-1 -> -0.014397491 | S24: =SUMIF(GDNganh!$C$37:$C$4999,TKGD_Page3!P24,GDNganh!$D$37:$D$4999)/10^9 -> 144.81952
R25: Von hóa 1 | S25: Von hóa 2 | T25: Von hóa 3 | U25: Von hóa 4
P26: ID | Q26: updateddate | R26: Large Cap Index | S26: Mid Cap Index | T26: Small Cap Index | U26: Micro Cap Index
P27: 2 | Q27: {=TRANSPOSE(GDNganh!B3:AE3)} -> 41418 | R27: =VLOOKUP(R$25,GDNganh!$A$14:$AE$17,$P27,0) -> 209.0638 | S27: =VLOOKUP(S$25,GDNganh!$A$14:$AE$17,$P27,0) -> 222.41 | T27: =VLOOKUP(T$25,GDNganh!$A$14:$AE$17,$P27,0) -> 206.9984 | U27: =VLOOKUP(U$25,GDNganh!$A$14:$AE$17,$P27,0) -> 199.2017 | V27: =R27/$R$27 -> 1 | W27: =S27/$R$27 -> 1.0638379 | X27: =T27/$R$27 -> 0.99012072 | Y27: =U27/$R$27 -> 0.95282732
P28: 3 | Q28: 41421 | R28: =VLOOKUP(R$25,GDNganh!$A$14:$AE$17,$P28,0) -> 214.2718 | S28: =VLOOKUP(S$25,GDNganh!$A$14:$AE$17,$P28,0) -> 228.0244 | T28: =VLOOKUP(T$25,GDNganh!$A$14:$AE$17,$P28,0) -> 211.9377 | U28: =VLOOKUP(U$25,GDNganh!$A$14:$AE$17,$P28,0) -> 202.1116 | V28: =R28/$R$27 -> 1.0249111 | W28: =S28/$R$27 -> 1.0906929 | X28: =T28/$R$27 -> 1.0137465 | Y28: =U28/$R$27 -> 0.96674604
P29: 4 | Q29: 41422 | R29: =VLOOKUP(R$25,GDNganh!$A$14:$AE$17,$P29,0) -> 215.6577 | S29: =VLOOKUP(S$25,GDNganh!$A$14:$AE$17,$P29,0) -> 230.4892 | T29: =VLOOKUP(T$25,GDNganh!$A$14:$AE$17,$P29,0) -> 215.7443 | U29: =VLOOKUP(U$25,GDNganh!$A$14:$AE$17,$P29,0) -> 203.6512 | V29: =R29/$R$27 -> 1.0315401 | W29: =S29/$R$27 -> 1.1024826 | X29: =T29/$R$27 -> 1.0319544 | Y29: =U29/$R$27 -> 0.9741103
P30: 5 | Q30: 41423 | R30: =VLOOKUP(R$25,GDNganh!$A$14:$AE$17,$P30,0) -> 215.192 | S30: =VLOOKUP(S$25,GDNganh!$A$14:$AE$17,$P30,0) -> 230.1741 | T30: =VLOOKUP(T$25,GDNganh!$A$14:$AE$17,$P30,0) -> 216.2266 | U30: =VLOOKUP(U$25,GDNganh!$A$14:$AE$17,$P30,0) -> 204.7253 | V30: =R30/$R$27 -> 1.0293126 | W30: =S30/$R$27 -> 1.1009754 | X30: =T30/$R$27 -> 1.0342613 | Y30: =U30/$R$27 -> 0.97924796
P31: 6 | Q31: 41424 | R31: =VLOOKUP(R$25,GDNganh!$A$14:$AE$17,$P31,0) -> 217.8498 | S31: =VLOOKUP(S$25,GDNganh!$A$14:$AE$17,$P31,0) -> 232.7283 | T31: =VLOOKUP(T$25,GDNganh!$A$14:$AE$17,$P31,0) -> 219.3232 | U31: =VLOOKUP(U$25,GDNganh!$A$14:$AE$17,$P31,0) -> 206.557 | V31: =R31/$R$27 -> 1.0420254 | W31: =S31/$R$27 -> 1.1131927 | X31: =T31/$R$27 -> 1.0490731 | Y31: =U31/$R$27 -> 0.9880094
P32: 7 | Q32: 41425 | R32: =VLOOKUP(R$25,GDNganh!$A$14:$AE$17,$P32,0) -> 216.1004 | S32: =VLOOKUP(S$25,GDNganh!$A$14:$AE$17,$P32,0) -> 231.8116 | T32: =VLOOKUP(T$25,GDNganh!$A$14:$AE$17,$P32,0) -> 220.1896 | U32: =VLOOKUP(U$25,GDNganh!$A$14:$AE$17,$P32,0) -> 206.6778 | V32: =R32/$R$27 -> 1.0336577 | W32: =S32/$R$27 -> 1.1088079 | X32: =T32/$R$27 -> 1.0532172 | Y32: =U32/$R$27 -> 0.98858722
P33: 8 | Q33: 41428 | R33: =VLOOKUP(R$25,GDNganh!$A$14:$AE$17,$P33,0) -> 215.519 | S33: =VLOOKUP(S$25,GDNganh!$A$14:$AE$17,$P33,0) -> 230.8133 | T33: =VLOOKUP(T$25,GDNganh!$A$14:$AE$17,$P33,0) -> 220.8178 | U33: =VLOOKUP(U$25,GDNganh!$A$14:$AE$17,$P33,0) -> 206.1805 | V33: =R33/$R$27 -> 1.0308767 | W33: =S33/$R$27 -> 1.1040328 | X33: =T33/$R$27 -> 1.0562221 | Y33: =U33/$R$27 -> 0.98620852
P34: 9 | Q34: 41429 | R34: =VLOOKUP(R$25,GDNganh!$A$14:$AE$17,$P34,0) -> 212.8628 | S34: =VLOOKUP(S$25,GDNganh!$A$14:$AE$17,$P34,0) -> 225.7347 | T34: =VLOOKUP(T$25,GDNganh!$A$14:$AE$17,$P34,0) -> 217.2578 | U34: =VLOOKUP(U$25,GDNganh!$A$14:$AE$17,$P34,0) -> 205.363 | V34: =R34/$R$27 -> 1.0181715 | W34: =S34/$R$27 -> 1.0797407 | X34: =T34/$R$27 -> 1.0391938 | Y34: =U34/$R$27 -> 0.98229823
P35: 10 | Q35: 41430 | R35: =VLOOKUP(R$25,GDNganh!$A$14:$AE$17,$P35,0) -> 214.8053 | S35: =VLOOKUP(S$25,GDNganh!$A$14:$AE$17,$P35,0) -> 226.8667 | T35: =VLOOKUP(T$25,GDNganh!$A$14:$AE$17,$P35,0) -> 219.5242 | U35: =VLOOKUP(U$25,GDNganh!$A$14:$AE$17,$P35,0) -> 206.2619 | V35: =R35/$R$27 -> 1.0274629 | W35: =S35/$R$27 -> 1.0851553 | X35: =T35/$R$27 -> 1.0500345 | Y35: =U35/$R$27 -> 0.98659787
P36: 11 | Q36: 41431 | R36: =VLOOKUP(R$25,GDNganh!$A$14:$AE$17,$P36,0) -> 217.2391 | S36: =VLOOKUP(S$25,GDNganh!$A$14:$AE$17,$P36,0) -> 230.4308 | T36: =VLOOKUP(T$25,GDNganh!$A$14:$AE$17,$P36,0) -> 222.4308 | U36: =VLOOKUP(U$25,GDNganh!$A$14:$AE$17,$P36,0) -> 207.1055 | V36: =R36/$R$27 -> 1.0391043 | W36: =S36/$R$27 -> 1.1022033 | X36: =T36/$R$27 -> 1.0639374 | Y36: =U36/$R$27 -> 0.990633
P37: 12 | Q37: 41432 | R37: =VLOOKUP(R$25,GDNganh!$A$14:$AE$17,$P37,0) -> 220.5055 | S37: =VLOOKUP(S$25,GDNganh!$A$14:$AE$17,$P37,0) -> 232.1191 | T37: =VLOOKUP(T$25,GDNganh!$A$14:$AE$17,$P37,0) -> 222.3508 | U37: =VLOOKUP(U$25,GDNganh!$A$14:$AE$17,$P37,0) -> 207.7715 | V37: =R37/$R$27 -> 1.0547283 | W37: =S37/$R$27 -> 1.1102788 | X37: =T37/$R$27 -> 1.0635548 | Y37: =U37/$R$27 -> 0.99381863
P38: 13 | Q38: 41435 | R38: =VLOOKUP(R$25,GDNganh!$A$14:$AE$17,$P38,0) -> 219.3303 | S38: =VLOOKUP(S$25,GDNganh!$A$14:$AE$17,$P38,0) -> 230.602 | T38: =VLOOKUP(T$25,GDNganh!$A$14:$AE$17,$P38,0) -> 221.2907 | U38: =VLOOKUP(U$25,GDNganh!$A$14:$AE$17,$P38,0) -> 207.8588 | V38: =R38/$R$27 -> 1.049107 | W38: =S38/$R$27 -> 1.1030221 | X38: =T38/$R$27 -> 1.0584841 | Y38: =U38/$R$27 -> 0.99423621
P39: 14 | Q39: 41436 | R39: =VLOOKUP(R$25,GDNganh!$A$14:$AE$17,$P39,0) -> 218.2354 | S39: =VLOOKUP(S$25,GDNganh!$A$14:$AE$17,$P39,0) -> 229.4944 | T39: =VLOOKUP(T$25,GDNganh!$A$14:$AE$17,$P39,0) -> 220.8475 | U39: =VLOOKUP(U$25,GDNganh!$A$14:$AE$17,$P39,0) -> 208.121 | V39: =R39/$R$27 -> 1.0438699 | W39: =S39/$R$27 -> 1.0977242 | X39: =T39/$R$27 -> 1.0563641 | Y39: =U39/$R$27 -> 0.99549037
P40: 15 | Q40: 41437 | R40: =VLOOKUP(R$25,GDNganh!$A$14:$AE$17,$P40,0) -> 215.9557 | S40: =VLOOKUP(S$25,GDNganh!$A$14:$AE$17,$P40,0) -> 230.0435 | T40: =VLOOKUP(T$25,GDNganh!$A$14:$AE$17,$P40,0) -> 223.0611 | U40: =VLOOKUP(U$25,GDNganh!$A$14:$AE$17,$P40,0) -> 208.6475 | V40: =R40/$R$27 -> 1.0329655 | W40: =S40/$R$27 -> 1.1003507 | X40: =T40/$R$27 -> 1.0669523 | Y40: =U40/$R$27 -> 0.99800874
B41: Chuỗi Index theo nhóm vốn hóa | I41: Giá trị giao dịch theo nhóm vốn hóa | P41: 16 | Q41: 41438 | R41: =VLOOKUP(R$25,GDNganh!$A$14:$AE$17,$P41,0) -> 214.9244 | S41: =VLOOKUP(S$25,GDNganh!$A$14:$AE$17,$P41,0) -> 229.3149 | T41: =VLOOKUP(T$25,GDNganh!$A$14:$AE$17,$P41,0) -> 224.4134 | U41: =VLOOKUP(U$25,GDNganh!$A$14:$AE$17,$P41,0) -> 209.3725 | V41: =R41/$R$27 -> 1.0280326 | W41: =S41/$R$27 -> 1.0968656 | X41: =T41/$R$27 -> 1.0734206 | Y41: =U41/$R$27 -> 1.0014766
P42: 17 | Q42: 41439 | R42: =VLOOKUP(R$25,GDNganh!$A$14:$AE$17,$P42,0) -> 212.4047 | S42: =VLOOKUP(S$25,GDNganh!$A$14:$AE$17,$P42,0) -> 228.6736 | T42: =VLOOKUP(T$25,GDNganh!$A$14:$AE$17,$P42,0) -> 225.0114 | U42: =VLOOKUP(U$25,GDNganh!$A$14:$AE$17,$P42,0) -> 210.0367 | V42: =R42/$R$27 -> 1.0159803 | W42: =S42/$R$27 -> 1.0937982 | X42: =T42/$R$27 -> 1.076281 | Y42: =U42/$R$27 -> 1.0046536
P43: 18 | Q43: 41442 | R43: =VLOOKUP(R$25,GDNganh!$A$14:$AE$17,$P43,0) -> 208.5261 | S43: =VLOOKUP(S$25,GDNganh!$A$14:$AE$17,$P43,0) -> 222.3733 | T43: =VLOOKUP(T$25,GDNganh!$A$14:$AE$17,$P43,0) -> 218.6179 | U43: =VLOOKUP(U$25,GDNganh!$A$14:$AE$17,$P43,0) -> 207.3172 | V43: =R43/$R$27 -> 0.99742806 | W43: =S43/$R$27 -> 1.0636624 | X43: =T43/$R$27 -> 1.0456994 | Y43: =U43/$R$27 -> 0.99164561
P44: 19 | Q44: 41443 | R44: =VLOOKUP(R$25,GDNganh!$A$14:$AE$17,$P44,0) -> 208.7961 | S44: =VLOOKUP(S$25,GDNganh!$A$14:$AE$17,$P44,0) -> 222.8811 | T44: =VLOOKUP(T$25,GDNganh!$A$14:$AE$17,$P44,0) -> 217.153 | U44: =VLOOKUP(U$25,GDNganh!$A$14:$AE$17,$P44,0) -> 207.9716 | V44: =R44/$R$27 -> 0.99871953 | W44: =S44/$R$27 -> 1.0660913 | X44: =T44/$R$27 -> 1.0386925 | Y44: =U44/$R$27 -> 0.99477576
P45: 20 | Q45: 41444 | R45: =VLOOKUP(R$25,GDNganh!$A$14:$AE$17,$P45,0) -> 210.8258 | S45: =VLOOKUP(S$25,GDNganh!$A$14:$AE$17,$P45,0) -> 222.9078 | T45: =VLOOKUP(T$25,GDNganh!$A$14:$AE$17,$P45,0) -> 218.7872 | U45: =VLOOKUP(U$25,GDNganh!$A$14:$AE$17,$P45,0) -> 208.9139 | V45: =R45/$R$27 -> 1.008428 | W45: =S45/$R$27 -> 1.066219 | X45: =T45/$R$27 -> 1.0465092 | Y45: =U45/$R$27 -> 0.99928299
P46: 21 | Q46: 41445 | R46: =VLOOKUP(R$25,GDNganh!$A$14:$AE$17,$P46,0) -> 209.2478 | S46: =VLOOKUP(S$25,GDNganh!$A$14:$AE$17,$P46,0) -> 220.414 | T46: =VLOOKUP(T$25,GDNganh!$A$14:$AE$17,$P46,0) -> 216.1498 | U46: =VLOOKUP(U$25,GDNganh!$A$14:$AE$17,$P46,0) -> 208.6988 | V46: =R46/$R$27 -> 1.0008801 | W46: =S46/$R$27 -> 1.0542906 | X46: =T46/$R$27 -> 1.033894 | Y46: =U46/$R$27 -> 0.99825412
...

Sheet TopGD_Page4
L5: THỐNG KÊ GIAO DICH
B8: HOSE | H8: HNX
B10: Top 5 CP NĐT nước ngoài mua và bán nhiều nhất
B12: TT | C12: Mã CK | D12: KL mua ròng | E12: Mã CK | F12: KL bán ròng | H12: TT | I12: Mã CK | J12: KL mua ròng | K12: Mã CK | L12: KL bán ròng
B13: 1 | C13: =TopGD!A41 -> FPT | D13: =TopGD!C41 -> 662940 | E13: =TopGD!A30 -> VIC | F13: =-TopGD!C30 -> 539420 | H13: 1 | I13: =TopGD!A124 -> PVS | J13: =TopGD!C124 -> 107500 | K13: =TopGD!A113 -> PSI | L13: =-TopGD!C113 -> 40000
B14: 2 | C14: =TopGD!A42 -> PET | D14: =TopGD!C42 -> 151400 | E14: =TopGD!A31 -> HAG | F14: =-TopGD!C31 -> 240200 | H14: 2 | I14: =TopGD!A125 -> PVC | J14: =TopGD!C125 -> 34700 | K14: =TopGD!A114 -> DHL | L14: =-TopGD!C114 -> 24100
B15: 3 | C15: =TopGD!A43 -> MBB | D15: =TopGD!C43 -> 47660 | E15: =TopGD!A32 -> DIG | F15: =-TopGD!C32 -> 227540 | H15: 3 | I15: =TopGD!A126 -> PGS | J15: =TopGD!C126 -> 33100 | K15: =TopGD!A115 -> TIG | L15: =-TopGD!C115 -> 11700
B16: 4 | C16: =TopGD!A44 -> VIP | D16: =TopGD!C44 -> 26340 | E16: =TopGD!A33 -> PPC | F16: =-TopGD!C33 -> 214860 | H16: 4 | I16: =TopGD!A127 -> BVS | J16: =TopGD!C127 -> 30000 | K16: =TopGD!A116 -> VCG | L16: =-TopGD!C116 -> 8000
B17: 5 | C17: =TopGD!A45 -> VNS | D17: =TopGD!C45 -> 16870 | E17: =TopGD!A34 -> ITA | F17: =-TopGD!C34 -> 193110 | H17: 5 | I17: =TopGD!A128 -> KHB | J17: =TopGD!C128 -> 30000 | K17: =TopGD!A117 -> NBC | L17: =-TopGD!C117 -> 1000
B20: Top 5 CP có KLGD lớn nhất trong ngày
B22: Mã | C22: Giá TC (*) | D22: Giá đóng | E22: % | F22: KLGD | H22: Mã | I22: Giá TC (*) | J22: Giá đóng | K22: % | L22: KLGD
B23: =TopGD!A55 -> HQC | C23: =TopGD!C55/100 -> 6.6 | D23: =TopGD!D55/100 -> 6.8 | E23: =D23/C23-1 -> 0.03030303 | F23: =TopGD!E55*10 -> 2206180 | H23: =TopGD!A138 -> FLC | I23: =TopGD!C138/1000 -> 6.6 | J23: =TopGD!D138/1000 -> 6.4 | K23: =J23/I23-1 -> -0.03030303 | L23: =TopGD!E138 -> 5963900
B24: =TopGD!A56 -> VIC | C24: =TopGD!C56/100 -> 63.5 | D24: =TopGD!D56/100 -> 63 | E24: =D24/C24-1 -> -0.0078740157 | F24: =TopGD!E56*10 -> 2022700 | H24: =TopGD!A139 -> PVS | I24: =TopGD!C139/1000 -> 15.9 | J24: =TopGD!D139/1000 -> 15.9 | K24: =J24/I24-1 -> 0 | L24: =TopGD!E139 -> 1680838
B25: =TopGD!A57 -> VHG | C25: =TopGD!C57/100 -> 5.1 | D25: =TopGD!D57/100 -> 5.4 | E25: =D25/C25-1 -> 0.058823529 | F25: =TopGD!E57*10 -> 1930574 | H25: =TopGD!A140 -> PVX | I25: =TopGD!C140/1000 -> 5 | J25: =TopGD!D140/1000 -> 5 | K25: =J25/I25-1 -> 0 | L25: =TopGD!E140 -> 1478900
B26: =TopGD!A58 -> REE | C26: =TopGD!C58/100 -> 26 | D26: =TopGD!D58/100 -> 26.4 | E26: =D26/C26-1 -> 0.015384615 | F26: =TopGD!E58*10 -> 1635640 | H26: =TopGD!A141 -> SCR | I26: =TopGD!C141/1000 -> 6.8 | J26: =TopGD!D141/1000 -> 6.7 | K26: =J26/I26-1 -> -0.014705882 | L26: =TopGD!E141 -> 1470200
B27: =TopGD!A59 -> HAG | C27: =TopGD!C59/100 -> 20.9 | D27: =TopGD!D59/100 -> 20.8 | E27: =D27/C27-1 -> -0.004784689 | F27: =TopGD!E59*10 -> 1598770 | H27: =TopGD!A142 -> SHS | I27: =TopGD!C142/1000 -> 6.4 | J27: =TopGD!D142/1000 -> 6.4 | K27: =J27/I27-1 -> 0 | L27: =TopGD!E142 -> 796400
B30: Top 5 CP tăng giá nhiều nhất trong ngày
B32: Mã | C32: Giá TC (*) | D32: Giá đóng | E32: +/- | F32: % | H32: Mã | I32: Giá TC (*) | J32: Giá đóng | K32: +/- | L32: %
B33: =TopGD!A69 -> SVI | C33: =TopGD!C69/100 -> 37.3 | D33: =TopGD!D69/100 -> 39.9 | E33: =D33-C33 -> 2.6 | F33: =D33/C33-1 -> 0.069705094 | H33: =TopGD!A152 -> HDA | I33: =TopGD!C152/1000 -> 7 | J33: =TopGD!D152/1000 -> 7.7 | K33: =J33-I33 -> 0.7 | L33: =J33/I33-1 -> 0.1
B34: =TopGD!A70 -> C47 | C34: =TopGD!C70/100 -> 17.4 | D34: =TopGD!D70/100 -> 18.6 | E34: =D34-C34 -> 1.2 | F34: =D34/C34-1 -> 0.068965517 | H34: =TopGD!A153 -> C92 | I34: =TopGD!C153/1000 -> 9.1 | J34: =TopGD!D153/1000 -> 10 | K34: =J34-I34 -> 0.9 | L34: =J34/I34-1 -> 0.098901099
B35: =TopGD!A71 -> COM | C35: =TopGD!C71/100 -> 24.1 | D35: =TopGD!D71/100 -> 25.7 | E35: =D35-C35 -> 1.6 | F35: =D35/C35-1 -> 0.066390041 | H35: =TopGD!A154 -> PHC | I35: =TopGD!C154/1000 -> 3.1 | J35: =TopGD!D154/1000 -> 3.4 | K35: =J35-I35 -> 0.3 | L35: =J35/I35-1 -> 0.096774194
B36: =TopGD!A72 -> SVT | C36: =TopGD!C72/100 -> 6.7 | D36: =TopGD!D72/100 -> 7.1 | E36: =D36-C36 -> 0.4 | F36: =D36/C36-1 -> 0.059701493 | H36: =TopGD!A155 -> STL | I36: =TopGD!C155/1000 -> 3.1 | J36: =TopGD!D155/1000 -> 3.4 | K36: =J36-I36 -> 0.3 | L36: =J36/I36-1 -> 0.096774194
B37: =TopGD!A73 -> PTB | C37: =TopGD!C73/100 -> 27 | D37: =TopGD!D73/100 -> 28.6 | E37: =D37-C37 -> 1.6 | F37: =D37/C37-1 -> 0.059259259 | H37: =TopGD!A156 -> VTS | I37: =TopGD!C156/1000 -> 9.3 | J37: =TopGD!D156/1000 -> 10.2 | K37: =J37-I37 -> 0.9 | L37: =J37/I37-1 -> 0.096774194
B40: Top 5 CP giảm giá nhiều nhất trong ngày
B42: Mã | C42: Giá TC (*) | D42: Giá đóng | E42: +/- | F42: % | H42: Mã | I42: Giá TC (*) | J42: Giá đóng | K42: +/- | L42: %
B43: =TopGD!A83 -> CYC | C43: =TopGD!C83/100 -> 2.9 | D43: =TopGD!D83/100 -> 2.7 | E43: =D43-C43 -> -0.2 | F43: =D43/C43-1 -> -0.068965517 | H43: =TopGD!A166 -> PSG | I43: =TopGD!C166/1000 -> 0.9 | J43: =TopGD!D166/1000 -> 0.8 | K43: =J43-I43 -> -0.1 | L43: =J43/I43-1 -> -0.11111111
B44: =TopGD!A84 -> RDP | C44: =TopGD!C84/100 -> 16 | D44: =TopGD!D84/100 -> 14.9 | E44: =D44-C44 -> -1.1 | F44: =D44/C44-1 -> -0.06875 | H44: =TopGD!A167 -> TBX | I44: =TopGD!C167/1000 -> 14 | J44: =TopGD!D167/1000 -> 12.6 | K44: =J44-I44 -> -1.4 | L44: =J44/I44-1 -> -0.1
B45: =TopGD!A85 -> LGC | C45: =TopGD!C85/100 -> 16.1 | D45: =TopGD!D85/100 -> 15 | E45: =D45-C45 -> -1.1 | F45: =D45/C45-1 -> -0.068322981 | H45: =TopGD!A168 -> L18 | I45: =TopGD!C168/1000 -> 9.4 | J45: =TopGD!D168/1000 -> 8.5 | K45: =J45-I45 -> -0.9 | L45: =J45/I45-1 -> -0.095744681
B46: =TopGD!A86 -> NKG | C46: =TopGD!C86/100 -> 12.6 | D46: =TopGD!D86/100 -> 11.8 | E46: =D46-C46 -> -0.8 | F46: =D46/C46-1 -> -0.063492063 | H46: =TopGD!A169 -> QCC | I46: =TopGD!C169/1000 -> 2.1 | J46: =TopGD!D169/1000 -> 1.9 | K46: =J46-I46 -> -0.2 | L46: =J46/I46-1 -> -0.095238095
B47: =TopGD!A87 -> ELC | C47: =TopGD!C87/100 -> 22.2 | D47: =TopGD!D87/100 -> 20.8 | E47: =D47-C47 -> -1.4 | F47: =D47/C47-1 -> -0.063063063 | H47: =TopGD!A170 -> VE8 | I47: =TopGD!C170/1000 -> 2.1 | J47: =TopGD!D170/1000 -> 1.9 | K47: =J47-I47 -> -0.2 | L47: =J47/I47-1 -> -0.095238095
B49: (*) Giá điều chỉnh
B53: BẢN TIN THỊ TRƯỜNG | L53: Trang 5

Sheet TopRatio_Page5
N5: CHỈ SỐ TÀI CHÍNH
B7: Top KLGD lớn nhất HOSE | I7: Top KLGD lớn nhất HNX
B8: Mã | C8: KLGD | D8: ROE | E8: EPS | F8: P/E | G8: P/B | I8: Mã | J8: KLGD | K8: ROE | L8: EPS | M8: P/E | N8: P/B
B9: =TopGD_Page4!B23 -> HQC | C9: =TopGD_Page4!F23 -> 2206180 | D9: =IF(TYPE(VLOOKUP(B9,Chisotaichinh!$B:$IX,4,0))=16,"N/A",VLOOKUP(B9,Chisotaichinh!$B:$IX,4,0)) -> 0.030897257 | E9: =IF(TYPE(VLOOKUP(B9,Chisotaichinh!$B:$IX,6,0))=16,"N/A",VLOOKUP(B9,Chisotaichinh!$B:$IX,6,0)) -> 446.76733 | F9: =IF(TYPE(VLOOKUP(B9,Chisotaichinh!$B:$IX,7,0))=16,"N/A",IF(VLOOKUP(B9,Chisotaichinh!$B:$IX,7,0)<0,0,VLOOKUP(B9,Chisotaichinh!$B:$IX,7,0))) -> 15.22045 | G9: =IF(TYPE(VLOOKUP(B9,Chisotaichinh!$B:$IX,8,0))=16,"N/A",VLOOKUP(B9,Chisotaichinh!$B:$IX,8,0)) -> 0.5388365 | I9: =TopGD_Page4!H23 -> FLC | J9: =TopGD_Page4!L23 -> 5963900 | K9: =IF(TYPE(VLOOKUP(I9,Chisotaichinh!$B:$IX,4,0))=16,"N/A",VLOOKUP(I9,Chisotaichinh!$B:$IX,4,0)) -> 0.031830212 | L9: =IF(TYPE(VLOOKUP(I9,Chisotaichinh!$B:$IX,6,0))=16,"N/A",VLOOKUP(I9,Chisotaichinh!$B:$IX,6,0)) -> 564.88174 | M9: =IF(TYPE(VLOOKUP(I9,Chisotaichinh!$B:$IX,7,0))=16,"N/A",IF(VLOOKUP(I9,Chisotaichinh!$B:$IX,7,0)<0,0,VLOOKUP(I9,Chisotaichinh!$B:$IX,7,0))) -> 11.329805 | N9: =IF(TYPE(VLOOKUP(I9,Chisotaichinh!$B:$IX,8,0))=16,"N/A",VLOOKUP(I9,Chisotaichinh!$B:$IX,8,0)) -> 0.4114872
B10: =TopGD_Page4!B24 -> VIC | C10: =TopGD_Page4!F24 -> 2022700 | D10: =IF(TYPE(VLOOKUP(B10,Chisotaichinh!$B:$IX,4,0))=16,"N/A",VLOOKUP(B10,Chisotaichinh!$B:$IX,4,0)) -> 0.1097384 | E10: =IF(TYPE(VLOOKUP(B10,Chisotaichinh!$B:$IX,6,0))=16,"N/A",VLOOKUP(B10,Chisotaichinh!$B:$IX,6,0)) -> 1210.194 | F10: =IF(TYPE(VLOOKUP(B10,Chisotaichinh!$B:$IX,7,0))=16,"N/A",IF(VLOOKUP(B10,Chisotaichinh!$B:$IX,7,0)<0,0,VLOOKUP(B10,Chisotaichinh!$B:$IX,7,0))) -> 52.05777 | G10: =IF(TYPE(VLOOKUP(B10,Chisotaichinh!$B:$IX,8,0))=16,"N/A",VLOOKUP(B10,Chisotaichinh!$B:$IX,8,0)) -> 5.3913536 | I10: =TopGD_Page4!H24 -> PVS | J10: =TopGD_Page4!L24 -> 1680838 | K10: =IF(TYPE(VLOOKUP(I10,Chisotaichinh!$B:$IX,4,0))=16,"N/A",VLOOKUP(I10,Chisotaichinh!$B:$IX,4,0)) -> 0.18581612 | L10: =IF(TYPE(VLOOKUP(I10,Chisotaichinh!$B:$IX,6,0))=16,"N/A",VLOOKUP(I10,Chisotaichinh!$B:$IX,6,0)) -> 3133.306 | M10: =IF(TYPE(VLOOKUP(I10,Chisotaichinh!$B:$IX,7,0))=16,"N/A",IF(VLOOKUP(I10,Chisotaichinh!$B:$IX,7,0)<0,0,VLOOKUP(I10,Chisotaichinh!$B:$IX,7,0))) -> 5.0745123 | N10: =IF(TYPE(VLOOKUP(I10,Chisotaichinh!$B:$IX,8,0))=16,"N/A",VLOOKUP(I10,Chisotaichinh!$B:$IX,8,0)) -> 0.97338948
B11: =TopGD_Page4!B25 -> VHG | C11: =TopGD_Page4!F25 -> 1930574 | D11: =IF(TYPE(VLOOKUP(B11,Chisotaichinh!$B:$IX,4,0))=16,"N/A",VLOOKUP(B11,Chisotaichinh!$B:$IX,4,0)) -> -0.10891087 | E11: =IF(TYPE(VLOOKUP(B11,Chisotaichinh!$B:$IX,6,0))=16,"N/A",VLOOKUP(B11,Chisotaichinh!$B:$IX,6,0)) -> -1589.9205 | F11: =IF(TYPE(VLOOKUP(B11,Chisotaichinh!$B:$IX,7,0))=16,"N/A",IF(VLOOKUP(B11,Chisotaichinh!$B:$IX,7,0)<0,0,VLOOKUP(B11,Chisotaichinh!$B:$IX,7,0))) -> 0 | G11: =IF(TYPE(VLOOKUP(B11,Chisotaichinh!$B:$IX,8,0))=16,"N/A",VLOOKUP(B11,Chisotaichinh!$B:$IX,8,0)) -> 0.38662655 | I11: =TopGD_Page4!H25 -> PVX | J11: =TopGD_Page4!L25 -> 1478900 | K11: =IF(TYPE(VLOOKUP(I11,Chisotaichinh!$B:$IX,4,0))=16,"N/A",VLOOKUP(I11,Chisotaichinh!$B:$IX,4,0)) -> -0.3446796 | L11: =IF(TYPE(VLOOKUP(I11,Chisotaichinh!$B:$IX,6,0))=16,"N/A",VLOOKUP(I11,Chisotaichinh!$B:$IX,6,0)) -> -2815.8068 | M11: =IF(TYPE(VLOOKUP(I11,Chisotaichinh!$B:$IX,7,0))=16,"N/A",IF(VLOOKUP(I11,Chisotaichinh!$B:$IX,7,0)<0,0,VLOOKUP(I11,Chisotaichinh!$B:$IX,7,0))) -> 0 | N11: =IF(TYPE(VLOOKUP(I11,Chisotaichinh!$B:$IX,8,0))=16,"N/A",VLOOKUP(I11,Chisotaichinh!$B:$IX,8,0)) -> 0.84044687
B12: =TopGD_Page4!B26 -> REE | C12: =TopGD_Page4!F26 -> 1635640 | D12: =IF(TYPE(VLOOKUP(B12,Chisotaichinh!$B:$IX,4,0))=16,"N/A",VLOOKUP(B12,Chisotaichinh!$B:$IX,4,0)) -> 0.12873296 | E12: =IF(TYPE(VLOOKUP(B12,Chisotaichinh!$B:$IX,6,0))=16,"N/A",VLOOKUP(B12,Chisotaichinh!$B:$IX,6,0)) -> 2126.9494 | F12: =IF(TYPE(VLOOKUP(B12,Chisotaichinh!$B:$IX,7,0))=16,"N/A",IF(VLOOKUP(B12,Chisotaichinh!$B:$IX,7,0)<0,0,VLOOKUP(B12,Chisotaichinh!$B:$IX,7,0))) -> 12.412143 | G12: =IF(TYPE(VLOOKUP(B12,Chisotaichinh!$B:$IX,8,0))=16,"N/A",VLOOKUP(B12,Chisotaichinh!$B:$IX,8,0)) -> 1.6506659 | I12: =TopGD_Page4!H26 -> SCR | J12: =TopGD_Page4!L26 -> 1470200 | K12: =IF(TYPE(VLOOKUP(I12,Chisotaichinh!$B:$IX,4,0))=16,"N/A",VLOOKUP(I12,Chisotaichinh!$B:$IX,4,0)) -> -0.0026929081 | L12: =IF(TYPE(VLOOKUP(I12,Chisotaichinh!$B:$IX,6,0))=16,"N/A",VLOOKUP(I12,Chisotaichinh!$B:$IX,6,0)) -> -40.509784 | M12: =IF(TYPE(VLOOKUP(I12,Chisotaichinh!$B:$IX,7,0))=16,"N/A",IF(VLOOKUP(I12,Chisotaichinh!$B:$IX,7,0)<0,0,VLOOKUP(I12,Chisotaichinh!$B:$IX,7,0))) -> 0 | N12: =IF(TYPE(VLOOKUP(I12,Chisotaichinh!$B:$IX,8,0))=16,"N/A",VLOOKUP(I12,Chisotaichinh!$B:$IX,8,0)) -> 0.42441727
B13: =TopGD_Page4!B27 -> HAG | C13: =TopGD_Page4!F27 -> 1598770 | D13: =IF(TYPE(VLOOKUP(B13,Chisotaichinh!$B:$IX,4,0))=16,"N/A",VLOOKUP(B13,Chisotaichinh!$B:$IX,4,0)) -> 0.035797512 | E13: =IF(TYPE(VLOOKUP(B13,Chisotaichinh!$B:$IX,6,0))=16,"N/A",VLOOKUP(B13,Chisotaichinh!$B:$IX,6,0)) -> 614.81485 | F13: =IF(TYPE(VLOOKUP(B13,Chisotaichinh!$B:$IX,7,0))=16,"N/A",IF(VLOOKUP(B13,Chisotaichinh!$B:$IX,7,0)<0,0,VLOOKUP(B13,Chisotaichinh!$B:$IX,7,0))) -> 33.831324 | G13: =IF(TYPE(VLOOKUP(B13,Chisotaichinh!$B:$IX,8,0))=16,"N/A",VLOOKUP(B13,Chisotaichinh!$B:$IX,8,0)) -> 1.1219565 | I13: =TopGD_Page4!H27 -> SHS | J13: =TopGD_Page4!L27 -> 796400 | K13: =IF(TYPE(VLOOKUP(I13,Chisotaichinh!$B:$IX,4,0))=16,"N/A",VLOOKUP(I13,Chisotaichinh!$B:$IX,4,0)) -> -0.0013219098 | L13: =IF(TYPE(VLOOKUP(I13,Chisotaichinh!$B:$IX,6,0))=16,"N/A",VLOOKUP(I13,Chisotaichinh!$B:$IX,6,0)) -> -10.083593 | M13: =IF(TYPE(VLOOKUP(I13,Chisotaichinh!$B:$IX,7,0))=16,"N/A",IF(VLOOKUP(I13,Chisotaichinh!$B:$IX,7,0)<0,0,VLOOKUP(I13,Chisotaichinh!$B:$IX,7,0))) -> 0 | N13: =IF(TYPE(VLOOKUP(I13,Chisotaichinh!$B:$IX,8,0))=16,"N/A",VLOOKUP(I13,Chisotaichinh!$B:$IX,8,0)) -> 0.81759469
B16: Top Đột biến giá HOSE | I16: Top Đột biến giá HNX
B17: Mã | C17: +/-% | D17: ROE | E17: EPS | F17: P/E | G17: P/B | I17: Mã | J17: +/-% | K17: ROE | L17: EPS | M17: P/E | N17: P/B
B18: =TopGD_Page4!B33 -> SVI | C18: =TopGD_Page4!F33 -> 0.069705094 | D18: =IF(TYPE(VLOOKUP(B18,Chisotaichinh!$B:$IX,4,0))=16,"N/A",VLOOKUP(B18,Chisotaichinh!$B:$IX,4,0)) -> 0.30930149 | E18: =IF(TYPE(VLOOKUP(B18,Chisotaichinh!$B:$IX,6,0))=16,"N/A",VLOOKUP(B18,Chisotaichinh!$B:$IX,6,0)) -> 6855.9908 | F18: =IF(TYPE(VLOOKUP(B18,Chisotaichinh!$B:$IX,7,0))=16,"N/A",IF(VLOOKUP(B18,Chisotaichinh!$B:$IX,7,0)<0,0,VLOOKUP(B18,Chisotaichinh!$B:$IX,7,0))) -> 5.8197277 | G18: =IF(TYPE(VLOOKUP(B18,Chisotaichinh!$B:$IX,8,0))=16,"N/A",VLOOKUP(B18,Chisotaichinh!$B:$IX,8,0)) -> 1.7141907 | I18: =TopGD_Page4!H33 -> HDA | J18: =TopGD_Page4!L33 -> 0.1 | K18: =IF(TYPE(VLOOKUP(I18,Chisotaichinh!$B:$IX,4,0))=16,"N/A",VLOOKUP(I18,Chisotaichinh!$B:$IX,4,0)) -> 0.22195676 | L18: =IF(TYPE(VLOOKUP(I18,Chisotaichinh!$B:$IX,6,0))=16,"N/A",VLOOKUP(I18,Chisotaichinh!$B:$IX,6,0)) -> 2866.3635 | M18: =IF(TYPE(VLOOKUP(I18,Chisotaichinh!$B:$IX,7,0))=16,"N/A",IF(VLOOKUP(I18,Chisotaichinh!$B:$IX,7,0)<0,0,VLOOKUP(I18,Chisotaichinh!$B:$IX,7,0))) -> 2.6863306 | N18: =IF(TYPE(VLOOKUP(I18,Chisotaichinh!$B:$IX,8,0))=16,"N/A",VLOOKUP(I18,Chisotaichinh!$B:$IX,8,0)) -> 0.58549755
B19: =TopGD_Page4!B34 -> C47 | C19: =TopGD_Page4!F34 -> 0.068965517 | D19: =IF(TYPE(VLOOKUP(B19,Chisotaichinh!$B:$IX,4,0))=16,"N/A",VLOOKUP(B19,Chisotaichinh!$B:$IX,4,0)) -> 0.14106083 | E19: =IF(TYPE(VLOOKUP(B19,Chisotaichinh!$B:$IX,6,0))=16,"N/A",VLOOKUP(B19,Chisotaichinh!$B:$IX,6,0)) -> 2647.9213 | F19: =IF(TYPE(VLOOKUP(B19,Chisotaichinh!$B:$IX,7,0))=16,"N/A",IF(VLOOKUP(B19,Chisotaichinh!$B:$IX,7,0)<0,0,VLOOKUP(B19,Chisotaichinh!$B:$IX,7,0))) -> 7.024378 | G19: =IF(TYPE(VLOOKUP(B19,Chisotaichinh!$B:$IX,8,0))=16,"N/A",VLOOKUP(B19,Chisotaichinh!$B:$IX,8,0)) -> 1.0225489 | I19: =TopGD_Page4!H34 -> C92 | J19: =TopGD_Page4!L34 -> 0.098901099 | K19: =IF(TYPE(VLOOKUP(I19,Chisotaichinh!$B:$IX,4,0))=16,"N/A",VLOOKUP(I19,Chisotaichinh!$B:$IX,4,0)) -> 0.14652109 | L19: =IF(TYPE(VLOOKUP(I19,Chisotaichinh!$B:$IX,6,0))=16,"N/A",VLOOKUP(I19,Chisotaichinh!$B:$IX,6,0)) -> 1737.1979 | M19: =IF(TYPE(VLOOKUP(I19,Chisotaichinh!$B:$IX,7,0))=16,"N/A",IF(VLOOKUP(I19,Chisotaichinh!$B:$IX,7,0)<0,0,VLOOKUP(I19,Chisotaichinh!$B:$IX,7,0))) -> 5.7563964 | N19: =IF(TYPE(VLOOKUP(I19,Chisotaichinh!$B:$IX,8,0))=16,"N/A",VLOOKUP(I19,Chisotaichinh!$B:$IX,8,0)) -> 0.69423737
B20: =TopGD_Page4!B35 -> COM | C20: =TopGD_Page4!F35 -> 0.066390041 | D20: =IF(TYPE(VLOOKUP(B20,Chisotaichinh!$B:$IX,4,0))=16,"N/A",VLOOKUP(B20,Chisotaichinh!$B:$IX,4,0)) -> 0.066002206 | E20: =IF(TYPE(VLOOKUP(B20,Chisotaichinh!$B:$IX,6,0))=16,"N/A",VLOOKUP(B20,Chisotaichinh!$B:$IX,6,0)) -> 1715.3592 | F20: =IF(TYPE(VLOOKUP(B20,Chisotaichinh!$B:$IX,7,0))=16,"N/A",IF(VLOOKUP(B20,Chisotaichinh!$B:$IX,7,0)<0,0,VLOOKUP(B20,Chisotaichinh!$B:$IX,7,0))) -> 14.982284 | G20: =IF(TYPE(VLOOKUP(B20,Chisotaichinh!$B:$IX,8,0))=16,"N/A",VLOOKUP(B20,Chisotaichinh!$B:$IX,8,0)) -> 1.0191189 | I20: =TopGD_Page4!H35 -> PHC | J20: =TopGD_Page4!L35 -> 0.096774194 | K20: =IF(TYPE(VLOOKUP(I20,Chisotaichinh!$B:$IX,4,0))=16,"N/A",VLOOKUP(I20,Chisotaichinh!$B:$IX,4,0)) -> 0.016381687 | L20: =IF(TYPE(VLOOKUP(I20,Chisotaichinh!$B:$IX,6,0))=16,"N/A",VLOOKUP(I20,Chisotaichinh!$B:$IX,6,0)) -> 238.30199 | M20: =IF(TYPE(VLOOKUP(I20,Chisotaichinh!$B:$IX,7,0))=16,"N/A",IF(VLOOKUP(I20,Chisotaichinh!$B:$IX,7,0)<0,0,VLOOKUP(I20,Chisotaichinh!$B:$IX,7,0))) -> 14.267611 | N20: =IF(TYPE(VLOOKUP(I20,Chisotaichinh!$B:$IX,8,0))=16,"N/A",VLOOKUP(I20,Chisotaichinh!$B:$IX,8,0)) -> 0.23828332
B21: =TopGD_Page4!B36 -> SVT | C21: =TopGD_Page4!F36 -> 0.059701493 | D21: =IF(TYPE(VLOOKUP(B21,Chisotaichinh!$B:$IX,4,0))=16,"N/A",VLOOKUP(B21,Chisotaichinh!$B:$IX,4,0)) -> 0.0011168015 | E21: =IF(TYPE(VLOOKUP(B21,Chisotaichinh!$B:$IX,6,0))=16,"N/A",VLOOKUP(B21,Chisotaichinh!$B:$IX,6,0)) -> 12.320937 | F21: =IF(TYPE(VLOOKUP(B21,Chisotaichinh!$B:$IX,7,0))=16,"N/A",IF(VLOOKUP(B21,Chisotaichinh!$B:$IX,7,0)<0,0,VLOOKUP(B21,Chisotaichinh!$B:$IX,7,0))) -> 576.25486 | G21: =IF(TYPE(VLOOKUP(B21,Chisotaichinh!$B:$IX,8,0))=16,"N/A",VLOOKUP(B21,Chisotaichinh!$B:$IX,8,0)) -> 0.61502908 | I21: =TopGD_Page4!H36 -> STL | J21: =TopGD_Page4!L36 -> 0.096774194 | K21: =IF(TYPE(VLOOKUP(I21,Chisotaichinh!$B:$IX,4,0))=16,"N/A",VLOOKUP(I21,Chisotaichinh!$B:$IX,4,0)) -> -2.7493354 | L21: =IF(TYPE(VLOOKUP(I21,Chisotaichinh!$B:$IX,6,0))=16,"N/A",VLOOKUP(I21,Chisotaichinh!$B:$IX,6,0)) -> -12521.17 | M21: =IF(TYPE(VLOOKUP(I21,Chisotaichinh!$B:$IX,7,0))=16,"N/A",IF(VLOOKUP(I21,Chisotaichinh!$B:$IX,7,0)<0,0,VLOOKUP(I21,Chisotaichinh!$B:$IX,7,0))) -> 0 | N21: =IF(TYPE(VLOOKUP(I21,Chisotaichinh!$B:$IX,8,0))=16,"N/A",VLOOKUP(I21,Chisotaichinh!$B:$IX,8,0)) -> -5.9337239
B22: =TopGD_Page4!B37 -> PTB | C22: =TopGD_Page4!F37 -> 0.059259259 | D22: =IF(TYPE(VLOOKUP(B22,Chisotaichinh!$B:$IX,4,0))=16,"N/A",VLOOKUP(B22,Chisotaichinh!$B:$IX,4,0)) -> 0.40913735 | E22: =IF(TYPE(VLOOKUP(B22,Chisotaichinh!$B:$IX,6,0))=16,"N/A",VLOOKUP(B22,Chisotaichinh!$B:$IX,6,0)) -> 6776.7629 | F22: =IF(TYPE(VLOOKUP(B22,Chisotaichinh!$B:$IX,7,0))=16,"N/A",IF(VLOOKUP(B22,Chisotaichinh!$B:$IX,7,0)<0,0,VLOOKUP(B22,Chisotaichinh!$B:$IX,7,0))) -> 4.2203041 | G22: =IF(TYPE(VLOOKUP(B22,Chisotaichinh!$B:$IX,8,0))=16,"N/A",VLOOKUP(B22,Chisotaichinh!$B:$IX,8,0)) -> 1.5054277 | I22: =TopGD_Page4!H37 -> VTS | J22: =TopGD_Page4!L37 -> 0.096774194 | K22: =IF(TYPE(VLOOKUP(I22,Chisotaichinh!$B:$IX,4,0))=16,"N/A",VLOOKUP(I22,Chisotaichinh!$B:$IX,4,0)) -> -0.0033896527 | L22: =IF(TYPE(VLOOKUP(I22,Chisotaichinh!$B:$IX,6,0))=16,"N/A",VLOOKUP(I22,Chisotaichinh!$B:$IX,6,0)) -> -84.419277 | M22: =IF(TYPE(VLOOKUP(I22,Chisotaichinh!$B:$IX,7,0))=16,"N/A",IF(VLOOKUP(I22,Chisotaichinh!$B:$IX,7,0)<0,0,VLOOKUP(I22,Chisotaichinh!$B:$IX,7,0))) -> 0 | N22: =IF(TYPE(VLOOKUP(I22,Chisotaichinh!$B:$IX,8,0))=16,"N/A",VLOOKUP(I22,Chisotaichinh!$B:$IX,8,0)) -> 0.4126666
B25: Top KLGD NĐT nước ngoài mua ròng HOSE | I25: Top KLGD NĐT nước ngoài mua ròng HNX
B26: Mã | C26: KL mua | D26: ROE | E26: EPS | F26: P/E | G26: P/B | I26: Mã | J26: KL mua | K26: ROE | L26: EPS | M26: P/E | N26: P/B
B27: =TopGD_Page4!C13 -> FPT | C27: =TopGD_Page4!D13 -> 662940 | D27: =IF(TYPE(VLOOKUP(B27,Chisotaichinh!$B:$IX,4,0))=16,"N/A",VLOOKUP(B27,Chisotaichinh!$B:$IX,4,0)) -> 0.24975807 | E27: =IF(TYPE(VLOOKUP(B27,Chisotaichinh!$B:$IX,6,0))=16,"N/A",VLOOKUP(B27,Chisotaichinh!$B:$IX,6,0)) -> 5711.9518 | F27: =IF(TYPE(VLOOKUP(B27,Chisotaichinh!$B:$IX,7,0))=16,"N/A",IF(VLOOKUP(B27,Chisotaichinh!$B:$IX,7,0)<0,0,VLOOKUP(B27,Chisotaichinh!$B:$IX,7,0))) -> 7.5981033 | G27: =IF(TYPE(VLOOKUP(B27,Chisotaichinh!$B:$IX,8,0))=16,"N/A",VLOOKUP(B27,Chisotaichinh!$B:$IX,8,0)) -> 1.8203912 | I27: =TopGD_Page4!I13 -> PVS | J27: =TopGD_Page4!J13 -> 107500 | K27: =IF(TYPE(VLOOKUP(I27,Chisotaichinh!$B:$IX,4,0))=16,"N/A",VLOOKUP(I27,Chisotaichinh!$B:$IX,4,0)) -> 0.18581612 | L27: =IF(TYPE(VLOOKUP(I27,Chisotaichinh!$B:$IX,6,0))=16,"N/A",VLOOKUP(I27,Chisotaichinh!$B:$IX,6,0)) -> 3133.306 | M27: =IF(TYPE(VLOOKUP(I27,Chisotaichinh!$B:$IX,7,0))=16,"N/A",IF(VLOOKUP(I27,Chisotaichinh!$B:$IX,7,0)<0,0,VLOOKUP(I27,Chisotaichinh!$B:$IX,7,0))) -> 5.0745123 | N27: =IF(TYPE(VLOOKUP(I27,Chisotaichinh!$B:$IX,8,0))=16,"N/A",VLOOKUP(I27,Chisotaichinh!$B:$IX,8,0)) -> 0.97338948
B28: =TopGD_Page4!C14 -> PET | C28: =TopGD_Page4!D14 -> 151400 | D28: =IF(TYPE(VLOOKUP(B28,Chisotaichinh!$B:$IX,4,0))=16,"N/A",VLOOKUP(B28,Chisotaichinh!$B:$IX,4,0)) -> 0.15416815 | E28: =IF(TYPE(VLOOKUP(B28,Chisotaichinh!$B:$IX,6,0))=16,"N/A",VLOOKUP(B28,Chisotaichinh!$B:$IX,6,0)) -> 2700.5624 | F28: =IF(TYPE(VLOOKUP(B28,Chisotaichinh!$B:$IX,7,0))=16,"N/A",IF(VLOOKUP(B28,Chisotaichinh!$B:$IX,7,0)<0,0,VLOOKUP(B28,Chisotaichinh!$B:$IX,7,0))) -> 8.1834805 | G28: =IF(TYPE(VLOOKUP(B28,Chisotaichinh!$B:$IX,8,0))=16,"N/A",VLOOKUP(B28,Chisotaichinh!$B:$IX,8,0)) -> 1.254283 | I28: =TopGD_Page4!I14 -> PVC | J28: =TopGD_Page4!J14 -> 34700 | K28: =IF(TYPE(VLOOKUP(I28,Chisotaichinh!$B:$IX,4,0))=16,"N/A",VLOOKUP(I28,Chisotaichinh!$B:$IX,4,0)) -> 0.14625785 | L28: =IF(TYPE(VLOOKUP(I28,Chisotaichinh!$B:$IX,6,0))=16,"N/A",VLOOKUP(I28,Chisotaichinh!$B:$IX,6,0)) -> 2600.7458 | M28: =IF(TYPE(VLOOKUP(I28,Chisotaichinh!$B:$IX,7,0))=16,"N/A",IF(VLOOKUP(I28,Chisotaichinh!$B:$IX,7,0)<0,0,VLOOKUP(I28,Chisotaichinh!$B:$IX,7,0))) -> 6.267433 | N28: =IF(TYPE(VLOOKUP(I28,Chisotaichinh!$B:$IX,8,0))=16,"N/A",VLOOKUP(I28,Chisotaichinh!$B:$IX,8,0)) -> 0.95742914
B29: =TopGD_Page4!C15 -> MBB | C29: =TopGD_Page4!D15 -> 47660 | D29: =IF(TYPE(VLOOKUP(B29,Chisotaichinh!$B:$IX,4,0))=16,"N/A",VLOOKUP(B29,Chisotaichinh!$B:$IX,4,0)) -> 0.16801874 | E29: =IF(TYPE(VLOOKUP(B29,Chisotaichinh!$B:$IX,6,0))=16,"N/A",VLOOKUP(B29,Chisotaichinh!$B:$IX,6,0)) -> 2231.0679 | F29: =IF(TYPE(VLOOKUP(B29,Chisotaichinh!$B:$IX,7,0))=16,"N/A",IF(VLOOKUP(B29,Chisotaichinh!$B:$IX,7,0)<0,0,VLOOKUP(B29,Chisotaichinh!$B:$IX,7,0))) -> 5.8716277 | G29: =IF(TYPE(VLOOKUP(B29,Chisotaichinh!$B:$IX,8,0))=16,"N/A",VLOOKUP(B29,Chisotaichinh!$B:$IX,8,0)) -> 0.9870246 | I29: =TopGD_Page4!I15 -> PGS | J29: =TopGD_Page4!J15 -> 33100 | K29: =IF(TYPE(VLOOKUP(I29,Chisotaichinh!$B:$IX,4,0))=16,"N/A",VLOOKUP(I29,Chisotaichinh!$B:$IX,4,0)) -> 0.21580886 | L29: =IF(TYPE(VLOOKUP(I29,Chisotaichinh!$B:$IX,6,0))=16,"N/A",VLOOKUP(I29,Chisotaichinh!$B:$IX,6,0)) -> 4444.6543 | M29: =IF(TYPE(VLOOKUP(I29,Chisotaichinh!$B:$IX,7,0))=16,"N/A",IF(VLOOKUP(I29,Chisotaichinh!$B:$IX,7,0)<0,0,VLOOKUP(I29,Chisotaichinh!$B:$IX,7,0))) -> 4.1848024 | N29: =IF(TYPE(VLOOKUP(I29,Chisotaichinh!$B:$IX,8,0))=16,"N/A",VLOOKUP(I29,Chisotaichinh!$B:$IX,8,0)) -> 0.83071065
B30: =TopGD_Page4!C16 -> VIP | C30: =TopGD_Page4!D16 -> 26340 | D30: =IF(TYPE(VLOOKUP(B30,Chisotaichinh!$B:$IX,4,0))=16,"N/A",VLOOKUP(B30,Chisotaichinh!$B:$IX,4,0)) -> 0.17883012 | E30: =IF(TYPE(VLOOKUP(B30,Chisotaichinh!$B:$IX,6,0))=16,"N/A",VLOOKUP(B30,Chisotaichinh!$B:$IX,6,0)) -> 2694.1857 | F30: =IF(TYPE(VLOOKUP(B30,Chisotaichinh!$B:$IX,7,0))=16,"N/A",IF(VLOOKUP(B30,Chisotaichinh!$B:$IX,7,0)<0,0,VLOOKUP(B30,Chisotaichinh!$B:$IX,7,0))) -> 2.8208894 | G30: =IF(TYPE(VLOOKUP(B30,Chisotaichinh!$B:$IX,8,0))=16,"N/A",VLOOKUP(B30,Chisotaichinh!$B:$IX,8,0)) -> 0.46113158 | I30: =TopGD_Page4!I16 -> BVS | J30: =TopGD_Page4!J16 -> 30000 | K30: =IF(TYPE(VLOOKUP(I30,Chisotaichinh!$B:$IX,4,0))=16,"N/A",VLOOKUP(I30,Chisotaichinh!$B:$IX,4,0)) -> 0.09008497 | L30: =IF(TYPE(VLOOKUP(I30,Chisotaichinh!$B:$IX,6,0))=16,"N/A",VLOOKUP(I30,Chisotaichinh!$B:$IX,6,0)) -> 1410.9289 | M30: =IF(TYPE(VLOOKUP(I30,Chisotaichinh!$B:$IX,7,0))=16,"N/A",IF(VLOOKUP(I30,Chisotaichinh!$B:$IX,7,0)<0,0,VLOOKUP(I30,Chisotaichinh!$B:$IX,7,0))) -> 7.8671578 | N30: =IF(TYPE(VLOOKUP(I30,Chisotaichinh!$B:$IX,8,0))=16,"N/A",VLOOKUP(I30,Chisotaichinh!$B:$IX,8,0)) -> 0.69105889
B31: =TopGD_Page4!C17 -> VNS | C31: =TopGD_Page4!D17 -> 16870 | D31: =IF(TYPE(VLOOKUP(B31,Chisotaichinh!$B:$IX,4,0))=16,"N/A",VLOOKUP(B31,Chisotaichinh!$B:$IX,4,0)) -> 0.18219291 | E31: =IF(TYPE(VLOOKUP(B31,Chisotaichinh!$B:$IX,6,0))=16,"N/A",VLOOKUP(B31,Chisotaichinh!$B:$IX,6,0)) -> 4246.6268 | F31: =IF(TYPE(VLOOKUP(B31,Chisotaichinh!$B:$IX,7,0))=16,"N/A",IF(VLOOKUP(B31,Chisotaichinh!$B:$IX,7,0)<0,0,VLOOKUP(B31,Chisotaichinh!$B:$IX,7,0))) -> 9.0660192 | G31: =IF(TYPE(VLOOKUP(B31,Chisotaichinh!$B:$IX,8,0))=16,"N/A",VLOOKUP(B31,Chisotaichinh!$B:$IX,8,0)) -> 1.1730396 | I31: =TopGD_Page4!I17 -> KHB | J31: =TopGD_Page4!J17 -> 30000 | K31: =IF(TYPE(VLOOKUP(I31,Chisotaichinh!$B:$IX,4,0))=16,"N/A",VLOOKUP(I31,Chisotaichinh!$B:$IX,4,0)) -> -0.066692153 | L31: =IF(TYPE(VLOOKUP(I31,Chisotaichinh!$B:$IX,6,0))=16,"N/A",VLOOKUP(I31,Chisotaichinh!$B:$IX,6,0)) -> -1055.8417 | M31: =IF(TYPE(VLOOKUP(I31,Chisotaichinh!$B:$IX,7,0))=16,"N/A",IF(VLOOKUP(I31,Chisotaichinh!$B:$IX,7,0)<0,0,VLOOKUP(I31,Chisotaichinh!$B:$IX,7,0))) -> 0 | N31: =IF(TYPE(VLOOKUP(I31,Chisotaichinh!$B:$IX,8,0))=16,"N/A",VLOOKUP(I31,Chisotaichinh!$B:$IX,8,0)) -> 0.19603164
B34: Top Vốn hóa HOSE | I34: Top Vốn hóa HNX
B35: Mã | C35: Vốn hóa | D35: ROE | E35: EPS | F35: P/E | G35: P/B | I35: Mã | J35: Vốn hóa | K35: ROE | L35: EPS | M35: P/E | N35: P/B
B36: =TopGD!A97 -> GAS | C36: =TopGD!E97/10^9 -> 113700 | D36: =IF(TYPE(VLOOKUP(B36,Chisotaichinh!$B:$IX,4,0))=16,"N/A",VLOOKUP(B36,Chisotaichinh!$B:$IX,4,0)) -> 0.4205475 | E36: =IF(TYPE(VLOOKUP(B36,Chisotaichinh!$B:$IX,6,0))=16,"N/A",VLOOKUP(B36,Chisotaichinh!$B:$IX,6,0)) -> 6141.2158 | F36: =IF(TYPE(VLOOKUP(B36,Chisotaichinh!$B:$IX,7,0))=16,"N/A",IF(VLOOKUP(B36,Chisotaichinh!$B:$IX,7,0)<0,0,VLOOKUP(B36,Chisotaichinh!$B:$IX,7,0))) -> 9.7700524 | G36: =IF(TYPE(VLOOKUP(B36,Chisotaichinh!$B:$IX,8,0))=16,"N/A",VLOOKUP(B36,Chisotaichinh!$B:$IX,8,0)) -> 3.6145747 | I36: =TopGD!A180 -> ACB | J36: =TopGD!E180/10^9 -> 15096.914 | K36: =IF(TYPE(VLOOKUP(I36,Chisotaichinh!$B:$IX,4,0))=16,"N/A",VLOOKUP(I36,Chisotaichinh!$B:$IX,4,0)) -> 0.030586347 | L36: =IF(TYPE(VLOOKUP(I36,Chisotaichinh!$B:$IX,6,0))=16,"N/A",VLOOKUP(I36,Chisotaichinh!$B:$IX,6,0)) -> 424.4965 | M36: =IF(TYPE(VLOOKUP(I36,Chisotaichinh!$B:$IX,7,0))=16,"N/A",IF(VLOOKUP(I36,Chisotaichinh!$B:$IX,7,0)<0,0,VLOOKUP(I36,Chisotaichinh!$B:$IX,7,0))) -> 37.927285 | N36: =IF(TYPE(VLOOKUP(I36,Chisotaichinh!$B:$IX,8,0))=16,"N/A",VLOOKUP(I36,Chisotaichinh!$B:$IX,8,0)) -> 1.1681506
B37: =TopGD!A98 -> VNM | C37: =TopGD!E98/10^9 -> 111692.44 | D37: =IF(TYPE(VLOOKUP(B37,Chisotaichinh!$B:$IX,4,0))=16,"N/A",VLOOKUP(B37,Chisotaichinh!$B:$IX,4,0)) -> 0.40371695 | E37: =IF(TYPE(VLOOKUP(B37,Chisotaichinh!$B:$IX,6,0))=16,"N/A",VLOOKUP(B37,Chisotaichinh!$B:$IX,6,0)) -> 7293.6741 | F37: =IF(TYPE(VLOOKUP(B37,Chisotaichinh!$B:$IX,7,0))=16,"N/A",IF(VLOOKUP(B37,Chisotaichinh!$B:$IX,7,0)<0,0,VLOOKUP(B37,Chisotaichinh!$B:$IX,7,0))) -> 18.372085 | G37: =IF(TYPE(VLOOKUP(B37,Chisotaichinh!$B:$IX,8,0))=16,"N/A",VLOOKUP(B37,Chisotaichinh!$B:$IX,8,0)) -> 6.623641 | I37: =TopGD!A181 -> SQC | J37: =TopGD!E181/10^9 -> 8602 | K37: =IF(TYPE(VLOOKUP(I37,Chisotaichinh!$B:$IX,4,0))=16,"N/A",VLOOKUP(I37,Chisotaichinh!$B:$IX,4,0)) -> 0.091222487 | L37: =IF(TYPE(VLOOKUP(I37,Chisotaichinh!$B:$IX,6,0))=16,"N/A",VLOOKUP(I37,Chisotaichinh!$B:$IX,6,0)) -> 1109.9837 | M37: =IF(TYPE(VLOOKUP(I37,Chisotaichinh!$B:$IX,7,0))=16,"N/A",IF(VLOOKUP(I37,Chisotaichinh!$B:$IX,7,0)<0,0,VLOOKUP(I37,Chisotaichinh!$B:$IX,7,0))) -> 70.451486 | N37: =IF(TYPE(VLOOKUP(I37,Chisotaichinh!$B:$IX,8,0))=16,"N/A",VLOOKUP(I37,Chisotaichinh!$B:$IX,8,0)) -> 6.3085015
B38: =TopGD!A99 -> MSN | C38: =TopGD!E99/10^9 -> 66283.242 | D38: =IF(TYPE(VLOOKUP(B38,Chisotaichinh!$B:$IX,4,0))=16,"N/A",VLOOKUP(B38,Chisotaichinh!$B:$IX,4,0)) -> 0.064706663 | E38: =IF(TYPE(VLOOKUP(B38,Chisotaichinh!$B:$IX,6,0))=16,"N/A",VLOOKUP(B38,Chisotaichinh!$B:$IX,6,0)) -> 1469.409 | F38: =IF(TYPE(VLOOKUP(B38,Chisotaichinh!$B:$IX,7,0))=16,"N/A",IF(VLOOKUP(B38,Chisotaichinh!$B:$IX,7,0)<0,0,VLOOKUP(B38,Chisotaichinh!$B:$IX,7,0))) -> 63.971297 | G38: =IF(TYPE(VLOOKUP(B38,Chisotaichinh!$B:$IX,8,0))=16,"N/A",VLOOKUP(B38,Chisotaichinh!$B:$IX,8,0)) -> 4.1606555 | I38: =TopGD!A182 -> PVS | J38: =TopGD!E182/10^9 -> 7102.5367 | K38: =IF(TYPE(VLOOKUP(I38,Chisotaichinh!$B:$IX,4,0))=16,"N/A",VLOOKUP(I38,Chisotaichinh!$B:$IX,4,0)) -> 0.18581612 | L38: =IF(TYPE(VLOOKUP(I38,Chisotaichinh!$B:$IX,6,0))=16,"N/A",VLOOKUP(I38,Chisotaichinh!$B:$IX,6,0)) -> 3133.306 | M38: =IF(TYPE(VLOOKUP(I38,Chisotaichinh!$B:$IX,7,0))=16,"N/A",IF(VLOOKUP(I38,Chisotaichinh!$B:$IX,7,0)<0,0,VLOOKUP(I38,Chisotaichinh!$B:$IX,7,0))) -> 5.0745123 | N38: =IF(TYPE(VLOOKUP(I38,Chisotaichinh!$B:$IX,8,0))=16,"N/A",VLOOKUP(I38,Chisotaichinh!$B:$IX,8,0)) -> 0.97338948
B39: =TopGD!A100 -> CTG | C39: =TopGD!E100/10^9 -> 63689.815 | D39: =IF(TYPE(VLOOKUP(B39,Chisotaichinh!$B:$IX,4,0))=16,"N/A",VLOOKUP(B39,Chisotaichinh!$B:$IX,4,0)) -> 0.17185524 | E39: =IF(TYPE(VLOOKUP(B39,Chisotaichinh!$B:$IX,6,0))=16,"N/A",VLOOKUP(B39,Chisotaichinh!$B:$IX,6,0)) -> 2672.6954 | F39: =IF(TYPE(VLOOKUP(B39,Chisotaichinh!$B:$IX,7,0))=16,"N/A",IF(VLOOKUP(B39,Chisotaichinh!$B:$IX,7,0)<0,0,VLOOKUP(B39,Chisotaichinh!$B:$IX,7,0))) -> 7.2960054 | G39: =IF(TYPE(VLOOKUP(B39,Chisotaichinh!$B:$IX,8,0))=16,"N/A",VLOOKUP(B39,Chisotaichinh!$B:$IX,8,0)) -> 1.2709341 | I39: =TopGD!A183 -> SHB | J39: =TopGD!E183/10^9 -> 5936.7585 | K39: =IF(TYPE(VLOOKUP(I39,Chisotaichinh!$B:$IX,4,0))=16,"N/A",VLOOKUP(I39,Chisotaichinh!$B:$IX,4,0)) -> -0.022826749 | L39: =IF(TYPE(VLOOKUP(I39,Chisotaichinh!$B:$IX,6,0))=16,"N/A",VLOOKUP(I39,Chisotaichinh!$B:$IX,6,0)) -> -265.50749 | M39: =IF(TYPE(VLOOKUP(I39,Chisotaichinh!$B:$IX,7,0))=16,"N/A",IF(VLOOKUP(I39,Chisotaichinh!$B:$IX,7,0)<0,0,VLOOKUP(I39,Chisotaichinh!$B:$IX,7,0))) -> 0 | N39: =IF(TYPE(VLOOKUP(I39,Chisotaichinh!$B:$IX,8,0))=16,"N/A",VLOOKUP(I39,Chisotaichinh!$B:$IX,8,0)) -> 0.61278755
B40: =TopGD!A101 -> VCB | C40: =TopGD!E101/10^9 -> 63497.228 | D40: =IF(TYPE(VLOOKUP(B40,Chisotaichinh!$B:$IX,4,0))=16,"N/A",VLOOKUP(B40,Chisotaichinh!$B:$IX,4,0)) -> 0.10058335 | E40: =IF(TYPE(VLOOKUP(B40,Chisotaichinh!$B:$IX,6,0))=16,"N/A",VLOOKUP(B40,Chisotaichinh!$B:$IX,6,0)) -> 1803.6723 | F40: =IF(TYPE(VLOOKUP(B40,Chisotaichinh!$B:$IX,7,0))=16,"N/A",IF(VLOOKUP(B40,Chisotaichinh!$B:$IX,7,0)<0,0,VLOOKUP(B40,Chisotaichinh!$B:$IX,7,0))) -> 15.19123 | G40: =IF(TYPE(VLOOKUP(B40,Chisotaichinh!$B:$IX,8,0))=16,"N/A",VLOOKUP(B40,Chisotaichinh!$B:$IX,8,0)) -> 1.4946847 | I40: =TopGD!A184 -> VCG | J40: =TopGD!E184/10^9 -> 5123.8438 | K40: =IF(TYPE(VLOOKUP(I40,Chisotaichinh!$B:$IX,4,0))=16,"N/A",VLOOKUP(I40,Chisotaichinh!$B:$IX,4,0)) -> 0.023314277 | L40: =IF(TYPE(VLOOKUP(I40,Chisotaichinh!$B:$IX,6,0))=16,"N/A",VLOOKUP(I40,Chisotaichinh!$B:$IX,6,0)) -> 267.10985 | M40: =IF(TYPE(VLOOKUP(I40,Chisotaichinh!$B:$IX,7,0))=16,"N/A",IF(VLOOKUP(I40,Chisotaichinh!$B:$IX,7,0)<0,0,VLOOKUP(I40,Chisotaichinh!$B:$IX,7,0))) -> 43.427826 | N40: =IF(TYPE(VLOOKUP(I40,Chisotaichinh!$B:$IX,8,0))=16,"N/A",VLOOKUP(I40,Chisotaichinh!$B:$IX,8,0)) -> 0.98545727
B43: Top CP có hệ số Beta cao nhất sàn HOSE | I43: Top CP có hệ số Beta cao nhất sàn HNX
B44: Mã | C44: Beta | D44: ROE | E44: EPS | F44: P/E | G44: P/B | I44: Mã | J44: Beta | K44: ROE | L44: EPS | M44: P/E | N44: P/B
B45: =TopGD!A4 -> SGT | C45: =TopGD!B4 -> 2.8177991 | D45: =IF(TYPE(VLOOKUP(B45,Chisotaichinh!$B:$IX,4,0))=16,"N/A",VLOOKUP(B45,Chisotaichinh!$B:$IX,4,0)) -> -0.41093003 | E45: =IF(TYPE(VLOOKUP(B45,Chisotaichinh!$B:$IX,6,0))=16,"N/A",VLOOKUP(B45,Chisotaichinh!$B:$IX,6,0)) -> -3039.0772 | F45: =IF(TYPE(VLOOKUP(B45,Chisotaichinh!$B:$IX,7,0))=16,"N/A",IF(VLOOKUP(B45,Chisotaichinh!$B:$IX,7,0)<0,0,VLOOKUP(B45,Chisotaichinh!$B:$IX,7,0))) -> 0 | G45: =IF(TYPE(VLOOKUP(B45,Chisotaichinh!$B:$IX,8,0))=16,"N/A",VLOOKUP(B45,Chisotaichinh!$B:$IX,8,0)) -> 0.35738179 | I45: =TopGD!A14 -> VCG | J45: =TopGD!B14 -> 3.5252076 | K45: =IF(TYPE(VLOOKUP(I45,Chisotaichinh!$B:$IX,4,0))=16,"N/A",VLOOKUP(I45,Chisotaichinh!$B:$IX,4,0)) -> 0.023314277 | L45: =IF(TYPE(VLOOKUP(I45,Chisotaichinh!$B:$IX,6,0))=16,"N/A",VLOOKUP(I45,Chisotaichinh!$B:$IX,6,0)) -> 267.10985 | M45: =IF(TYPE(VLOOKUP(I45,Chisotaichinh!$B:$IX,7,0))=16,"N/A",IF(VLOOKUP(I45,Chisotaichinh!$B:$IX,7,0)<0,0,VLOOKUP(I45,Chisotaichinh!$B:$IX,7,0))) -> 43.427826 | N45: =IF(TYPE(VLOOKUP(I45,Chisotaichinh!$B:$IX,8,0))=16,"N/A",VLOOKUP(I45,Chisotaichinh!$B:$IX,8,0)) -> 0.98545727
B46: =TopGD!A5 -> ITA | C46: =TopGD!B5 -> 2.7961886 | D46: =IF(TYPE(VLOOKUP(B46,Chisotaichinh!$B:$IX,4,0))=16,"N/A",VLOOKUP(B46,Chisotaichinh!$B:$IX,4,0)) -> 0.0024812934 | E46: =IF(TYPE(VLOOKUP(B46,Chisotaichinh!$B:$IX,6,0))=16,"N/A",VLOOKUP(B46,Chisotaichinh!$B:$IX,6,0)) -> 33.534878 | F46: =IF(TYPE(VLOOKUP(B46,Chisotaichinh!$B:$IX,7,0))=16,"N/A",IF(VLOOKUP(B46,Chisotaichinh!$B:$IX,7,0)<0,0,VLOOKUP(B46,Chisotaichinh!$B:$IX,7,0))) -> 199.79199 | G46: =IF(TYPE(VLOOKUP(B46,Chisotaichinh!$B:$IX,8,0))=16,"N/A",VLOOKUP(B46,Chisotaichinh!$B:$IX,8,0)) -> 0.53298068 | I46: =TopGD!A15 -> PVL | J46: =TopGD!B15 -> 3.2519166 | K46: =IF(TYPE(VLOOKUP(I46,Chisotaichinh!$B:$IX,4,0))=16,"N/A",VLOOKUP(I46,Chisotaichinh!$B:$IX,4,0)) -> -0.049437257 | L46: =IF(TYPE(VLOOKUP(I46,Chisotaichinh!$B:$IX,6,0))=16,"N/A",VLOOKUP(I46,Chisotaichinh!$B:$IX,6,0)) -> -526.29085 | M46: =IF(TYPE(VLOOKUP(I46,Chisotaichinh!$B:$IX,7,0))=16,"N/A",IF(VLOOKUP(I46,Chisotaichinh!$B:$IX,7,0)<0,0,VLOOKUP(I46,Chisotaichinh!$B:$IX,7,0))) -> 0 | N46: =IF(TYPE(VLOOKUP(I46,Chisotaichinh!$B:$IX,8,0))=16,"N/A",VLOOKUP(I46,Chisotaichinh!$B:$IX,8,0)) -> 0.30193326
