Workbook
Name ChiSoTaiChinh: Chisotaichinh!$A$1:$M$704
Name GDNganh: GDNganh!$A$1:$AG$736
Name IndexRealTime: 'Real-time HNX'!$A$1:$F$101
Name IndexRealTime: 'Real-time Hose'!$A$1:$F$101
Name LichSuKien: Líchukien!$A$1:$G$31
Name ThongKeThiTruong: ThongkeTT!$A$1:$J$63
Name TopGD: TopGD!$A$1:$F$355

Sheet Nhandinh_Page1
J5: BẢN TIN THỊ TRƯỜNG
G6: Phiên giao dịch ngày: | K6: =ThongkeTT!A2 -> 41459
B9: Thống kê thị trường | E9: HOSE | G9: HNX
B10: Index | D10: =ThongkeTT!B2/100 -> 487.22 | F10: =ThongkeTT!B34 -> 63.07
B11: % Thay đổi | E11: =ThongkeTT!B2/ThongkeTT!B3-1 -> -0.00026674874 | G11: =ThongkeTT!B34/ThongkeTT!B35-1 -> 0
B12: KLGD (CP) | D12: =ThongkeTT!C2*10 -> 39430283 | F12: =ThongkeTT!C34 -> 20548185
B13: GTGD (tỷ đồng) | D13: =ThongkeTT!D2/10^8 -> 827.35473 | F13: =ThongkeTT!D34/10^9 -> 163.51956 | J13: Diễn biến thị trường:
B14: Tổng cung (CP) | D14: =ThongkeTT!F2 -> 90775830 | F14: =ThongkeTT!F34 -> 47729700
B15: Tổng cầu (CP) | D15: =ThongkeTT!E2 -> 88961040 | F15: =ThongkeTT!E34 -> 47265900
B17: Giao dịch NĐTNN | E17: HOSE | G17: HNX
B18: KL bán (CP) | D18: =ThongkeTT!H2 -> 5293959 | F18: =ThongkeTT!H34 -> 1244757
B19: KL mua (CP) | D19: =ThongkeTT!G2 -> 3034299 | F19: =ThongkeTT!G34 -> 1469424
B20: GTmua (tỷ đồng) | D20: =ThongkeTT!I2/10^9 -> 133.94013 | F20: =ThongkeTT!I34/10^9 -> 21.070706
B21: GT bán (tỷ đồng) | D21: =ThongkeTT!J2/10^9 -> 194.28802 | F21: =ThongkeTT!J34/10^9 -> 17.313002
B22: GT ròng (tỷ đồng) | D22: =D20-D21 -> -60.347895 | F22: =F20-F21 -> 3.7577039
B24: Tương quan cung cầu | G24: HOSE
Q25: HOSE | R25: KLGD | S25: KL đặt mua | T25: KL đặt bán | U25: Mua - Bán
Q26: =ThongkeTT!A2 -> 41459 | R26: =ThongkeTT!C2*10 -> 39430283 | S26: =ThongkeTT!E2 -> 88961040 | T26: =-ThongkeTT!F2 -> -90775830 | U26: =S26+T26 -> -1814790
Q27: =ThongkeTT!A3 -> 41458 | R27: =ThongkeTT!C3*10 -> 45991406 | S27: =ThongkeTT!E3 -> 86502930 | T27: =-ThongkeTT!F3 -> -95009300 | U27: =S27+T27 -> -8506370
Q28: =ThongkeTT!A4 -> 41457 | R28: =ThongkeTT!C4*10 -> 37835960 | S28: =ThongkeTT!E4 -> 86957480 | T28: =-ThongkeTT!F4 -> -79369770 | U28: =S28+T28 -> 7587710
Q29: =ThongkeTT!A5 -> 41456 | R29: =ThongkeTT!C5*10 -> 35055382 | S29: =ThongkeTT!E5 -> 78514470 | T29: =-ThongkeTT!F5 -> -77030090 | U29: =S29+T29 -> 1484380
Q30: =ThongkeTT!A6 -> 41453 | R30: =ThongkeTT!C6*10 -> 62412303 | S30: =ThongkeTT!E6 -> 87345270 | T30: =-ThongkeTT!F6 -> -114281900 | U30: =S30+T30 -> -26936630
Q31: =ThongkeTT!A7 -> 41452 | R31: =ThongkeTT!C7*10 -> 46019883 | S31: =ThongkeTT!E7 -> 100764770 | T31: =-ThongkeTT!F7 -> -92201540 | U31: =S31+T31 -> 8563230
Q32: =ThongkeTT!A8 -> 41451 | R32: =ThongkeTT!C8*10 -> 66675880 | S32: =ThongkeTT!E8 -> 116056910 | T32: =-ThongkeTT!F8 -> -107351220 | U32: =S32+T32 -> 8705690
Q33: =ThongkeTT!A9 -> 41450 | R33: =ThongkeTT!C9*10 -> 86819654 | S33: =ThongkeTT!E9 -> 127700370 | T33: =-ThongkeTT!F9 -> -158708740 | U33: =S33+T33 -> -31008370
Q34: =ThongkeTT!A10 -> 41449 | R34: =ThongkeTT!C10*10 -> 58308957 | S34: =ThongkeTT!E10 -> 105704030 | T34: =-ThongkeTT!F10 -> -117186110 | U34: =S34+T34 -> -11482080
Q35: =ThongkeTT!A11 -> 41446 | R35: =ThongkeTT!C11*10 -> 94144650 | S35: =ThongkeTT!E11 -> 171010470 | T35: =-ThongkeTT!F11 -> -169476340 | U35: =S35+T35 -> 1534130
B36: Giá trị Giao dịch NDTNN | G36: HOSE | Q36: =ThongkeTT!A12 -> 41445 | R36: =ThongkeTT!C12*10 -> 49534013 | S36: =ThongkeTT!E12 -> 98898620 | T36: =-ThongkeTT!F12 -> -119477160 | U36: =S36+T36 -> -20578540
Q37: =ThongkeTT!A13 -> 41444 | R37: =ThongkeTT!C13*10 -> 43058375 | S37: =ThongkeTT!E13 -> 100596580 | T37: =-ThongkeTT!F13 -> -100612150 | U37: =S37+T37 -> -15570
Q38: =ThongkeTT!A14 -> 41443 | R38: =ThongkeTT!C14*10 -> 55766067 | S38: =ThongkeTT!E14 -> 110127750 | T38: =-ThongkeTT!F14 -> -109235190 | U38: =S38+T38 -> 892560
Q39: =ThongkeTT!A15 -> 41442 | R39: =ThongkeTT!C15*10 -> 75810190 | S39: =ThongkeTT!E15 -> 120568640 | T39: =-ThongkeTT!F15 -> -154939810 | U39: =S39+T39 -> -34371170
Q40: =ThongkeTT!A16 -> 41439 | R40: =ThongkeTT!C16*10 -> 60674030 | S40: =ThongkeTT!E16 -> 132479130 | T40: =-ThongkeTT!F16 -> -135280240 | U40: =S40+T40 -> -2801110
Q41: =ThongkeTT!A17 -> 41438 | R41: =ThongkeTT!C17*10 -> 62541629 | S41: =ThongkeTT!E17 -> 133922830 | T41: =-ThongkeTT!F17 -> -137144200 | U41: =S41+T41 -> -3221370
Q42: =ThongkeTT!A18 -> 41437 | R42: =ThongkeTT!C18*10 -> 70558170 | S42: =ThongkeTT!E18 -> 149208190 | T42: =-ThongkeTT!F18 -> -128291970 | U42: =S42+T42 -> 20916220
Q43: =ThongkeTT!A19 -> 41436 | R43: =ThongkeTT!C19*10 -> 68047473 | S43: =ThongkeTT!E19 -> 127196440 | T43: =-ThongkeTT!F19 -> -129753240 | U43: =S43+T43 -> -2556800
Q44: =ThongkeTT!A20 -> 41435 | R44: =ThongkeTT!C20*10 -> 94171518 | S44: =ThongkeTT!E20 -> 144334820 | T44: =-ThongkeTT!F20 -> -169019580 | U44: =S44+T44 -> -24684760
Q45: =ThongkeTT!A21 -> 41432 | R45: =ThongkeTT!C21*10 -> 74548104 | S45: =ThongkeTT!E21 -> 144421860 | T45: =-ThongkeTT!F21 -> -168737970 | U45: =S45+T45 -> -24316110
B48: Ngành Cấp 1 | D48: % thay đổi | E48: P/E | F48: P/B | G48: %GTGD
A49: 304 | B49: Công nghệ Thông tin | D49: =GDNganh!AE4/GDNganh!AD4-1 -> 0.011281433 | E49: =VLOOKUP($A49,Chisotaichinh!$A:$IX,8,0) -> 7.1554746 | F49: =VLOOKUP($A49,Chisotaichinh!$A:$IX,9,0) -> 1.5736272 | G49: =H51/$H$61 -> 0.073161832
A50: 169 | B50: Công nghiệp | D50: =GDNganh!AE5/GDNganh!AD5-1 -> 0.0024465482 | E50: =VLOOKUP($A50,Chisotaichinh!$A:$IX,8,0) -> 22.605791 | F50: =VLOOKUP($A50,Chisotaichinh!$A:$IX,9,0) -> 0.99836268 | G50: =H52/$H$61 -> 0.13811029
A51: 141 | B51: Dầu khí | D51: =GDNganh!AE6/GDNganh!AD6-1 -> -0.00021204411 | E51: =VLOOKUP($A51,Chisotaichinh!$A:$IX,8,0) -> 5.6461488 | F51: =VLOOKUP($A51,Chisotaichinh!$A:$IX,9,0) -> 1.2079723 | G51: =H53/$H$61 -> 0.051822787 | H51: =SUMIF(GDNganh!$AH$37:$AH$5000,B49,GDNganh!$AG$37:$AG$4999)/10^9 -> 72.377437 | Q51: HOSE | R51: GT mua | S51: GT bán | T51: GT ròng
A52: 239 | B52: Dịch vụ Tiêu dùng | D52: =GDNganh!AE7/GDNganh!AD7-1 -> 0.0087646077 | E52: =VLOOKUP($A52,Chisotaichinh!$A:$IX,8,0) -> 9.5020253 | F52: =VLOOKUP($A52,Chisotaichinh!$A:$IX,9,0) -> 1.8189022 | G52: =H54/$H$61 -> 0.025199603 | H52: =SUMIF(GDNganh!$AH$37:$AH$5000,B50,GDNganh!$AG$37:$AG$4999)/10^9 -> 136.62956 | Q52: =ThongkeTT!A2 -> 41459 | R52: =ThongkeTT!I2 -> 133940127000 | S52: =-ThongkeTT!J2 -> -194288022000 | T52: =R52+S52 -> -60347895000
A53: 230 | B53: Dược phẩm và Y tế | D53: =GDNganh!AE8/GDNganh!AD8-1 -> 0.0033581195 | E53: =VLOOKUP($A53,Chisotaichinh!$A:$IX,8,0) -> 7.7134187 | F53: =VLOOKUP($A53,Chisotaichinh!$A:$IX,9,0) -> 2.3284595 | G53: =H55/$H$61 -> 0.0079271358 | H53: =SUMIF(GDNganh!$AH$37:$AH$5000,B51,GDNganh!$AG$37:$AG$4999)/10^9 -> 51.267175 | Q53: =ThongkeTT!A3 -> 41458 | R53: =ThongkeTT!I3 -> 133651864000 | S53: =-ThongkeTT!J3 -> -166205081000 | T53: =R53+S53 -> -32553217000
A54: 200 | B54: Hàng Tiêu dùng | D54: =GDNganh!AE9/GDNganh!AD9-1 -> 0.00048303623 | E54: =VLOOKUP($A54,Chisotaichinh!$A:$IX,8,0) -> 14.9032 | F54: =VLOOKUP($A54,Chisotaichinh!$A:$IX,9,0) -> 4.8286482 | G54: =H56/$H$61 -> 0.14766271 | H54: =SUMIF(GDNganh!$AH$37:$AH$5000,B52,GDNganh!$AG$37:$AG$4999)/10^9 -> 24.929428 | Q54: =ThongkeTT!A4 -> 41457 | R54: =ThongkeTT!I4 -> 87426700000 | S54: =-ThongkeTT!J4 -> -85824622000 | T54: =R54+S54 -> 1602078000
A55: 324 | B55: Ngân hàng | D55: =GDNganh!AE10/GDNganh!AD10-1 -> -0.00076564349 | E55: =VLOOKUP($A55,Chisotaichinh!$A:$IX,8,0) -> 7.1479863 | F55: =VLOOKUP($A55,Chisotaichinh!$A:$IX,9,0) -> 1.2922507 | G55: =H57/$H$61 -> 0.040275178 | H55: =SUMIF(GDNganh!$AH$37:$AH$5000,B53,GDNganh!$AG$37:$AG$4999)/10^9 -> 7.842146 | Q55: =ThongkeTT!A5 -> 41456 | R55: =ThongkeTT!I5 -> 41471087000 | S55: =-ThongkeTT!J5 -> -60668279000 | T55: =R55+S55 -> -19197192000
A56: 146 | B56: Nguyên vật liệu | D56: =GDNganh!AE11/GDNganh!AD11-1 -> -0.0024199403 | E56: =VLOOKUP($A56,Chisotaichinh!$A:$IX,8,0) -> 8.2227089 | F56: =VLOOKUP($A56,Chisotaichinh!$A:$IX,9,0) -> 1.9488542 | G56: =H58/$H$61 -> 0.087596149 | H56: =SUMIF(GDNganh!$AH$37:$AH$5000,B54,GDNganh!$AG$37:$AG$4999)/10^9 -> 146.07956 | Q56: =ThongkeTT!A6 -> 41453 | R56: =ThongkeTT!I6 -> 65199628000 | S56: =-ThongkeTT!J6 -> -50373335000 | T56: =R56+S56 -> 14826293000
A57: 278 | B57: Tài chính | D57: =GDNganh!AE12/GDNganh!AD12-1 -> -0.0027151016 | E57: =VLOOKUP($A57,Chisotaichinh!$A:$IX,8,0) -> 27.599551 | F57: =VLOOKUP($A57,Chisotaichinh!$A:$IX,9,0) -> 2.8302224 | G57: =H59/$H$61 -> 0.35939485 | H57: =SUMIF(GDNganh!$AH$37:$AH$5000,B55,GDNganh!$AG$37:$AG$4999)/10^9 -> 39.843372 | Q57: =ThongkeTT!A7 -> 41452 | R57: =ThongkeTT!I7 -> 188490126000 | S57: =-ThongkeTT!J7 -> -232989669000 | T57: =R57+S57 -> -44499543000
A58: 270 | B58: Tiện ích Cộng đồng | D58: =GDNganh!AE13/GDNganh!AD13-1 -> 0.00051736881 | E58: =VLOOKUP($A58,Chisotaichinh!$A:$IX,8,0) -> 9.0926091 | F58: =VLOOKUP($A58,Chisotaichinh!$A:$IX,9,0) -> 3.1868178 | G58: =H60/$H$61 -> 0.068849473 | H58: =SUMIF(GDNganh!$AH$37:$AH$5000,B56,GDNganh!$AG$37:$AG$4999)/10^9 -> 86.656998 | Q58: =ThongkeTT!A8 -> 41451 | R58: =ThongkeTT!I8 -> 152282294000 | S58: =-ThongkeTT!J8 -> -394833130000 | T58: =R58+S58 -> -242550836000
B59: VN - Index | D59: =E11 -> -0.00026674874 | E59: =VLOOKUP($A60,Chisotaichinh!$A:$IX,8,0) -> 13.794557 | F59: =VLOOKUP($A60,Chisotaichinh!$A:$IX,9,0) -> 2.9492392 | G59: =H62/H61 -> 0.83632125 | H59: =SUMIF(GDNganh!$AH$37:$AH$5000,B57,GDNganh!$AG$37:$AG$4999)/10^9 -> 355.54164 | Q59: =ThongkeTT!A9 -> 41450 | R59: =ThongkeTT!I9 -> 136629518000 | S59: =-ThongkeTT!J9 -> -268080439000 | T59: =R59+S59 -> -131450921000
A60: 0 | B60: HNX - Index | D60: =G11 -> 0 | E60: =VLOOKUP($A61,Chisotaichinh!$A:$IX,8,0) -> 22.72279 | F60: =VLOOKUP($A61,Chisotaichinh!$A:$IX,9,0) -> 1.4674725 | G60: =100%-G59 -> 0.16367875 | H60: =SUMIF(GDNganh!$AH$37:$AH$5000,B58,GDNganh!$AG$37:$AG$4999)/10^9 -> 68.111312 | Q60: =ThongkeTT!A10 -> 41449 | R60: =ThongkeTT!I10 -> 230597621000 | S60: =-ThongkeTT!J10 -> -406697515000 | T60: =R60+S60 -> -176099894000
A61: 1 | H61: =SUM(H51:H60) -> 989.27862 | Q61: =ThongkeTT!A11 -> 41446 | R61: =ThongkeTT!I11 -> 478533652000 | S61: =-ThongkeTT!J11 -> -841677146000 | T61: =R61+S61 -> -363143494000
H62: =D13 -> 827.35473 | Q62: =ThongkeTT!A12 -> 41445 | R62: =ThongkeTT!I12 -> 123399734000 | S62: =-ThongkeTT!J12 -> -214846658000 | T62: =R62+S62 -> -91446924000
H63: =F13 -> 163.51956 | Q63: =ThongkeTT!A13 -> 41444 | R63: =ThongkeTT!I13 -> 138599581000 | S63: =-ThongkeTT!J13 -> -213200115000 | T63: =R63+S63 -> -74600534000
Q64: =ThongkeTT!A14 -> 41443 | R64: =ThongkeTT!I14 -> 225236947000 | S64: =-ThongkeTT!J14 -> -375195533000 | T64: =R64+S64 -> -149958586000
Q65: =ThongkeTT!A15 -> 41442 | R65: =ThongkeTT!I15 -> 189293501000 | S65: =-ThongkeTT!J15 -> -265997133000 | T65: =R65+S65 -> -76703632000
A66: BẢN TIN THỊ TRƯỜNG | O66: Trang 1 | Q66: =ThongkeTT!A16 -> 41439 | R66: =ThongkeTT!I16 -> 121904996000 | S66: =-ThongkeTT!J16 -> -271956873000 | T66: =R66+S66 -> -150051877000
Q67: =ThongkeTT!A17 -> 41438 | R67: =ThongkeTT!I17 -> 136195468000 | S67: =-ThongkeTT!J17 -> -206420874000 | T67: =R67+S67 -> -70225406000
Q68: =ThongkeTT!A18 -> 41437 | R68: =ThongkeTT!I18 -> 127223018000 | S68: =-ThongkeTT!J18 -> -322011248000 | T68: =R68+S68 -> -194788230000
Q69: =ThongkeTT!A19 -> 41436 | R69: =ThongkeTT!I19 -> 592727418000 | S69: =-ThongkeTT!J19 -> -192611505000 | T69: =R69+S69 -> 400115913000
Q70: =ThongkeTT!A20 -> 41435 | R70: =ThongkeTT!I20 -> 88832457000 | S70: =-ThongkeTT!J20 -> -203326127000 | T70: =R70+S70 -> -114493670000
Q71: =ThongkeTT!A21 -> 41432 | R71: =ThongkeTT!I21 -> 157219218000 | S71: =-ThongkeTT!J21 -> -190965709000 | T71: =R71+S71 -> -33746491000

Sheet PTKT_Page2
O5: PHÂN TÍCH KỸ THUẬT
J6: VN-INDEX
B28: Minor Trend | D28: Short term trend | F28: Intermediate Trend
B29: Tăng | D29: Giảm | F29: Trung tính
B30: Ghi chú:
B31: Minor Trend là xu hướng từ 5 ngày đến 10 ngày
B32: short term trend là xu hướng từ 10 ngày đến 3 tuần
B33: Intermediate trend là xu hướng từ 3 tuần đến 6 tháng
J34: HNX-INDEX
B58: Minor Trend | D58: Short term trend | F58: Intermediate Trend
B59: Trung tính | D59: Giảm | F59: Tăng
B60: Ghi chú:
B61: Minor Trend là xu hướng từ 5 ngày đến 10 ngày
B62: short term trend là xu hướng từ 10 ngày đến 3 tuần
B63: Intermediate trend là xu hướng từ 3 tuần đến 6 tháng
A65: BẢN TIN THỊ TRƯỜNG | O65: Trang 3

Sheet TVDT1
O5: KHUYẾN NGHỊ ĐẦU TƯ
G7: MÃ CỔ PHIẾU: SII | O7: MUA
B32: Khuyến nghị đã đóng
B33: Mã | C33: Ngày mở khuyến nghị | D33: Ngày đóng khuyến nghị | E33: Khuyến nghị | F33: Giá khuyến nghị | G33: Giá mục tiêu | H33: Giá cắt lỗ | I33: Giá đóng khuyến nghị | J33: Hiệu suất (%)
B34: GMD | C34: 12/12/2012 | D34: 21/12/2012 | E34: Mua | F34: 17.6 | G34: 19.5 | H34: 16.2 | I34: 17.4 | J34: =100*(I34-F34)/F34 -> -1.1363636
B35: OGC | C35: 17/12/2012 | D35: 21/12/2012 | E35: Mua | F35: 9.3 | G35: 10.4 | H35: 8.8 | I35: 9.6 | J35: =100*(I35-F35)/F35 -> 3.2258065
B36: LSS | C36: 26/12/2012 | D36: 02/01/2013 | E36: Mua | F36: 14.3 | G36: 16.5 | H36: 13.7 | I36: 15.8 | J36: =100*(I36-F36)/F36 -> 10.48951
B37: NTL | C37: 26/12/2012 | D37: 03/01/2013 | E37: Mua | F37: 15.7 | G37: 19 | H37: 14.8 | I37: 16.5 | J37: =100*(I37-F37)/F37 -> 5.0955414
B38: KSD | C38: 15/01/2013 | D38: 18/01/2013 | E38: Mua | F38: 2.2 | G38: 2.8 | H38: 2 | I38: 2.5 | J38: =100*(I38-F38)/F38 -> 13.636364
B39: DRC | C39: 04/02/2013 | D39: 07/02/2013 | E39: Mua | F39: 33.8 | G39: 40 | H39: 32 | I39: 41.5 | J39: =100*(I39-F39)/F39 -> 22.781065
B40: PGC | C40: 06/02/2013 | D40: 21/02/2013 | E40: Mua | F40: 9.6 | G40: 14 | H40: 8.9 | I40: 10.4 | J40: =100*(I40-F40)/F40 -> 8.3333333
B43: Khuyến nghị đang mở
B44: Mã | C44: Ngày mở khuyến nghị | D44: Ngày đóng khuyến nghị | E44: Khuyến nghị | F44: Giá khuyến nghị | G44: Giá mục tiêu | H44: Giá cắt lỗ | I44: Giá hiện tại | J44: Hiệu suất tạm tính (%)
B45: SII | C45: 09/04/2013 | E45: Mua | F45: 15.2 | G45: 18 | H45: 14.5 | I45: 15.4 | J45: =100*(I45-F45)/F45 -> 1.3157895
A62: BẢN TIN THỊ TRƯỜNG | N62: Trang 3

Sheet TVDT1 (2)
O5: KHUYẾN NGHỊ ĐẦU TƯ
G7: MÃ CỔ PHIẾU: KLS | O7: MUA
G30: MÃ CỔ PHIẾU: OGC | O30: MUA
A64: BẢN TIN THỊ TRƯỜNG | N64: Trang 3

Sheet TVDT2
O5: KHUYẾN NGHỊ ĐẦU TƯ
B6: Khuyến nghị đã đóng
B7: Mã | C7: Ngày mở khuyến nghị | D7: Ngày đóng khuyến nghị | E7: Khuyến nghị | F7: Giá khuyến nghị | G7: Giá mục tiêu | H7: Giá cắt lỗ | I7: Giá đóng khuyến nghị | J7: Hiệu suất (%)
B8: GMD | C8: 12/12/2012 | D8: 21/12/2012 | E8: Mua | F8: 17.6 | G8: 19.5 | H8: 16.2 | I8: 17.4 | J8: =100*(I8-F8)/F8 -> -1.1363636
B9: OGC | C9: 17/12/2012 | D9: 21/12/2012 | E9: Mua | F9: 9.3 | G9: 10.4 | H9: 8.8 | I9: 9.6 | J9: =100*(I9-F9)/F9 -> 3.2258065
B10: LSS | C10: 26/12/2012 | D10: 02/01/2013 | E10: Mua | F10: 14.3 | G10: 16.5 | H10: 13.7 | I10: 15.8 | J10: =100*(I10-F10)/F10 -> 10.48951
B11: NTL | C11: 26/12/2012 | D11: 03/01/2013 | E11: Mua | F11: 15.7 | G11: 19 | H11: 14.8 | I11: 16.5 | J11: =100*(I11-F11)/F11 -> 5.0955414
B12: KSD | C12: 15/01/2013 | D12: 18/01/2013 | E12: Mua | F12: 2.2 | G12: 2.8 | H12: 2 | I12: 2.5 | J12: =100*(I12-F12)/F12 -> 13.636364
B13: DRC | C13: 04/02/2013 | D13: 07/02/2013 | E13: Mua | F13: 33.8 | G13: 40 | H13: 32 | I13: 41.5 | J13: =100*(I13-F13)/F13 -> 22.781065
B14: PGC | C14: 06/02/2013 | D14: 21/02/2013 | E14: Mua | F14: 9.6 | G14: 14 | H14: 8.9 | I14: 10.4 | J14: =100*(I14-F14)/F14 -> 8.3333333
B15: SII | C15: 09/04/2013 | D15: 12/04/2013 | E15: Mua | F15: 15.2 | G15: 18 | H15: 14.5 | I15: 15.1 | J15: =100*(I15-F15)/F15 -> -0.65789474
B16: KLS | C16: 27/05/2013 | D16: 17/06/2013 | E16: Mua | F16: 9 | G16: 11.5 | H16: 8.5 | I16: 8.9 | J16: =100*(I16-F16)/F16 -> -1.1111111
B17: OGC | C17: 27/05/2013 | D17: 17/06/2013 | E17: Mua | F17: 12.5 | G17: 16 | H17: 11.8 | I17: 11.8 | J17: =100*(I17-F17)/F17 -> -5.6
A64: BẢN TIN THỊ TRƯỜNG | K64: Trang 3 | O64: Trang 3

Sheet Loc FA
N5: LỌC CỔ PHIẾU
B16: TOP CỔ PHIẾU CÓ TĂNG TRƯỞNG LỢI NHUẬN Q1.2013 SO CÙNG KỲ CAO NHẤT
B18: Mã CK | C18: LN Q1.2013 | D18: LN Q1 YOY | E18: KLGD TB | F18: EPS | G18: BV | H18: ROA | I18: ROE | J18: P/E | K18: Công nợ/VCSH | L18: Beta | M18: PB | N18: Kế hoạch cổ tức 2013
B19: SDA | C19: 1.957381 | D19: 96.869048 | E19: 9807.591 | F19: 197.5012 | G19: 14632.31 | H19: 0.007001761 | I19: 0.01360569 | J19: 22.784672 | K19: 0.9697037 | L19: 0.79 | M19: 0.30753859 | N19: 500
B20: KDC | C20: 32.636887 | D20: 89.658019 | E20: 29134.09 | F20: 2448.25 | G20: 27514.53 | H20: 0.06843603 | I20: 0.09209888 | J20: 19.115695 | K20: 0.3202932 | L20: 0.36 | M20: 1.7009195 | N20: 2000
B21: PGC | C21: 20.890754 | D21: 46.478987 | E21: 490948.2 | F21: 1615.809 | G21: 12478.05 | H21: 0.05613407 | I21: 0.1350467 | J21: 5.5699653 | K21: 1.506185 | L21: 1.19 | M21: 0.72126654 | N21: 1200
B22: SDE | C22: 0.94362099 | D22: 30.454033 | E22: 6819.818 | F22: 1822.302 | G22: 14678.46 | H22: 0.04193553 | I22: 0.1306049 | J22: 3.6217927 | K22: 2.335527 | L22: 1.02 | M22: 0.44963845 | N22: 1000
B23: NKG | C23: 25.271633 | D23: 20.236666 | E23: 105403.2 | F23: -3516.047 | G23: 10141.78 | H23: -0.0498745 | I23: -0.3178319 | J23: -3.7826571 | K23: 6.562294 | L23: -0.11 | M23: 1.3114069 | N23: 0
B24: HTL | C24: 0.53486783 | D24: 18.828928 | E24: 209.0909 | F24: 487.3191 | G24: 11104.91 | H24: 0.02780021 | I24: 0.04514506 | J24: 14.1591 | K24: 0.766969 | L24: 0.39 | M24: 0.62134677 | N24: 500
B25: RIC | C25: 4.027802 | D25: 18.180009 | E25: 1200.455 | F25: 177.6594 | G25: 14906.8 | H25: 0.009772088 | I25: 0.01194749 | J25: 31.520989 | K25: 0.2411331 | L25: 0.29 | M25: 0.37566748 | N25: 0
B26: VIP | C26: 112.08788 | D26: 17.588371 | E26: 1028581 | F26: 2694.186 | G26: 16481.2 | H26: 0.07942349 | I26: 0.1788301 | J26: 2.7466552 | K26: 1.060901 | L26: 1.86 | M26: 0.44899643 | N26: 0
B27: PSI | C27: 3.2580813 | D27: 16.147796 | E27: 562292.8 | F27: 64.99801 | G27: 9943.688 | H27: 0.00363038 | I27: 0.006554943 | J27: 103.08008 | K27: 0.8560611 | L27: 1.86 | M27: 0.67379427 | N27: 0
B28: PDC | C28: 1.3640805 | D28: 16.051006 | E28: 8154.545 | F28: 443.9906 | G28: 8499.481 | H28: 0.03591969 | I28: 0.05304918 | J28: 6.9821298 | K28: 0.427401 | L28: 0.78 | M28: 0.36472815 | N28: 0
O29: -0.42103877
B30: TOP CỔ PHIẾU CÓ KQKD Q1.2013 HOÀN THÀNH KẾ HOẠCH NĂM 2013 CAO NHẤT
B32: Mã CK | C32: LN Q1.2013 | D32: LN Q1 YOY | E32: KLGD TB | F32: EPS | G32: BV | H32: ROA | I32: ROE | J32: P/E | K32: % hoàn thành kế hoạch LN 2013 | L32: Beta | M32: PB | N32: Kế hoạch cổ tức 2013
B33: PPC | C33: 944.69873 | D33: 6.1179832 | E33: 1538617 | F33: 4489.108 | G33: 15628.58 | H33: 0.1196533 | I33: 0.349663 | J33: 4.9898554 | K33: 2.8166331 | L33: 1.54 | M33: 1.4332716 | N33: 800
B34: PSI | C34: 3.2580813 | D34: 16.147796 | E34: 562292.8 | F34: 64.99801 | G34: 9943.688 | H34: 0.00363038 | I34: 0.006554943 | J34: 103.08008 | K34: 1.620936 | L34: 1.86 | M34: 0.67379427 | N34: 0
B35: PVT | C35: 52.927982 | D35: 0.28966818 | E35: 1947128 | F35: 461.3597 | G35: 11343.76 | H35: 0.01318427 | I35: 0.04187934 | J35: 11.054282 | K35: 1.3571277 | L35: 1.29 | M35: 0.44958638 | N35: 0
B36: NBP | C36: 11.403574 | D36: 1.909075 | E36: 3900 | F36: 2780.314 | G36: 17393.73 | H36: 0.101117 | I36: 0.1641486 | J36: 5.7547457 | K36: 1.1007311 | L36: 0.76 | M36: 0.9198717 | N36: 500
B37: BSI | C37: 2.4134819 | D37: -0.91380422 | E37: 86275.45 | F37: -49.50783 | G37: 7860.801 | H37: -0.003316378 | I37: -0.006176399 | J37: -76.755535 | K37: 1.0632079 | L37: 0.7 | M37: 0.4834113 | N37: 0
B38: SEC | C38: 32.039612 | D38: 0.18797227 | E38: 2262.727 | F38: 4009.811 | G38: 14498.31 | H38: 0.1092798 | I38: 0.2782732 | J38: 4.1647848 | K38: 1.0272399 | L38: 0.29 | M38: 1.1518584 | N38: 1300
B39: SLS | C39: 11.92405 | D39: #N/A | E39: 45.45454 | F39: 7243.805 | G39: 25153.64 | H39: 0.1856671 | I39: 0.2986062 | J39: 3.7549327 | K39: 0.99367086 | L39: 0.04 | M39: 1.0813544 | N39: 1500
B40: MKV | C40: 0.49804213 | D40: 1.7669007 | E40: 1700 | F40: 223.666 | G40: 9383.384 | H40: 0.01820484 | I40: 0.02826076 | J40: 28.166999 | K40: 0.9765532 | L40: 0.87 | M40: 0.67139957 | N40: 0
B41: VIP | C41: 112.08788 | D41: 17.588371 | E41: 1028581 | F41: 2694.186 | G41: 16481.2 | H41: 0.07942349 | I41: 0.1788301 | J41: 2.7466552 | K41: 0.94580946 | L41: 1.86 | M41: 0.44899643 | N41: 0
B42: ITC | C42: 6.6228576 | D42: 0.89766693 | E42: 571133.6 | F42: 130.6847 | G42: 25717.83 | H42: 0.00329222 | I42: 0.005070875 | J42: 58.155239 | K42: 0.88304768 | L42: 1.16 | M42: 0.29551482 | N42: 0
B44: TOP CỔ PHIẾU CÓ TỶ LỆ SỞ HỮU NĐTNN CAO NHẤT
B46: Mã CK | C46: LN Q1.2013 | D46: LN Q1 YOY | E46: KLGD TB | F46: EPS | G46: BV | H46: ROA | I46: ROE | J46: P/E | K46: P/E Ngành | L46: Beta | M46: KH Cổ tức 2013 | N46: Tỷ lệ sở hữu NĐTNN
B47: BBC | C47: 4.4134059 | D47: 1.507617 | E47: 6331.364 | F47: 1820.606 | G47: 37836.34 | H47: 0.03876427 | I47: 0.05051875 | J47: 12.193742 | K47: 12.77 | L47: 0.82 | M47: 0 | N47: 0.49
B48: JVC | C48: 7.0801754 | D48: 0.76562979 | E48: 165850.5 | F48: 4674.152 | G48: 19890.58 | H48: 0.141224 | I48: 0.2765598 | J48: 3.9793314 | K48: 7.66 | L48: 0.99 | M48: 0 | N48: 0.49
B49: FPT | C49: 474.68097 | D49: 0.39353834 | E49: 286977.3 | F49: 5712.724 | G49: 23841.03 | H49: 0.1085235 | I49: 0.2497581 | J49: 7.2469806 | K49: 6.97 | L49: 1.01 | M49: 2000 | N49: 0.49
B50: GBS | C50: 0 | D50: - | E50: 174759.1 | F50: -514.5312 | G50: 11230.2 | H50: -0.01531005 | I50: -0.04465106 | J50: -3.3039785 | K50: #N/A | L50: 1.89 | M50: 0 | N50: 0.49
B51: TCR | C51: -44.262962 | D51: -1.2851297 | E51: 5101.818 | F51: -522.7973 | G51: 14344.23 | H51: -0.01423169 | I51: -0.03528759 | J51: -6.886034 | K51: 44.37 | L51: 0.27 | M51: 0 | N51: 0.49
B52: TKU | C52: 9.7977373 | D52: 1.7763659 | E52: 609.7727 | F52: 981.6645 | G52: 11073.62 | H52: 0.0388799 | I52: 0.09421764 | J52: 6.3158034 | K52: 44.37 | L52: 1.87 | M52: 0 | N52: 0.49
B53: SSI | C53: 160.06244 | D53: -0.13531178 | E53: 1778575 | F53: 1258.518 | G53: 15169.32 | H53: 0.05350592 | I53: 0.08548395 | J53: 13.825786 | K53: #N/A | L53: 1.2 | M53: 1000 | N53: 0.49
B54: VSC | C54: 45.272669 | D54: -0.17954568 | E54: 43040 | F54: 9193.872 | G54: 32434.18 | H54: 0.2119762 | I54: 0.2946191 | J54: 4.5682602 | K54: 9.97 | L54: 0.67 | M54: 0 | N54: 0.49
B55: DHG | C55: 118.71979 | D55: 0.16164174 | E55: 13053.64 | F55: 7753.031 | G55: 27591.74 | H55: 0.21375 | I55: 0.3046634 | J55: 11.221418 | K55: 7.66 | L55: 0.52 | M55: 2500 | N55: 0.49
B56: PNJ | C56: 65.940053 | D56: -0.29400371 | E56: 33252.27 | F56: 3090.437 | G56: 18151.92 | H56: 0.08104476 | I56: 0.1790245 | J56: 8.2512603 | K56: 5.95 | L56: 0.56 | M56: 2000 | N56: 0.49
A61: BẢN TIN THỊ TRƯỜNG | N61: Trang 3

Sheet TKGD_Page3
R4: % | S4: GTGD
M5: THỐNG KÊ GIAO DỊCH | P5: 304 | Q5: =Nhandinh_Page1!B49 -> Công nghệ Thông tin | R5: =Nhandinh_Page1!D49 -> 0.011281433 | S5: =SUMIF(GDNganh!$AH$37:$AH$5000,Q5,GDNganh!$AG$37:$AG$4999)/10^9 -> 72.377437
P6: 169 | Q6: =Nhandinh_Page1!B50 -> Công nghiệp | R6: =Nhandinh_Page1!D50 -> 0.0024465482 | S6: =SUMIF(GDNganh!$AH$37:$AH$5000,Q6,GDNganh!$AG$37:$AG$4999)/10^9 -> 136.62956
B7: KLGD và VN-Index trong phiên | I7: KLGD và HNX-Index trong phiên | P7: 141 | Q7: Dầu khí | R7: =Nhandinh_Page1!D51 -> -0.00021204411 | S7: =SUMIF(GDNganh!$AH$37:$AH$5000,Q7,GDNganh!$AG$37:$AG$4999)/10^9 -> 51.267175
P8: 239 | Q8: =Nhandinh_Page1!B52 -> Dịch vụ Tiêu dùng | R8: =Nhandinh_Page1!D52 -> 0.0087646077 | S8: =SUMIF(GDNganh!$AH$37:$AH$5000,Q8,GDNganh!$AG$37:$AG$4999)/10^9 -> 24.929428
P9: 230 | Q9: =Nhandinh_Page1!B53 -> Dược phẩm và Y tế | R9: =Nhandinh_Page1!D53 -> 0.0033581195 | S9: =SUMIF(GDNganh!$AH$37:$AH$5000,Q9,GDNganh!$AG$37:$AG$4999)/10^9 -> 7.842146
P10: 200 | Q10: =Nhandinh_Page1!B54 -> Hàng Tiêu dùng | R10: =Nhandinh_Page1!D54 -> 0.00048303623 | S10: =SUMIF(GDNganh!$AH$37:$AH$5000,Q10,GDNganh!$AG$37:$AG$4999)/10^9 -> 146.07956
P11: 324 | Q11: =Nhandinh_Page1!B55 -> Ngân hàng | R11: =Nhandinh_Page1!D55 -> -0.00076564349 | S11: =SUMIF(GDNganh!$AH$37:$AH$5000,Q11,GDNganh!$AG$37:$AG$4999)/10^9 -> 39.843372
P12: 146 | Q12: =Nhandinh_Page1!B56 -> Nguyên vật liệu | R12: =Nhandinh_Page1!D56 -> -0.0024199403 | S12: =SUMIF(GDNganh!$AH$37:$AH$5000,Q12,GDNganh!$AG$37:$AG$4999)/10^9 -> 86.656998
P13: 278 | Q13: =Nhandinh_Page1!B57 -> Tài chính | R13: =Nhandinh_Page1!D57 -> -0.0027151016 | S13: =SUMIF(GDNganh!$AH$37:$AH$5000,Q13,GDNganh!$AG$37:$AG$4999)/10^9 -> 355.54164
P14: 270 | Q14: =Nhandinh_Page1!B58 -> Tiện ích Cộng đồng | R14: =Nhandinh_Page1!D58 -> 0.00051736881 | S14: =SUMIF(GDNganh!$AH$37:$AH$5000,Q14,GDNganh!$AG$37:$AG$4999)/10^9 -> 68.111312
P15: 263 | Q15: =Nhandinh_Page1!B59 -> VN - Index | R15: =Nhandinh_Page1!D59 -> -0.00026674874
P16: HNX | Q16: =Nhandinh_Page1!B60 -> HNX - Index | R16: =Nhandinh_Page1!D60 -> 0
P20: MarketCapIndex | R20: % | S20: GTGD
P21: 1 | Q21: Large Cap Index | R21: =GDNganh!B14/GDNganh!C14-1 -> -0.024305578 | S21: =SUMIF(GDNganh!$C$37:$C$4999,TKGD_Page3!P21,GDNganh!$D$37:$D$4999)/10^9 -> 388.55718
P22: 2 | Q22: Mid Cap Index | R22: =GDNganh!B15/GDNganh!C15-1 -> -0.024621926 | S22: =SUMIF(GDNganh!$C$37:$C$4999,TKGD_Page3!P22,GDNganh!$D$37:$D$4999)/10^9 -> 423.4484
P23: 3 | Q23: Small Cap Index | R23: =GDNganh!B16/GDNganh!C16-1 -> -0.023305434 | S23: =SUMIF(GDNganh!$C$37:$C$4999,TKGD_Page3!P23,GDNganh!$D$37:$D$4999)/10^9 -> 337.53327
B24: Biến động giá phân theo nhóm Ngành | I24: Giá trị giao dịch phân theo nhóm Ngành | P24: 4 | Q24: Micro Cap Index | R24: =GDNganh!B17/GDNganh!C17-1 -> -0.014397491 | S24: =SUMIF(GDNganh!$C$37:$C$4999,TKGD_Page3!P24,GDNganh!$D$37:$D$4999)/10^9 -> 144.81952
R25: Von hóa 1 | S25: Von hóa 2 | T25: Von hóa 3 | U25: Von hóa 4
P26: ID | Q26: updateddate | R26: Large Cap Index | S26: Mid Cap Index | T26: Small Cap Index | U26: Micro Cap Index
P27: 2 | Q27: {=TRANSPOSE(GDNganh!B3:AE3)} -> 41418 | R27: =VLOOKUP(R$25,GDNganh!$A$14:$AE$17,$P27,0) -> 209.0638 | S27: =VLOOKUP(S$25,GDNganh!$A$14:$AE$17,$P27,0) -> 222.41 | T27: =VLOOKUP(T$25,GDNganh!$A$14:$AE$17,$P27,0) -> 206.9984 | U27: =VLOOKUP(U$25,GDNganh!$A$14:$AE$17,$P27,0) -> 199.2017 | V27: =R27/$R$27 -> 1 | W27: =S27/$R$27 -> 1.0638379 | X27: =T27/$R$27 -> 0.99012072 | Y27: =U27/$R$27 -> 0.95282732
P28: 3 | Q28: 41421 | R28: =VLOOKUP(R$25,GDNganh!$A$14:$AE$17,$P28,0) -> 214.2718 | S28: =VLOOKUP(S$25,GDNganh!$A$14:$AE$17,$P28,0) -> 228.0244 | T28: =VLOOKUP(T$25,GDNganh!$A$14:$AE$17,$P28,0) -> 211.9377 | U28: =VLOOKUP(U$25,GDNganh!$A$14:$AE$17,$P28,0) -> 202.1116 | V28: =R28/$R$27 -> 1.0249111 | W28: =S28/$R$27 -> 1.0906929 | X28: =T28/$R$27 -> 1.0137465 | Y28: =U28/$R$27 -> 0.96674604
P29: 4 | Q29: 41422 | R29: =VLOOKUP(R$25,GDNganh!$A$14:$AE$17,$P29,0) -> 215.6577 | S29: =VLOOKUP(S$25,GDNganh!$A$14:$AE$17,$P29,0) -> 230.4892 | T29: =VLOOKUP(T$25,GDNganh!$A$14:$AE$17,$P29,0) -> 215.7443 | U29: =VLOOKUP(U$25,GDNganh!$A$14:$AE$17,$P29,0) -> 203.6512 | V29: =R29/$R$27 -> 1.0315401 | W29: =S29/$R$27 -> 1.1024826 | X29: =T29/$R$27 -> 1.0319544 | Y29: =U29/$R$27 -> 0.9741103
P30: 5 | Q30: 41423 | R30: =VLOOKUP(R$25,GDNganh!$A$14:$AE$17,$P30,0) -> 215.192 | S30: =VLOOKUP(S$25,GDNganh!$A$14:$AE$17,$P30,0) -> 230.1741 | T30: =VLOOKUP(T$25,GDNganh!$A$14:$AE$17,$P30,0) -> 216.2266 | U30: =VLOOKUP(U$25,GDNganh!$A$14:$AE$17,$P30,0) -> 204.7253 | V30: =R30/$R$27 -> 1.0293126 | W30: =S30/$R$27 -> 1.1009754 | X30: =T30/$R$27 -> 1.0342613 | Y30: =U30/$R$27 -> 0.97924796
P31: 6 | Q31: 41424 | R31: =VLOOKUP(R$25,GDNganh!$A$14:$AE$17,$P31,0) -> 217.8498 | S31: =VLOOKUP(S$25,GDNganh!$A$14:$AE$17,$P31,0) -> 232.7283 | T31: =VLOOKUP(T$25,GDNganh!$A$14:$AE$17,$P31,0) -> 219.3232 | U31: =VLOOKUP(U$25,GDNganh!$A$14:$AE$17,$P31,0) -> 206.557 | V31: =R31/$R$27 -> 1.0420254 | W31: =S31/$R$27 -> 1.1131927 | X31: =T31/$R$27 -> 1.0490731 | Y31: =U31/$R$27 -> 0.9880094
P32: 7 | Q32: 41425 | R32: =VLOOKUP(R$25,GDNganh!$A$14:$AE$17,$P32,0) -> 216.1004 | S32: =VLOOKUP(S$25,GDNganh!$A$14:$AE$17,$P32,0) -> 231.8116 | T32: =VLOOKUP(T$25,GDNganh!$A$14:$AE$17,$P32,0) -> 220.1896 | U32: =VLOOKUP(U$25,GDNganh!$A$14:$AE$17,$P32,0) -> 206.6778 | V32: =R32/$R$27 -> 1.0336577 | W32: =S32/$R$27 -> 1.1088079 | X32: =T32/$R$27 -> 1.0532172 | Y32: =U32/$R$27 -> 0.98858722
P33: 8 | Q33: 41428 | R33: =VLOOKUP(R$25,GDNganh!$A$14:$AE$17,$P33,0) -> 215.519 | S33: =VLOOKUP(S$25,GDNganh!$A$14:$AE$17,$P33,0) -> 230.8133 | T33: =VLOOKUP(T$25,GDNganh!$A$14:$AE$17,$P33,0) -> 220.8178 | U33: =VLOOKUP(U$25,GDNganh!$A$14:$AE$17,$P33,0) -> 206.1805 | V33: =R33/$R$27 -> 1.0308767 | W33: =S33/$R$27 -> 1.1040328 | X33: =T33/$R$27 -> 1.0562221 | Y33: =U33/$R$27 -> 0.98620852
P34: 9 | Q34: 41429 | R34: =VLOOKUP(R$25,GDNganh!$A$14:$AE$17,$P34,0) -> 212.8628 | S34: =VLOOKUP(S$25,GDNganh!$A$14:$AE$17,$P34,0) -> 225.7347 | T34: =VLOOKUP(T$25,GDNganh!$A$14:$AE$17,$P34,0) -> 217.2578 | U34: =VLOOKUP(U$25,GDNganh!$A$14:$AE$17,$P34,0) -> 205.363 | V34: =R34/$R$27 -> 1.0181715 | W34: =S34/$R$27 -> 1.0797407 | X34: =T34/$R$27 -> 1.0391938 | Y34: =U34/$R$27 -> 0.98229823
P35: 10 | Q35: 41430 | R35: =VLOOKUP(R$25,GDNganh!$A$14:$AE$17,$P35,0) -> 214.8053 | S35: =VLOOKUP(S$25,GDNganh!$A$14:$AE$17,$P35,0) -> 226.8667 | T35: =VLOOKUP(T$25,GDNganh!$A$14:$AE$17,$P35,0) -> 219.5242 | U35: =VLOOKUP(U$25,GDNganh!$A$14:$AE$17,$P35,0) -> 206.2619 | V35: =R35/$R$27 -> 1.0274629 | W35: =S35/$R$27 -> 1.0851553 | X35: =T35/$R$27 -> 1.0500345 | Y35: =U35/$R$27 -> 0.98659787
P36: 11 | Q36: 41431 | R36: =VLOOKUP(R$25,GDNganh!$A$14:$AE$17,$P36,0) -> 217.2391 | S36: =VLOOKUP(S$25,GDNganh!$A$14:$AE$17,$P36,0) -> 230.4308 | T36: =VLOOKUP(T$25,GDNganh!$A$14:$AE$17,$P36,0) -> 222.4308 | U36: =VLOOKUP(U$25,GDNganh!$A$14:$AE$17,$P36,0) -> 207.1055 | V36: =R36/$R$27 -> 1.0391043 | W36: =S36/$R$27 -> 1.1022033 | X36: =T36/$R$27 -> 1.0639374 | Y36: =U36/$R$27 -> 0.990633
P37: 12 | Q37: 41432 | R37: =VLOOKUP(R$25,GDNganh!$A$14:$AE$17,$P37,0) -> 220.5055 | S37: =VLOOKUP(S$25,GDNganh!$A$14:$AE$17,$P37,0) -> 232.1191 | T37: =VLOOKUP(T$25,GDNganh!$A$14:$AE$17,$P37,0) -> 222.3508 | U37: =VLOOKUP(U$25,GDNganh!$A$14:$AE$17,$P37,0) -> 207.7715 | V37: =R37/$R$27 -> 1.0547283 | W37: =S37/$R$27 -> 1.1102788 | X37: =T37/$R$27 -> 1.0635548 | Y37: =U37/$R$27 -> 0.99381863
P38: 13 | Q38: 41435 | R38: =VLOOKUP(R$25,GDNganh!$A$14:$AE$17,$P38,0) -> 219.3303 | S38: =VLOOKUP(S$25,GDNganh!$A$14:$AE$17,$P38,0) -> 230.602 | T38: =VLOOKUP(T$25,GDNganh!$A$14:$AE$17,$P38,0) -> 221.2907 | U38: =VLOOKUP(U$25,GDNganh!$A$14:$AE$17,$P38,0) -> 207.8588 | V38: =R38/$R$27 -> 1.049107 | W38: =S38/$R$27 -> 1.1030221 | X38: =T38/$R$27 -> 1.0584841 | Y38: =U38/$R$27 -> 0.99423621
P39: 14 | Q39: 41436 | R39: =VLOOKUP(R$25,GDNganh!$A$14:$AE$17,$P39,0) -> 218.2354 | S39: =VLOOKUP(S$25,GDNganh!$A$14:$AE$17,$P39,0) -> 229.4944 | T39: =VLOOKUP(T$25,GDNganh!$A$14:$AE$17,$P39,0) -> 220.8475 | U39: =VLOOKUP(U$25,GDNganh!$A$14:$AE$17,$P39,0) -> 208.121 | V39: =R39/$R$27 -> 1.0438699 | W39: =S39/$R$27 -> 1.0977242 | X39: =T39/$R$27 -> 1.0563641 | Y39: =U39/$R$27 -> 0.99549037
P40: 15 | Q40: 41437 | R40: =VLOOKUP(R$25,GDNganh!$A$14:$AE$17,$P40,0) -> 215.9557 | S40: =VLOOKUP(S$25,GDNganh!$A$14:$AE$17,$P40,0) -> 230.0435 | T40: =VLOOKUP(T$25,GDNganh!$A$14:$AE$17,$P40,0) -> 223.0611 | U40: =VLOOKUP(U$25,GDNganh!$A$14:$AE$17,$P40,0) -> 208.6475 | V40: =R40/$R$27 -> 1.0329655 | W40: =S40/$R$27 -> 1.1003507 | X40: =T40/$R$27 -> 1.0669523 | Y40: =U40/$R$27 -> 0.99800874
B41: Chuỗi Index theo nhóm vốn hóa | I41: Giá trị giao dịch theo nhóm vốn hóa | P41: 16 | Q41: 41438 | R41: =VLOOKUP(R$25,GDNganh!$A$14:$AE$17,$P41,0) -> 214.9244 | S41: =VLOOKUP(S$25,GDNganh!$A$14:$AE$17,$P41,0) -> 229.3149 | T41: =VLOOKUP(T$25,GDNganh!$A$14:$AE$17,$P41,0) -> 224.4134 | U41: =VLOOKUP(U$25,GDNganh!$A$14:$AE$17,$P41,0) -> 209.3725 | V41: =R41/$R$27 -> 1.0280326 | W41: =S41/$R$27 -> 1.0968656 | X41: =T41/$R$27 -> 1.0734206 | Y41: =U41/$R$27 -> 1.0014766
P42: 17 | Q42: 41439 | R42: =VLOOKUP(R$25,GDNganh!$A$14:$AE$17,$P42,0) -> 212.4047 | S42: =VLOOKUP(S$25,GDNganh!$A$14:$AE$17,$P42,0) -> 228.6736 | T42: =VLOOKUP(T$25,GDNganh!$A$14:$AE$17,$P42,0) -> 225.0114 | U42: =VLOOKUP(U$25,GDNganh!$A$14:$AE$17,$P42,0) -> 210.0367 | V42: =R42/$R$27 -> 1.0159803 | W42: =S42/$R$27 -> 1.0937982 | X42: =T42/$R$27 -> 1.076281 | Y42: =U42/$R$27 -> 1.0046536
P43: 18 | Q43: 41442 | R43: =VLOOKUP(R$25,GDNganh!$A$14:$AE$17,$P43,0) -> 208.5261 | S43: =VLOOKUP(S$25,GDNganh!$A$14:$AE$17,$P43,0) -> 222.3733 | T43: =VLOOKUP(T$25,GDNganh!$A$14:$AE$17,$P43,0) -> 218.6179 | U43: =VLOOKUP(U$25,GDNganh!$A$14:$AE$17,$P43,0) -> 207.3172 | V43: =R43/$R$27 -> 0.99742806 | W43: =S43/$R$27 -> 1.0636624 | X43: =T43/$R$27 -> 1.0456994 | Y43: =U43/$R$27 -> 0.99164561
P44: 19 | Q44: 41443 | R44: =VLOOKUP(R$25,GDNganh!$A$14:$AE$17,$P44,0) -> 208.7961 | S44: =VLOOKUP(S$25,GDNganh!$A$14:$AE$17,$P44,0) -> 222.8811 | T44: =VLOOKUP(T$25,GDNganh!$A$14:$AE$17,$P44,0) -> 217.153 | U44: =VLOOKUP(U$25,GDNganh!$A$14:$AE$17,$P44,0) -> 207.9716 | V44: =R44/$R$27 -> 0.99871953 | W44: =S44/$R$27 -> 1.0660913 | X44: =T44/$R$27 -> 1.0386925 | Y44: =U44/$R$27 -> 0.99477576
P45: 20 | Q45: 41444 | R45: =VLOOKUP(R$25,GDNganh!$A$14:$AE$17,$P45,0) -> 210.8258 | S45: =VLOOKUP(S$25,GDNganh!$A$14:$AE$17,$P45,0) -> 222.9078 | T45: =VLOOKUP(T$25,GDNganh!$A$14:$AE$17,$P45,0) -> 218.7872 | U45: =VLOOKUP(U$25,GDNganh!$A$14:$AE$17,$P45,0) -> 208.9139 | V45: =R45/$R$27 -> 1.008428 | W45: =S45/$R$27 -> 1.066219 | X45: =T45/$R$27 -> 1.0465092 | Y45: =U45/$R$27 -> 0.99928299
P46: 21 | Q46: 41445 | R46: =VLOOKUP(R$25,GDNganh!$A$14:$AE$17,$P46,0) -> 209.2478 | S46: =VLOOKUP(S$25,GDNganh!$A$14:$AE$17,$P46,0) -> 220.414 | T46: =VLOOKUP(T$25,GDNganh!$A$14:$AE$17,$P46,0) -> 216.1498 | U46: =VLOOKUP(U$25,GDNganh!$A$14:$AE$17,$P46,0) -> 208.6988 | V46: =R46/$R$27 -> 1.0008801 | W46: =S46/$R$27 -> 1.0542906 | X46: =T46/$R$27 -> 1.033894 | Y46: =U46/$R$27 -> 0.99825412
P47: 22 | Q47: 41446 | R47: =VLOOKUP(R$25,GDNganh!$A$14:$AE$17,$P47,0) -> 208.846 | S47: =VLOOKUP(S$25,GDNganh!$A$14:$AE$17,$P47,0) -> 220.8185 | T47: =VLOOKUP(T$25,GDNganh!$A$14:$AE$17,$P47,0) -> 216.2923 | U47: =VLOOKUP(U$25,GDNganh!$A$14:$AE$17,$P47,0) -> 208.7319 | V47: =R47/$R$27 -> 0.99895821 | W47: =S47/$R$27 -> 1.0562254 | X47: =T47/$R$27 -> 1.0345756 | Y47: =U47/$R$27 -> 0.99841245
P48: 23 | Q48: 41449 | R48: =VLOOKUP(R$25,GDNganh!$A$14:$AE$17,$P48,0) -> 204.6012 | S48: =VLOOKUP(S$25,GDNganh!$A$14:$AE$17,$P48,0) -> 219.2667 | T48: =VLOOKUP(T$25,GDNganh!$A$14:$AE$17,$P48,0) -> 214.3605 | U48: =VLOOKUP(U$25,GDNganh!$A$14:$AE$17,$P48,0) -> 207.5178 | V48: =R48/$R$27 -> 0.97865436 | W48: =S48/$R$27 -> 1.0488028 | X48: =T48/$R$27 -> 1.0253353 | Y48: =U48/$R$27 -> 0.99260513
P49: 24 | Q49: 41450 | R49: =VLOOKUP(R$25,GDNganh!$A$14:$AE$17,$P49,0) -> 197.584 | S49: =VLOOKUP(S$25,GDNganh!$A$14:$AE$17,$P49,0) -> 212.234 | T49: =VLOOKUP(T$25,GDNganh!$A$14:$AE$17,$P49,0) -> 209.0032 | U49: =VLOOKUP(U$25,GDNganh!$A$14:$AE$17,$P49,0) -> 203.8028 | V49: =R49/$R$27 -> 0.94508949 | W49: =S49/$R$27 -> 1.0151638 | X49: =T49/$R$27 -> 0.99971014 | Y49: =U49/$R$27 -> 0.97483543
P50: 25 | Q50: 41451 | R50: =VLOOKUP(R$25,GDNganh!$A$14:$AE$17,$P50,0) -> 197.7804 | S50: =VLOOKUP(S$25,GDNganh!$A$14:$AE$17,$P50,0) -> 213.3678 | T50: =VLOOKUP(T$25,GDNganh!$A$14:$AE$17,$P50,0) -> 208.6736 | U50: =VLOOKUP(U$25,GDNganh!$A$14:$AE$17,$P50,0) -> 204.1793 | V50: =R50/$R$27 -> 0.94602892 | W50: =S50/$R$27 -> 1.020587 | X50: =T50/$R$27 -> 0.99813358 | Y50: =U50/$R$27 -> 0.97663632
P51: 26 | Q51: 41452 | R51: =VLOOKUP(R$25,GDNganh!$A$14:$AE$17,$P51,0) -> 201.8004 | S51: =VLOOKUP(S$25,GDNganh!$A$14:$AE$17,$P51,0) -> 217.2313 | T51: =VLOOKUP(T$25,GDNganh!$A$14:$AE$17,$P51,0) -> 211.3904 | U51: =VLOOKUP(U$25,GDNganh!$A$14:$AE$17,$P51,0) -> 205.5536 | V51: =R51/$R$27 -> 0.9652575 | W51: =S51/$R$27 -> 1.039067 | X51: =T51/$R$27 -> 1.0111287 | Y51: =U51/$R$27 -> 0.98320991
P52: 27 | Q52: 41453 | R52: =VLOOKUP(R$25,GDNganh!$A$14:$AE$17,$P52,0) -> 201.0272 | S52: =VLOOKUP(S$25,GDNganh!$A$14:$AE$17,$P52,0) -> 216.1238 | T52: =VLOOKUP(T$25,GDNganh!$A$14:$AE$17,$P52,0) -> 211.1588 | U52: =VLOOKUP(U$25,GDNganh!$A$14:$AE$17,$P52,0) -> 205.321 | V52: =R52/$R$27 -> 0.9615591 | W52: =S52/$R$27 -> 1.0337696 | X52: =T52/$R$27 -> 1.0100209 | Y52: =U52/$R$27 -> 0.98209733
P53: 28 | Q53: 41456 | R53: =VLOOKUP(R$25,GDNganh!$A$14:$AE$17,$P53,0) -> 200.9303 | S53: =VLOOKUP(S$25,GDNganh!$A$14:$AE$17,$P53,0) -> 213.9317 | T53: =VLOOKUP(T$25,GDNganh!$A$14:$AE$17,$P53,0) -> 210.185 | U53: =VLOOKUP(U$25,GDNganh!$A$14:$AE$17,$P53,0) -> 204.782 | V53: =R53/$R$27 -> 0.96109561 | W53: =S53/$R$27 -> 1.0232843 | X53: =T53/$R$27 -> 1.005363 | Y53: =U53/$R$27 -> 0.97951917
... P55: 30 | Q55: 41458 | R55: =VLOOKUP(R$25,GDNganh!$A$14:$AE$17,$P55,0) -> 203.9201 | S55: =VLOOKUP(S$25,GDNganh!$A$14:$AE$17,$P55,0) -> 217.8828 | T55: =VLOOKUP(T$25,GDNganh!$A$14:$AE$17,$P55,0) -> 213.0078 | U55: =VLOOKUP(U$25,GDNganh!$A$14:$AE$17,$P55,0) -> 205.2568 | V55: =R55/$R$27 -> 0.97539651 | W55: =S55/$R$27 -> 1.0421833 | X55: =T55/$R$27 -> 1.0188651 | Y55: =U55/$R$27 -> 0.98179025
B56: Nhóm vốn hóa được phân loại bởi StoxPlus: | P56: 31 | Q56: 41459 | R56: =VLOOKUP(R$25,GDNganh!$A$14:$AE$17,$P56,0) -> 203.7077 | S56: =VLOOKUP(S$25,GDNganh!$A$14:$AE$17,$P56,0) -> 218.195 | T56: =VLOOKUP(T$25,GDNganh!$A$14:$AE$17,$P56,0) -> 213.9664 | U56: =VLOOKUP(U$25,GDNganh!$A$14:$AE$17,$P56,0) -> 205.7845 | V56: =R56/$R$27 -> 0.97438055 | W56: =S56/$R$27 -> 1.0436766 | X56: =T56/$R$27 -> 1.0234503 | Y56: =U56/$R$27 -> 0.98431436
B57: Large Cap: Vốn hóa trên 5000 tỷ | E57: Small Cap: Vốn hóa từ 500 - 1000 tỷ
B58: Mid Cap: Vốn hóa từ 1000 - 5000 tỷ | E58: Micro Cap: Vốn hóa dưới 500 tỷ | P58: HOSE real-time | S58: ='Real-time Hose'!B2 -> 41459 | T58: HNX real-time | W58: ='Real-time HNX'!B2 -> 41459
P59: time | Q59: Vnindex | R59: KLGD | S59: KLGD lũy kế | T59: time | U59: HNXindex | V59: KLGD | W59: KLGD lũy kế | X59: Giá tham chiếu | Y59: Giá tham chiếu
B60: BẢN TIN THỊ TRƯỜNG | M60: Trang 4 | P60: ='Real-time Hose'!C2 -> 0.38702546 | Q60: ='Real-time Hose'!D2 -> 489.2 | R60: ='Real-time Hose'!E2 -> 1576810 | S60: =R60 -> 1576810 | T60: ='Real-time HNX'!C2 -> 0.37565972 | U60: ='Real-time HNX'!D2 -> 63.06 | V60: ='Real-time HNX'!E2 -> 313100 | W60: =V60 -> 313100 | X60: ='Real-time Hose'!F2 -> 487.35 | Y60: ='Real-time HNX'!F2 -> 63.07
P61: ='Real-time Hose'!C3 -> 0.38734954 | Q61: ='Real-time Hose'!D3 -> 488.94 | R61: ='Real-time Hose'!E3 -> 1685640 | S61: =IF((R61-R60)<0,0,R61-R60) -> 108830 | T61: ='Real-time HNX'!C3 -> 0.37631944 | U61: ='Real-time HNX'!D3 -> 63.06 | V61: ='Real-time HNX'!E3 -> 321500 | W61: =IF((V61-V60)<0,0,V61-V60) -> 8400 | X61: ='Real-time Hose'!F3 -> 487.35 | Y61: ='Real-time HNX'!F3 -> 63.07
P62: ='Real-time Hose'!C4 -> 0.38880787 | Q62: ='Real-time Hose'!D4 -> 488.53 | R62: ='Real-time Hose'!E4 -> 1949180 | S62: =IF((R62-R61)<0,0,R62-R61) -> 263540 | T62: ='Real-time HNX'!C4 -> 0.3777662 | U62: ='Real-time HNX'!D4 -> 62.94 | V62: ='Real-time HNX'!E4 -> 473500 | W62: =IF((V62-V61)<0,0,V62-V61) -> 152000 | X62: ='Real-time Hose'!F4 -> 487.35 | Y62: ='Real-time HNX'!F4 -> 63.07
P63: ='Real-time Hose'!C5 -> 0.38944444 | Q63: ='Real-time Hose'!D5 -> 488.53 | R63: ='Real-time Hose'!E5 -> 1949180 | S63: =IF((R63-R62)<0,0,R63-R62) -> 0 | T63: ='Real-time HNX'!C5 -> 0.37908565 | U63: ='Real-time HNX'!D5 -> 62.95 | V63: ='Real-time HNX'!E5 -> 563786 | W63: =IF((V63-V62)<0,0,V63-V62) -> 90286 | X63: ='Real-time Hose'!F5 -> 487.35 | Y63: ='Real-time HNX'!F5 -> 63.07
P64: ='Real-time Hose'!C6 -> 0.39034722 | Q64: ='Real-time Hose'!D6 -> 488.29 | R64: ='Real-time Hose'!E6 -> 2316790 | S64: =IF((R64-R63)<0,0,R64-R63) -> 367610 | T64: ='Real-time HNX'!C6 -> 0.38048611 | U64: ='Real-time HNX'!D6 -> 63.01 | V64: ='Real-time HNX'!E6 -> 619586 | W64: =IF((V64-V63)<0,0,V64-V63) -> 55800 | X64: ='Real-time Hose'!F6 -> 487.35 | Y64: ='Real-time HNX'!F6 -> 63.07
P65: ='Real-time Hose'!C7 -> 0.39158565 | Q65: ='Real-time Hose'!D7 -> 488.34 | R65: ='Real-time Hose'!E7 -> 2572900 | S65: =IF((R65-R64)<0,0,R65-R64) -> 256110 | T65: ='Real-time HNX'!C7 -> 0.38184028 | U65: ='Real-time HNX'!D7 -> 63.01 | V65: ='Real-time HNX'!E7 -> 678886 | W65: =IF((V65-V64)<0,0,V65-V64) -> 59300 | X65: ='Real-time Hose'!F7 -> 487.35 | Y65: ='Real-time HNX'!F7 -> 63.07
P66: ='Real-time Hose'!C8 -> 0.39222222 | Q66: ='Real-time Hose'!D8 -> 488.34 | R66: ='Real-time Hose'!E8 -> 2572900 | S66: =IF((R66-R65)<0,0,R66-R65) -> 0 | T66: ='Real-time HNX'!C8 -> 0.38325231 | U66: ='Real-time HNX'!D8 -> 63.01 | V66: ='Real-time HNX'!E8 -> 889886 | W66: =IF((V66-V65)<0,0,V66-V65) -> 211000 | X66: ='Real-time Hose'!F8 -> 487.35 | Y66: ='Real-time HNX'!F8 -> 63.07
P67: ='Real-time Hose'!C9 -> 0.3943287 | Q67: ='Real-time Hose'!D9 -> 488.34 | R67: ='Real-time Hose'!E9 -> 3160580 | S67: =IF((R67-R66)<0,0,R67-R66) -> 587680 | T67: ='Real-time HNX'!C9 -> 0.3846875 | U67: ='Real-time HNX'!D9 -> 62.98 | V67: ='Real-time HNX'!E9 -> 953211 | W67: =IF((V67-V66)<0,0,V67-V66) -> 63325 | X67: ='Real-time Hose'!F9 -> 487.35 | Y67: ='Real-time HNX'!F9 -> 63.07
P68: ='Real-time Hose'!C10 -> 0.39501157 | Q68: ='Real-time Hose'!D10 -> 488.34 | R68: ='Real-time Hose'!E10 -> 3160580 | S68: =IF((R68-R67)<0,0,R68-R67) -> 0 | T68: ='Real-time HNX'!C10 -> 0.38746528 | U68: ='Real-time HNX'!D10 -> 62.93 | V68: ='Real-time HNX'!E10 -> 1193863 | W68: =IF((V68-V67)<0,0,V68-V67) -> 240652 | X68: ='Real-time Hose'!F10 -> 487.35 | Y68: ='Real-time HNX'!F10 -> 63.07
P69: ='Real-time Hose'!C11 -> 0.39594907 | Q69: ='Real-time Hose'!D11 -> 488.11 | R69: ='Real-time Hose'!E11 -> 3621630 | S69: =IF((R69-R68)<0,0,R69-R68) -> 461050 | T69: ='Real-time HNX'!C11 -> 0.38885417 | U69: ='Real-time HNX'!D11 -> 62.92 | V69: ='Real-time HNX'!E11 -> 1375563 | W69: =IF((V69-V68)<0,0,V69-V68) -> 181700 | X69: ='Real-time Hose'!F11 -> 487.35 | Y69: ='Real-time HNX'!F11 -> 63.07
P70: ='Real-time Hose'!C12 -> 0.39719907 | Q70: ='Real-time Hose'!D12 -> 488.57 | R70: ='Real-time Hose'!E12 -> 3999140 | S70: =IF((R70-R69)<0,0,R70-R69) -> 377510 | T70: ='Real-time HNX'!C12 -> 0.39016204 | U70: ='Real-time HNX'!D12 -> 62.91 | V70: ='Real-time HNX'!E12 -> 1444763 | W70: =IF((V70-V69)<0,0,V70-V69) -> 69200 | X70: ='Real-time Hose'!F12 -> 487.35 | Y70: ='Real-time HNX'!F12 -> 63.07
P71: ='Real-time Hose'!C13 -> 0.39782407 | Q71: ='Real-time Hose'!D13 -> 489.03 | R71: ='Real-time Hose'!E13 -> 4151170 | S71: =IF((R71-R70)<0,0,R71-R70) -> 152030 | T71: ='Real-time HNX'!C13 -> 0.39162037 | U71: ='Real-time HNX'!D13 -> 62.92 | V71: ='Real-time HNX'!E13 -> 1483163 | W71: =IF((V71-V70)<0,0,V71-V70) -> 38400 | X71: ='Real-time Hose'!F13 -> 487.35 | Y71: ='Real-time HNX'!F13 -> 63.07
P72: ='Real-time Hose'!C14 -> 0.39846065 | Q72: ='Real-time Hose'!D14 -> 489.02 | R72: ='Real-time Hose'!E14 -> 4444100 | S72: =IF((R72-R71)<0,0,R72-R71) -> 292930 | T72: ='Real-time HNX'!C14 -> 0.39298611 | U72: ='Real-time HNX'!D14 -> 62.94 | V72: ='Real-time HNX'!E14 -> 1601363 | W72: =IF((V72-V71)<0,0,V72-V71) -> 118200 | X72: ='Real-time Hose'!F14 -> 487.35 | Y72: ='Real-time HNX'!F14 -> 63.07
... P159: ='Real-time Hose'!C101 -> 0.61341435 | Q159: ='Real-time Hose'!D101 -> 487.22 | R159: ='Real-time Hose'!E101 -> 39430283 | S159: =IF((R159-R158)<0,0,R159-R158) -> 0 | T159: ='Real-time HNX'!C101 -> 0.59373843 | U159: ='Real-time HNX'!D101 -> 63.07 | V159: ='Real-time HNX'!E101 -> 20548185 | W159: =IF((V159-V158)<0,0,V159-V158) -> 707089 | X159: ='Real-time Hose'!F101 -> 487.35 | Y159: ='Real-time HNX'!F101 -> 63.07

Sheet TopGD_Page4
L5: THỐNG KÊ GIAO DICH
B8: HOSE | H8: HNX
B10: Top 5 CP NĐT nước ngoài mua và bán nhiều nhất
B12: TT | C12: Mã CK | D12: KL mua ròng | E12: Mã CK | F12: KL bán ròng | H12: TT | I12: Mã CK | J12: KL mua ròng | K12: Mã CK | L12: KL bán ròng
B13: 1 | C13: =TopGD!A41 -> FPT | D13: =TopGD!C41 -> 662940 | E13: =TopGD!A30 -> VIC | F13: =-TopGD!C30 -> 539420 | H13: 1 | I13: =TopGD!A124 -> PVS | J13: =TopGD!C124 -> 107500 | K13: =TopGD!A113 -> PSI | L13: =-TopGD!C113 -> 40000
B14: 2 | C14: =TopGD!A42 -> PET | D14: =TopGD!C42 -> 151400 | E14: =TopGD!A31 -> HAG | F14: =-TopGD!C31 -> 240200 | H14: 2 | I14: =TopGD!A125 -> PVC | J14: =TopGD!C125 -> 34700 | K14: =TopGD!A114 -> DHL | L14: =-TopGD!C114 -> 24100
B15: 3 | C15: =TopGD!A43 -> MBB | D15: =TopGD!C43 -> 47660 | E15: =TopGD!A32 -> DIG | F15: =-TopGD!C32 -> 227540 | H15: 3 | I15: =TopGD!A126 -> PGS | J15: =TopGD!C126 -> 33100 | K15: =TopGD!A115 -> TIG | L15: =-TopGD!C115 -> 11700
B16: 4 | C16: =TopGD!A44 -> VIP | D16: =TopGD!C44 -> 26340 | E16: =TopGD!A33 -> PPC | F16: =-TopGD!C33 -> 214860 | H16: 4 | I16: =TopGD!A127 -> BVS | J16: =TopGD!C127 -> 30000 | K16: =TopGD!A116 -> VCG | L16: =-TopGD!C116 -> 8000
B17: 5 | C17: =TopGD!A45 -> VNS | D17: =TopGD!C45 -> 16870 | E17: =TopGD!A34 -> ITA | F17: =-TopGD!C34 -> 193110 | H17: 5 | I17: =TopGD!A128 -> KHB | J17: =TopGD!C128 -> 30000 | K17: =TopGD!A117 -> NBC | L17: =-TopGD!C117 -> 1000
B20: Top 5 CP có KLGD lớn nhất trong ngày
B22: Mã | C22: Giá TC (*) | D22: Giá đóng | E22: % | F22: KLGD | H22: Mã | I22: Giá TC (*) | J22: Giá đóng | K22: % | L22: KLGD
B23: =TopGD!A55 -> HQC | C23: =TopGD!C55/100 -> 6.6 | D23: =TopGD!D55/100 -> 6.8 | E23: =D23/C23-1 -> 0.03030303 | F23: =TopGD!E55*10 -> 2206180 | H23: =TopGD!A138 -> FLC | I23: =TopGD!C138/1000 -> 6.6 | J23: =TopGD!D138/1000 -> 6.4 | K23: =J23/I23-1 -> -0.03030303 | L23: =TopGD!E138 -> 5963900
B24: =TopGD!A56 -> VIC | C24: =TopGD!C56/100 -> 63.5 | D24: =TopGD!D56/100 -> 63 | E24: =D24/C24-1 -> -0.0078740157 | F24: =TopGD!E56*10 -> 2022700 | H24: =TopGD!A139 -> PVS | I24: =TopGD!C139/1000 -> 15.9 | J24: =TopGD!D139/1000 -> 15.9 | K24: =J24/I24-1 -> 0 | L24: =TopGD!E139 -> 1680838
B25: =TopGD!A57 -> VHG | C25: =TopGD!C57/100 -> 5.1 | D25: =TopGD!D57/100 -> 5.4 | E25: =D25/C25-1 -> 0.058823529 | F25: =TopGD!E57*10 -> 1930574 | H25: =TopGD!A140 -> PVX | I25: =TopGD!C140/1000 -> 5 | J25: =TopGD!D140/1000 -> 5 | K25: =J25/I25-1 -> 0 | L25: =TopGD!E140 -> 1478900
B26: =TopGD!A58 -> REE | C26: =TopGD!C58/100 -> 26 | D26: =TopGD!D58/100 -> 26.4 | E26: =D26/C26-1 -> 0.015384615 | F26: =TopGD!E58*10 -> 1635640 | H26: =TopGD!A141 -> SCR | I26: =TopGD!C141/1000 -> 6.8 | J26: =TopGD!D141/1000 -> 6.7 | K26: =J26/I26-1 -> -0.014705882 | L26: =TopGD!E141 -> 1470200
B27: =TopGD!A59 -> HAG | C27: =TopGD!C59/100 -> 20.9 | D27: =TopGD!D59/100 -> 20.8 | E27: =D27/C27-1 -> -0.004784689 | F27: =TopGD!E59*10 -> 1598770 | H27: =TopGD!A142 -> SHS | I27: =TopGD!C142/1000 -> 6.4 | J27: =TopGD!D142/1000 -> 6.4 | K27: =J27/I27-1 -> 0 | L27: =TopGD!E142 -> 796400
B30: Top 5 CP tăng giá nhiều nhất trong ngày
B32: Mã | C32: Giá TC (*) | D32: Giá đóng | E32: +/- | F32: % | H32: Mã | I32: Giá TC (*) | J32: Giá đóng | K32: +/- | L32: %
B33: =TopGD!A69 -> SVI | C33: =TopGD!C69/100 -> 37.3 | D33: =TopGD!D69/100 -> 39.9 | E33: =D33-C33 -> 2.6 | F33: =D33/C33-1 -> 0.069705094 | H33: =TopGD!A152 -> HDA | I33: =TopGD!C152/1000 -> 7 | J33: =TopGD!D152/1000 -> 7.7 | K33: =J33-I33 -> 0.7 | L33: =J33/I33-1 -> 0.1
B34: =TopGD!A70 -> C47 | C34: =TopGD!C70/100 -> 17.4 | D34: =TopGD!D70/100 -> 18.6 | E34: =D34-C34 -> 1.2 | F34: =D34/C34-1 -> 0.068965517 | H34: =TopGD!A153 -> C92 | I34: =TopGD!C153/1000 -> 9.1 | J34: =TopGD!D153/1000 -> 10 | K34: =J34-I34 -> 0.9 | L34: =J34/I34-1 -> 0.098901099
B35: =TopGD!A71 -> COM | C35: =TopGD!C71/100 -> 24.1 | D35: =TopGD!D71/100 -> 25.7 | E35: =D35-C35 -> 1.6 | F35: =D35/C35-1 -> 0.066390041 | H35: =TopGD!A154 -> PHC | I35: =TopGD!C154/1000 -> 3.1 | J35: =TopGD!D154/1000 -> 3.4 | K35: =J35-I35 -> 0.3 | L35: =J35/I35-1 -> 0.096774194
B36: =TopGD!A72 -> SVT | C36: =TopGD!C72/100 -> 6.7 | D36: =TopGD!D72/100 -> 7.1 | E36: =D36-C36 -> 0.4 | F36: =D36/C36-1 -> 0.059701493 | H36: =TopGD!A155 -> STL | I36: =TopGD!C155/1000 -> 3.1 | J36: =TopGD!D155/1000 -> 3.4 | K36: =J36-I36 -> 0.3 | L36: =J36/I36-1 -> 0.096774194
B37: =TopGD!A73 -> PTB | C37: =TopGD!C73/100 -> 27 | D37: =TopGD!D73/100 -> 28.6 | E37: =D37-C37 -> 1.6 | F37: =D37/C37-1 -> 0.059259259 | H37: =TopGD!A156 -> VTS | I37: =TopGD!C156/1000 -> 9.3 | J37: =TopGD!D156/1000 -> 10.2 | K37: =J37-I37 -> 0.9 | L37: =J37/I37-1 -> 0.096774194
B40: Top 5 CP giảm giá nhiều nhất trong ngày
B42: Mã | C42: Giá TC (*) | D42: Giá đóng | E42: +/- | F42: % | H42: Mã | I42: Giá TC (*) | J42: Giá đóng | K42: +/- | L42: %
B43: =TopGD!A83 -> CYC | C43: =TopGD!C83/100 -> 2.9 | D43: =TopGD!D83/100 -> 2.7 | E43: =D43-C43 -> -0.2 | F43: =D43/C43-1 -> -0.068965517 | H43: =TopGD!A166 -> PSG | I43: =TopGD!C166/1000 -> 0.9 | J43: =TopGD!D166/1000 -> 0.8 | K43: =J43-I43 -> -0.1 | L43: =J43/I43-1 -> -0.11111111
B44: =TopGD!A84 -> RDP | C44: =TopGD!C84/100 -> 16 | D44: =TopGD!D84/100 -> 14.9 | E44: =D44-C44 -> -1.1 | F44: =D44/C44-1 -> -0.06875 | H44: =TopGD!A167 -> TBX | I44: =TopGD!C167/1000 -> 14 | J44: =TopGD!D167/1000 -> 12.6 | K44: =J44-I44 -> -1.4 | L44: =J44/I44-1 -> -0.1
B45: =TopGD!A85 -> LGC | C45: =TopGD!C85/100 -> 16.1 | D45: =TopGD!D85/100 -> 15 | E45: =D45-C45 -> -1.1 | F45: =D45/C45-1 -> -0.068322981 | H45: =TopGD!A168 -> L18 | I45: =TopGD!C168/1000 -> 9.4 | J45: =TopGD!D168/1000 -> 8.5 | K45: =J45-I45 -> -0.9 | L45: =J45/I45-1 -> -0.095744681
B46: =TopGD!A86 -> NKG | C46: =TopGD!C86/100 -> 12.6 | D46: =TopGD!D86/100 -> 11.8 | E46: =D46-C46 -> -0.8 | F46: =D46/C46-1 -> -0.063492063 | H46: =TopGD!A169 -> QCC | I46: =TopGD!C169/1000 -> 2.1 | J46: =TopGD!D169/1000 -> 1.9 | K46: =J46-I46 -> -0.2 | L46: =J46/I46-1 -> -0.095238095
B47: =TopGD!A87 -> ELC | C47: =TopGD!C87/100 -> 22.2 | D47: =TopGD!D87/100 -> 20.8 | E47: =D47-C47 -> -1.4 | F47: =D47/C47-1 -> -0.063063063 | H47: =TopGD!A170 -> VE8 | I47: =TopGD!C170/1000 -> 2.1 | J47: =TopGD!D170/1000 -> 1.9 | K47: =J47-I47 -> -0.2 | L47: =J47/I47-1 -> -0.095238095
B49: (*) Giá điều chỉnh
B53: BẢN TIN THỊ TRƯỜNG | L53: Trang 5

Sheet TopRatio_Page5
N5: CHỈ SỐ TÀI CHÍNH
B7: Top KLGD lớn nhất HOSE | I7: Top KLGD lớn nhất HNX
B8: Mã | C8: KLGD | D8: ROE | E8: EPS | F8: P/E | G8: P/B | I8: Mã | J8: KLGD | K8: ROE | L8: EPS | M8: P/E | N8: P/B
B9: =TopGD_Page4!B23 -> HQC | C9: =TopGD_Page4!F23 -> 2206180 | D9: =IF(TYPE(VLOOKUP(B9,Chisotaichinh!$B:$IX,4,0))=16,"N/A",VLOOKUP(B9,Chisotaichinh!$B:$IX,4,0)) -> 0.030897257 | E9: =IF(TYPE(VLOOKUP(B9,Chisotaichinh!$B:$IX,6,0))=16,"N/A",VLOOKUP(B9,Chisotaichinh!$B:$IX,6,0)) -> 446.76733 | F9: =IF(TYPE(VLOOKUP(B9,Chisotaichinh!$B:$IX,7,0))=16,"N/A",IF(VLOOKUP(B9,Chisotaichinh!$B:$IX,7,0)<0,0,VLOOKUP(B9,Chisotaichinh!$B:$IX,7,0))) -> 15.22045 | G9: =IF(TYPE(VLOOKUP(B9,Chisotaichinh!$B:$IX,8,0))=16,"N/A",VLOOKUP(B9,Chisotaichinh!$B:$IX,8,0)) -> 0.5388365 | I9: =TopGD_Page4!H23 -> FLC | J9: =TopGD_Page4!L23 -> 5963900 | K9: =IF(TYPE(VLOOKUP(I9,Chisotaichinh!$B:$IX,4,0))=16,"N/A",VLOOKUP(I9,Chisotaichinh!$B:$IX,4,0)) -> 0.031830212 | L9: =IF(TYPE(VLOOKUP(I9,Chisotaichinh!$B:$IX,6,0))=16,"N/A",VLOOKUP(I9,Chisotaichinh!$B:$IX,6,0)) -> 564.88174 | M9: =IF(TYPE(VLOOKUP(I9,Chisotaichinh!$B:$IX,7,0))=16,"N/A",IF(VLOOKUP(I9,Chisotaichinh!$B:$IX,7,0)<0,0,VLOOKUP(I9,Chisotaichinh!$B:$IX,7,0))) -> 11.329805 | N9: =IF(TYPE(VLOOKUP(I9,Chisotaichinh!$B:$IX,8,0))=16,"N/A",VLOOKUP(I9,Chisotaichinh!$B:$IX,8,0)) -> 0.4114872
B10: =TopGD_Page4!B24 -> VIC | C10: =TopGD_Page4!F24 -> 2022700 | D10: =IF(TYPE(VLOOKUP(B10,Chisotaichinh!$B:$IX,4,0))=16,"N/A",VLOOKUP(B10,Chisotaichinh!$B:$IX,4,0)) -> 0.1097384 | E10: =IF(TYPE(VLOOKUP(B10,Chisotaichinh!$B:$IX,6,0))=16,"N/A",VLOOKUP(B10,Chisotaichinh!$B:$IX,6,0)) -> 1210.194 | F10: =IF(TYPE(VLOOKUP(B10,Chisotaichinh!$B:$IX,7,0))=16,"N/A",IF(VLOOKUP(B10,Chisotaichinh!$B:$IX,7,0)<0,0,VLOOKUP(B10,Chisotaichinh!$B:$IX,7,0))) -> 52.05777 | G10: =IF(TYPE(VLOOKUP(B10,Chisotaichinh!$B:$IX,8,0))=16,"N/A",VLOOKUP(B10,Chisotaichinh!$B:$IX,8,0)) -> 5.3913536 | I10: =TopGD_Page4!H24 -> PVS | J10: =TopGD_Page4!L24 -> 1680838 | K10: =IF(TYPE(VLOOKUP(I10,Chisotaichinh!$B:$IX,4,0))=16,"N/A",VLOOKUP(I10,Chisotaichinh!$B:$IX,4,0)) -> 0.18581612 | L10: =IF(TYPE(VLOOKUP(I10,Chisotaichinh!$B:$IX,6,0))=16,"N/A",VLOOKUP(I10,Chisotaichinh!$B:$IX,6,0)) -> 3133.306 | M10: =IF(TYPE(VLOOKUP(I10,Chisotaichinh!$B:$IX,7,0))=16,"N/A",IF(VLOOKUP(I10,Chisotaichinh!$B:$IX,7,0)<0,0,VLOOKUP(I10,Chisotaichinh!$B:$IX,7,0))) -> 5.0745123 | N10: =IF(TYPE(VLOOKUP(I10,Chisotaichinh!$B:$IX,8,0))=16,"N/A",VLOOKUP(I10,Chisotaichinh!$B:$IX,8,0)) -> 0.97338948
B11: =TopGD_Page4!B25 -> VHG | C11: =TopGD_Page4!F25 -> 1930574 | D11: =IF(TYPE(VLOOKUP(B11,Chisotaichinh!$B:$IX,4,0))=16,"N/A",VLOOKUP(B11,Chisotaichinh!$B:$IX,4,0)) -> -0.10891087 | E11: =IF(TYPE(VLOOKUP(B11,Chisotaichinh!$B:$IX,6,0))=16,"N/A",VLOOKUP(B11,Chisotaichinh!$B:$IX,6,0)) -> -1589.9205 | F11: =IF(TYPE(VLOOKUP(B11,Chisotaichinh!$B:$IX,7,0))=16,"N/A",IF(VLOOKUP(B11,Chisotaichinh!$B:$IX,7,0)<0,0,VLOOKUP(B11,Chisotaichinh!$B:$IX,7,0))) -> 0 | G11: =IF(TYPE(VLOOKUP(B11,Chisotaichinh!$B:$IX,8,0))=16,"N/A",VLOOKUP(B11,Chisotaichinh!$B:$IX,8,0)) -> 0.38662655 | I11: =TopGD_Page4!H25 -> PVX | J11: =TopGD_Page4!L25 -> 1478900 | K11: =IF(TYPE(VLOOKUP(I11,Chisotaichinh!$B:$IX,4,0))=16,"N/A",VLOOKUP(I11,Chisotaichinh!$B:$IX,4,0)) -> -0.3446796 | L11: =IF(TYPE(VLOOKUP(I11,Chisotaichinh!$B:$IX,6,0))=16,"N/A",VLOOKUP(I11,Chisotaichinh!$B:$IX,6,0)) -> -2815.8068 | M11: =IF(TYPE(VLOOKUP(I11,Chisotaichinh!$B:$IX,7,0))=16,"N/A",IF(VLOOKUP(I11,Chisotaichinh!$B:$IX,7,0)<0,0,VLOOKUP(I11,Chisotaichinh!$B:$IX,7,0))) -> 0 | N11: =IF(TYPE(VLOOKUP(I11,Chisotaichinh!$B:$IX,8,0))=16,"N/A",VLOOKUP(I11,Chisotaichinh!$B:$IX,8,0)) -> 0.84044687
B12: =TopGD_Page4!B26 -> REE | C12: =TopGD_Page4!F26 -> 1635640 | D12: =IF(TYPE(VLOOKUP(B12,Chisotaichinh!$B:$IX,4,0))=16,"N/A",VLOOKUP(B12,Chisotaichinh!$B:$IX,4,0)) -> 0.12873296 | E12: =IF(TYPE(VLOOKUP(B12,Chisotaichinh!$B:$IX,6,0))=16,"N/A",VLOOKUP(B12,Chisotaichinh!$B:$IX,6,0)) -> 2126.9494 | F12: =IF(TYPE(VLOOKUP(B12,Chisotaichinh!$B:$IX,7,0))=16,"N/A",IF(VLOOKUP(B12,Chisotaichinh!$B:$IX,7,0)<0,0,VLOOKUP(B12,Chisotaichinh!$B:$IX,7,0))) -> 12.412143 | G12: =IF(TYPE(VLOOKUP(B12,Chisotaichinh!$B:$IX,8,0))=16,"N/A",VLOOKUP(B12,Chisotaichinh!$B:$IX,8,0)) -> 1.6506659 | I12: =TopGD_Page4!H26 -> SCR | J12: =TopGD_Page4!L26 -> 1470200 | K12: =IF(TYPE(VLOOKUP(I12,Chisotaichinh!$B:$IX,4,0))=16,"N/A",VLOOKUP(I12,Chisotaichinh!$B:$IX,4,0)) -> -0.0026929081 | L12: =IF(TYPE(VLOOKUP(I12,Chisotaichinh!$B:$IX,6,0))=16,"N/A",VLOOKUP(I12,Chisotaichinh!$B:$IX,6,0)) -> -40.509784 | M12: =IF(TYPE(VLOOKUP(I12,Chisotaichinh!$B:$IX,7,0))=16,"N/A",IF(VLOOKUP(I12,Chisotaichinh!$B:$IX,7,0)<0,0,VLOOKUP(I12,Chisotaichinh!$B:$IX,7,0))) -> 0 | N12: =IF(TYPE(VLOOKUP(I12,Chisotaichinh!$B:$IX,8,0))=16,"N/A",VLOOKUP(I12,Chisotaichinh!$B:$IX,8,0)) -> 0.42441727
B13: =TopGD_Page4!B27 -> HAG | C13: =TopGD_Page4!F27 -> 1598770 | D13: =IF(TYPE(VLOOKUP(B13,Chisotaichinh!$B:$IX,4,0))=16,"N/A",VLOOKUP(B13,Chisotaichinh!$B:$IX,4,0)) -> 0.035797512 | E13: =IF(TYPE(VLOOKUP(B13,Chisotaichinh!$B:$IX,6,0))=16,"N/A",VLOOKUP(B13,Chisotaichinh!$B:$IX,6,0)) -> 614.81485 | F13: =IF(TYPE(VLOOKUP(B13,Chisotaichinh!$B:$IX,7,0))=16,"N/A",IF(VLOOKUP(B13,Chisotaichinh!$B:$IX,7,0)<0,0,VLOOKUP(B13,Chisotaichinh!$B:$IX,7,0))) -> 33.831324 | G13: =IF(TYPE(VLOOKUP(B13,Chisotaichinh!$B:$IX,8,0))=16,"N/A",VLOOKUP(B13,Chisotaichinh!$B:$IX,8,0)) -> 1.1219565 | I13: =TopGD_Page4!H27 -> SHS | J13: =TopGD_Page4!L27 -> 796400 | K13: =IF(TYPE(VLOOKUP(I13,Chisotaichinh!$B:$IX,4,0))=16,"N/A",VLOOKUP(I13,Chisotaichinh!$B:$IX,4,0)) -> -0.0013219098 | L13: =IF(TYPE(VLOOKUP(I13,Chisotaichinh!$B:$IX,6,0))=16,"N/A",VLOOKUP(I13,Chisotaichinh!$B:$IX,6,0)) -> -10.083593 | M13: =IF(TYPE(VLOOKUP(I13,Chisotaichinh!$B:$IX,7,0))=16,"N/A",IF(VLOOKUP(I13,Chisotaichinh!$B:$IX,7,0)<0,0,VLOOKUP(I13,Chisotaichinh!$B:$IX,7,0))) -> 0 | N13: =IF(TYPE(VLOOKUP(I13,Chisotaichinh!$B:$IX,8,0))=16,"N/A",VLOOKUP(I13,Chisotaichinh!$B:$IX,8,0)) -> 0.81759469
B16: Top Đột biến giá HOSE | I16: Top Đột biến giá HNX
B17: Mã | C17: +/-% | D17: ROE | E17: EPS | F17: P/E | G17: P/B | I17: Mã | J17: +/-% | K17: ROE | L17: EPS | M17: P/E | N17: P/B
B18: =TopGD_Page4!B33 -> SVI | C18: =TopGD_Page4!F33 -> 0.069705094 | D18: =IF(TYPE(VLOOKUP(B18,Chisotaichinh!$B:$IX,4,0))=16,"N/A",VLOOKUP(B18,Chisotaichinh!$B:$IX,4,0)) -> 0.30930149 | E18: =IF(TYPE(VLOOKUP(B18,Chisotaichinh!$B:$IX,6,0))=16,"N/A",VLOOKUP(B18,Chisotaichinh!$B:$IX,6,0)) -> 6855.9908 | F18: =IF(TYPE(VLOOKUP(B18,Chisotaichinh!$B:$IX,7,0))=16,"N/A",IF(VLOOKUP(B18,Chisotaichinh!$B:$IX,7,0)<0,0,VLOOKUP(B18,Chisotaichinh!$B:$IX,7,0))) -> 5.8197277 | G18: =IF(TYPE(VLOOKUP(B18,Chisotaichinh!$B:$IX,8,0))=16,"N/A",VLOOKUP(B18,Chisotaichinh!$B:$IX,8,0)) -> 1.7141907 | I18: =TopGD_Page4!H33 -> HDA | J18: =TopGD_Page4!L33 -> 0.1 | K18: =IF(TYPE(VLOOKUP(I18,Chisotaichinh!$B:$IX,4,0))=16,"N/A",VLOOKUP(I18,Chisotaichinh!$B:$IX,4,0)) -> 0.22195676 | L18: =IF(TYPE(VLOOKUP(I18,Chisotaichinh!$B:$IX,6,0))=16,"N/A",VLOOKUP(I18,Chisotaichinh!$B:$IX,6,0)) -> 2866.3635 | M18: =IF(TYPE(VLOOKUP(I18,Chisotaichinh!$B:$IX,7,0))=16,"N/A",IF(VLOOKUP(I18,Chisotaichinh!$B:$IX,7,0)<0,0,VLOOKUP(I18,Chisotaichinh!$B:$IX,7,0))) -> 2.6863306 | N18: =IF(TYPE(VLOOKUP(I18,Chisotaichinh!$B:$IX,8,0))=16,"N/A",VLOOKUP(I18,Chisotaichinh!$B:$IX,8,0)) -> 0.58549755
B19: =TopGD_Page4!B34 -> C47 | C19: =TopGD_Page4!F34 -> 0.068965517 | D19: =IF(TYPE(VLOOKUP(B19,Chisotaichinh!$B:$IX,4,0))=16,"N/A",VLOOKUP(B19,Chisotaichinh!$B:$IX,4,0)) -> 0.14106083 | E19: =IF(TYPE(VLOOKUP(B19,Chisotaichinh!$B:$IX,6,0))=16,"N/A",VLOOKUP(B19,Chisotaichinh!$B:$IX,6,0)) -> 2647.9213 | F19: =IF(TYPE(VLOOKUP(B19,Chisotaichinh!$B:$IX,7,0))=16,"N/A",IF(VLOOKUP(B19,Chisotaichinh!$B:$IX,7,0)<0,0,VLOOKUP(B19,Chisotaichinh!$B:$IX,7,0))) -> 7.024378 | G19: =IF(TYPE(VLOOKUP(B19,Chisotaichinh!$B:$IX,8,0))=16,"N/A",VLOOKUP(B19,Chisotaichinh!$B:$IX,8,0)) -> 1.0225489 | I19: =TopGD_Page4!H34 -> C92 | J19: =TopGD_Page4!L34 -> 0.098901099 | K19: =IF(TYPE(VLOOKUP(I19,Chisotaichinh!$B:$IX,4,0))=16,"N/A",VLOOKUP(I19,Chisotaichinh!$B:$IX,4,0)) -> 0.14652109 | L19: =IF(TYPE(VLOOKUP(I19,Chisotaichinh!$B:$IX,6,0))=16,"N/A",VLOOKUP(I19,Chisotaichinh!$B:$IX,6,0)) -> 1737.1979 | M19: =IF(TYPE(VLOOKUP(I19,Chisotaichinh!$B:$IX,7,0))=16,"N/A",IF(VLOOKUP(I19,Chisotaichinh!$B:$IX,7,0)<0,0,VLOOKUP(I19,Chisotaichinh!$B:$IX,7,0))) -> 5.7563964 | N19: =IF(TYPE(VLOOKUP(I19,Chisotaichinh!$B:$IX,8,0))=16,"N/A",VLOOKUP(I19,Chisotaichinh!$B:$IX,8,0)) -> 0.69423737
B20: =TopGD_Page4!B35 -> COM | C20: =TopGD_Page4!F35 -> 0.066390041 | D20: =IF(TYPE(VLOOKUP(B20,Chisotaichinh!$B:$IX,4,0))=16,"N/A",VLOOKUP(B20,Chisotaichinh!$B:$IX,4,0)) -> 0.066002206 | E20: =IF(TYPE(VLOOKUP(B20,Chisotaichinh!$B:$IX,6,0))=16,"N/A",VLOOKUP(B20,Chisotaichinh!$B:$IX,6,0)) -> 1715.3592 | F20: =IF(TYPE(VLOOKUP(B20,Chisotaichinh!$B:$IX,7,0))=16,"N/A",IF(VLOOKUP(B20,Chisotaichinh!$B:$IX,7,0)<0,0,VLOOKUP(B20,Chisotaichinh!$B:$IX,7,0))) -> 14.982284 | G20: =IF(TYPE(VLOOKUP(B20,Chisotaichinh!$B:$IX,8,0))=16,"N/A",VLOOKUP(B20,Chisotaichinh!$B:$IX,8,0)) -> 1.0191189 | I20: =TopGD_Page4!H35 -> PHC | J20: =TopGD_Page4!L35 -> 0.096774194 | K20: =IF(TYPE(VLOOKUP(I20,Chisotaichinh!$B:$IX,4,0))=16,"N/A",VLOOKUP(I20,Chisotaichinh!$B:$IX,4,0)) -> 0.016381687 | L20: =IF(TYPE(VLOOKUP(I20,Chisotaichinh!$B:$IX,6,0))=16,"N/A",VLOOKUP(I20,Chisotaichinh!$B:$IX,6,0)) -> 238.30199 | M20: =IF(TYPE(VLOOKUP(I20,Chisotaichinh!$B:$IX,7,0))=16,"N/A",IF(VLOOKUP(I20,Chisotaichinh!$B:$IX,7,0)<0,0,VLOOKUP(I20,Chisotaichinh!$B:$IX,7,0))) -> 14.267611 | N20: =IF(TYPE(VLOOKUP(I20,Chisotaichinh!$B:$IX,8,0))=16,"N/A",VLOOKUP(I20,Chisotaichinh!$B:$IX,8,0)) -> 0.23828332
B21: =TopGD_Page4!B36 -> SVT | C21: =TopGD_Page4!F36 -> 0.059701493 | D21: =IF(TYPE(VLOOKUP(B21,Chisotaichinh!$B:$IX,4,0))=16,"N/A",VLOOKUP(B21,Chisotaichinh!$B:$IX,4,0)) -> 0.0011168015 | E21: =IF(TYPE(VLOOKUP(B21,Chisotaichinh!$B:$IX,6,0))=16,"N/A",VLOOKUP(B21,Chisotaichinh!$B:$IX,6,0)) -> 12.320937 | F21: =IF(TYPE(VLOOKUP(B21,Chisotaichinh!$B:$IX,7,0))=16,"N/A",IF(VLOOKUP(B21,Chisotaichinh!$B:$IX,7,0)<0,0,VLOOKUP(B21,Chisotaichinh!$B:$IX,7,0))) -> 576.25486 | G21: =IF(TYPE(VLOOKUP(B21,Chisotaichinh!$B:$IX,8,0))=16,"N/A",VLOOKUP(B21,Chisotaichinh!$B:$IX,8,0)) -> 0.61502908 | I21: =TopGD_Page4!H36 -> STL | J21: =TopGD_Page4!L36 -> 0.096774194 | K21: =IF(TYPE(VLOOKUP(I21,Chisotaichinh!$B:$IX,4,0))=16,"N/A",VLOOKUP(I21,Chisotaichinh!$B:$IX,4,0)) -> -2.7493354 | L21: =IF(TYPE(VLOOKUP(I21,Chisotaichinh!$B:$IX,6,0))=16,"N/A",VLOOKUP(I21,Chisotaichinh!$B:$IX,6,0)) -> -12521.17 | M21: =IF(TYPE(VLOOKUP(I21,Chisotaichinh!$B:$IX,7,0))=16,"N/A",IF(VLOOKUP(I21,Chisotaichinh!$B:$IX,7,0)<0,0,VLOOKUP(I21,Chisotaichinh!$B:$IX,7,0))) -> 0 | N21: =IF(TYPE(VLOOKUP(I21,Chisotaichinh!$B:$IX,8,0))=16,"N/A",VLOOKUP(I21,Chisotaichinh!$B:$IX,8,0)) -> -5.9337239
B22: =TopGD_Page4!B37 -> PTB | C22: =TopGD_Page4!F37 -> 0.059259259 | D22: =IF(TYPE(VLOOKUP(B22,Chisotaichinh!$B:$IX,4,0))=16,"N/A",VLOOKUP(B22,Chisotaichinh!$B:$IX,4,0)) -> 0.40913735 | E22: =IF(TYPE(VLOOKUP(B22,Chisotaichinh!$B:$IX,6,0))=16,"N/A",VLOOKUP(B22,Chisotaichinh!$B:$IX,6,0)) -> 6776.7629 | F22: =IF(TYPE(VLOOKUP(B22,Chisotaichinh!$B:$IX,7,0))=16,"N/A",IF(VLOOKUP(B22,Chisotaichinh!$B:$IX,7,0)<0,0,VLOOKUP(B22,Chisotaichinh!$B:$IX,7,0))) -> 4.2203041 | G22: =IF(TYPE(VLOOKUP(B22,Chisotaichinh!$B:$IX,8,0))=16,"N/A",VLOOKUP(B22,Chisotaichinh!$B:$IX,8,0)) -> 1.5054277 | I22: =TopGD_Page4!H37 -> VTS | J22: =TopGD_Page4!L37 -> 0.096774194 | K22: =IF(TYPE(VLOOKUP(I22,Chisotaichinh!$B:$IX,4,0))=16,"N/A",VLOOKUP(I22,Chisotaichinh!$B:$IX,4,0)) -> -0.0033896527 | L22: =IF(TYPE(VLOOKUP(I22,Chisotaichinh!$B:$IX,6,0))=16,"N/A",VLOOKUP(I22,Chisotaichinh!$B:$IX,6,0)) -> -84.419277 | M22: =IF(TYPE(VLOOKUP(I22,Chisotaichinh!$B:$IX,7,0))=16,"N/A",IF(VLOOKUP(I22,Chisotaichinh!$B:$IX,7,0)<0,0,VLOOKUP(I22,Chisotaichinh!$B:$IX,7,0))) -> 0 | N22: =IF(TYPE(VLOOKUP(I22,Chisotaichinh!$B:$IX,8,0))=16,"N/A",VLOOKUP(I22,Chisotaichinh!$B:$IX,8,0)) -> 0.4126666
B25: Top KLGD NĐT nước ngoài mua ròng HOSE | I25: Top KLGD NĐT nước ngoài mua ròng HNX
B26: Mã | C26: KL mua | D26: ROE | E26: EPS | F26: P/E | G26: P/B | I26: Mã | J26: KL mua | K26: ROE | L26: EPS | M26: P/E | N26: P/B
B27: =TopGD_Page4!C13 -> FPT | C27: =TopGD_Page4!D13 -> 662940 | D27: =IF(TYPE(VLOOKUP(B27,Chisotaichinh!$B:$IX,4,0))=16,"N/A",VLOOKUP(B27,Chisotaichinh!$B:$IX,4,0)) -> 0.24975807 | E27: =IF(TYPE(VLOOKUP(B27,Chisotaichinh!$B:$IX,6,0))=16,"N/A",VLOOKUP(B27,Chisotaichinh!$B:$IX,6,0)) -> 5711.9518 | F27: =IF(TYPE(VLOOKUP(B27,Chisotaichinh!$B:$IX,7,0))=16,"N/A",IF(VLOOKUP(B27,Chisotaichinh!$B:$IX,7,0)<0,0,VLOOKUP(B27,Chisotaichinh!$B:$IX,7,0))) -> 7.5981033 | G27: =IF(TYPE(VLOOKUP(B27,Chisotaichinh!$B:$IX,8,0))=16,"N/A",VLOOKUP(B27,Chisotaichinh!$B:$IX,8,0)) -> 1.8203912 | I27: =TopGD_Page4!I13 -> PVS | J27: =TopGD_Page4!J13 -> 107500 | K27: =IF(TYPE(VLOOKUP(I27,Chisotaichinh!$B:$IX,4,0))=16,"N/A",VLOOKUP(I27,Chisotaichinh!$B:$IX,4,0)) -> 0.18581612 | L27: =IF(TYPE(VLOOKUP(I27,Chisotaichinh!$B:$IX,6,0))=16,"N/A",VLOOKUP(I27,Chisotaichinh!$B:$IX,6,0)) -> 3133.306 | M27: =IF(TYPE(VLOOKUP(I27,Chisotaichinh!$B:$IX,7,0))=16,"N/A",IF(VLOOKUP(I27,Chisotaichinh!$B:$IX,7,0)<0,0,VLOOKUP(I27,Chisotaichinh!$B:$IX,7,0))) -> 5.0745123 | N27: =IF(TYPE(VLOOKUP(I27,Chisotaichinh!$B:$IX,8,0))=16,"N/A",VLOOKUP(I27,Chisotaichinh!$B:$IX,8,0)) -> 0.97338948
B28: =TopGD_Page4!C14 -> PET | C28: =TopGD_Page4!D14 -> 151400 | D28: =IF(TYPE(VLOOKUP(B28,Chisotaichinh!$B:$IX,4,0))=16,"N/A",VLOOKUP(B28,Chisotaichinh!$B:$IX,4,0)) -> 0.15416815 | E28: =IF(TYPE(VLOOKUP(B28,Chisotaichinh!$B:$IX,6,0))=16,"N/A",VLOOKUP(B28,Chisotaichinh!$B:$IX,6,0)) -> 2700.5624 | F28: =IF(TYPE(VLOOKUP(B28,Chisotaichinh!$B:$IX,7,0))=16,"N/A",IF(VLOOKUP(B28,Chisotaichinh!$B:$IX,7,0)<0,0,VLOOKUP(B28,Chisotaichinh!$B:$IX,7,0))) -> 8.1834805 | G28: =IF(TYPE(VLOOKUP(B28,Chisotaichinh!$B:$IX,8,0))=16,"N/A",VLOOKUP(B28,Chisotaichinh!$B:$IX,8,0)) -> 1.254283 | I28: =TopGD_Page4!I14 -> PVC | J28: =TopGD_Page4!J14 -> 34700 | K28: =IF(TYPE(VLOOKUP(I28,Chisotaichinh!$B:$IX,4,0))=16,"N/A",VLOOKUP(I28,Chisotaichinh!$B:$IX,4,0)) -> 0.14625785 | L28: =IF(TYPE(VLOOKUP(I28,Chisotaichinh!$B:$IX,6,0))=16,"N/A",VLOOKUP(I28,Chisotaichinh!$B:$IX,6,0)) -> 2600.7458 | M28: =IF(TYPE(VLOOKUP(I28,Chisotaichinh!$B:$IX,7,0))=16,"N/A",IF(VLOOKUP(I28,Chisotaichinh!$B:$IX,7,0)<0,0,VLOOKUP(I28,Chisotaichinh!$B:$IX,7,0))) -> 6.267433 | N28: =IF(TYPE(VLOOKUP(I28,Chisotaichinh!$B:$IX,8,0))=16,"N/A",VLOOKUP(I28,Chisotaichinh!$B:$IX,8,0)) -> 0.95742914
B29: =TopGD_Page4!C15 -> MBB | C29: =TopGD_Page4!D15 -> 47660 | D29: =IF(TYPE(VLOOKUP(B29,Chisotaichinh!$B:$IX,4,0))=16,"N/A",VLOOKUP(B29,Chisotaichinh!$B:$IX,4,0)) -> 0.16801874 | E29: =IF(TYPE(VLOOKUP(B29,Chisotaichinh!$B:$IX,6,0))=16,"N/A",VLOOKUP(B29,Chisotaichinh!$B:$IX,6,0)) -> 2231.0679 | F29: =IF(TYPE(VLOOKUP(B29,Chisotaichinh!$B:$IX,7,0))=16,"N/A",IF(VLOOKUP(B29,Chisotaichinh!$B:$IX,7,0)<0,0,VLOOKUP(B29,Chisotaichinh!$B:$IX,7,0))) -> 5.8716277 | G29: =IF(TYPE(VLOOKUP(B29,Chisotaichinh!$B:$IX,8,0))=16,"N/A",VLOOKUP(B29,Chisotaichinh!$B:$IX,8,0)) -> 0.9870246 | I29: =TopGD_Page4!I15 -> PGS | J29: =TopGD_Page4!J15 -> 33100 | K29: =IF(TYPE(VLOOKUP(I29,Chisotaichinh!$B:$IX,4,0))=16,"N/A",VLOOKUP(I29,Chisotaichinh!$B:$IX,4,0)) -> 0.21580886 | L29: =IF(TYPE(VLOOKUP(I29,Chisotaichinh!$B:$IX,6,0))=16,"N/A",VLOOKUP(I29,Chisotaichinh!$B:$IX,6,0)) -> 4444.6543 | M29: =IF(TYPE(VLOOKUP(I29,Chisotaichinh!$B:$IX,7,0))=16,"N/A",IF(VLOOKUP(I29,Chisotaichinh!$B:$IX,7,0)<0,0,VLOOKUP(I29,Chisotaichinh!$B:$IX,7,0))) -> 4.1848024 | N29: =IF(TYPE(VLOOKUP(I29,Chisotaichinh!$B:$IX,8,0))=16,"N/A",VLOOKUP(I29,Chisotaichinh!$B:$IX,8,0)) -> 0.83071065
B30: =TopGD_Page4!C16 -> VIP | C30: =TopGD_Page4!D16 -> 26340 | D30: =IF(TYPE(VLOOKUP(B30,Chisotaichinh!$B:$IX,4,0))=16,"N/A",VLOOKUP(B30,Chisotaichinh!$B:$IX,4,0)) -> 0.17883012 | E30: =IF(TYPE(VLOOKUP(B30,Chisotaichinh!$B:$IX,6,0))=16,"N/A",VLOOKUP(B30,Chisotaichinh!$B:$IX,6,0)) -> 2694.1857 | F30: =IF(TYPE(VLOOKUP(B30,Chisotaichinh!$B:$IX,7,0))=16,"N/A",IF(VLOOKUP(B30,Chisotaichinh!$B:$IX,7,0)<0,0,VLOOKUP(B30,Chisotaichinh!$B:$IX,7,0))) -> 2.8208894 | G30: =IF(TYPE(VLOOKUP(B30,Chisotaichinh!$B:$IX,8,0))=16,"N/A",VLOOKUP(B30,Chisotaichinh!$B:$IX,8,0)) -> 0.46113158 | I30: =TopGD_Page4!I16 -> BVS | J30: =TopGD_Page4!J16 -> 30000 | K30: =IF(TYPE(VLOOKUP(I30,Chisotaichinh!$B:$IX,4,0))=16,"N/A",VLOOKUP(I30,Chisotaichinh!$B:$IX,4,0)) -> 0.09008497 | L30: =IF(TYPE(VLOOKUP(I30,Chisotaichinh!$B:$IX,6,0))=16,"N/A",VLOOKUP(I30,Chisotaichinh!$B:$IX,6,0)) -> 1410.9289 | M30: =IF(TYPE(VLOOKUP(I30,Chisotaichinh!$B:$IX,7,0))=16,"N/A",IF(VLOOKUP(I30,Chisotaichinh!$B:$IX,7,0)<0,0,VLOOKUP(I30,Chisotaichinh!$B:$IX,7,0))) -> 7.8671578 | N30: =IF(TYPE(VLOOKUP(I30,Chisotaichinh!$B:$IX,8,0))=16,"N/A",VLOOKUP(I30,Chisotaichinh!$B:$IX,8,0)) -> 0.69105889
B31: =TopGD_Page4!C17 -> VNS | C31: =TopGD_Page4!D17 -> 16870 | D31: =IF(TYPE(VLOOKUP(B31,Chisotaichinh!$B:$IX,4,0))=16,"N/A",VLOOKUP(B31,Chisotaichinh!$B:$IX,4,0)) -> 0.18219291 | E31: =IF(TYPE(VLOOKUP(B31,Chisotaichinh!$B:$IX,6,0))=16,"N/A",VLOOKUP(B31,Chisotaichinh!$B:$IX,6,0)) -> 4246.6268 | F31: =IF(TYPE(VLOOKUP(B31,Chisotaichinh!$B:$IX,7,0))=16,"N/A",IF(VLOOKUP(B31,Chisotaichinh!$B:$IX,7,0)<0,0,VLOOKUP(B31,Chisotaichinh!$B:$IX,7,0))) -> 9.0660192 | G31: =IF(TYPE(VLOOKUP(B31,Chisotaichinh!$B:$IX,8,0))=16,"N/A",VLOOKUP(B31,Chisotaichinh!$B:$IX,8,0)) -> 1.1730396 | I31: =TopGD_Page4!I17 -> KHB | J31: =TopGD_Page4!J17 -> 30000 | K31: =IF(TYPE(VLOOKUP(I31,Chisotaichinh!$B:$IX,4,0))=16,"N/A",VLOOKUP(I31,Chisotaichinh!$B:$IX,4,0)) -> -0.066692153 | L31: =IF(TYPE(VLOOKUP(I31,Chisotaichinh!$B:$IX,6,0))=16,"N/A",VLOOKUP(I31,Chisotaichinh!$B:$IX,6,0)) -> -1055.8417 | M31: =IF(TYPE(VLOOKUP(I31,Chisotaichinh!$B:$IX,7,0))=16,"N/A",IF(VLOOKUP(I31,Chisotaichinh!$B:$IX,7,0)<0,0,VLOOKUP(I31,Chisotaichinh!$B:$IX,7,0))) -> 0 | N31: =IF(TYPE(VLOOKUP(I31,Chisotaichinh!$B:$IX,8,0))=16,"N/A",VLOOKUP(I31,Chisotaichinh!$B:$IX,8,0)) -> 0.19603164
B34: Top Vốn hóa HOSE | I34: Top Vốn hóa HNX
B35: Mã | C35: Vốn hóa | D35: ROE | E35: EPS | F35: P/E | G35: P/B | I35: Mã | J35: Vốn hóa | K35: ROE | L35: EPS | M35: P/E | N35: P/B
B36: =TopGD!A97 -> GAS | C36: =TopGD!E97/10^9 -> 113700 | D36: =IF(TYPE(VLOOKUP(B36,Chisotaichinh!$B:$IX,4,0))=16,"N/A",VLOOKUP(B36,Chisotaichinh!$B:$IX,4,0)) -> 0.4205475 | E36: =IF(TYPE(VLOOKUP(B36,Chisotaichinh!$B:$IX,6,0))=16,"N/A",VLOOKUP(B36,Chisotaichinh!$B:$IX,6,0)) -> 6141.2158 | F36: =IF(TYPE(VLOOKUP(B36,Chisotaichinh!$B:$IX,7,0))=16,"N/A",IF(VLOOKUP(B36,Chisotaichinh!$B:$IX,7,0)<0,0,VLOOKUP(B36,Chisotaichinh!$B:$IX,7,0))) -> 9.7700524 | G36: =IF(TYPE(VLOOKUP(B36,Chisotaichinh!$B:$IX,8,0))=16,"N/A",VLOOKUP(B36,Chisotaichinh!$B:$IX,8,0)) -> 3.6145747 | I36: =TopGD!A180 -> ACB | J36: =TopGD!E180/10^9 -> 15096.914 | K36: =IF(TYPE(VLOOKUP(I36,Chisotaichinh!$B:$IX,4,0))=16,"N/A",VLOOKUP(I36,Chisotaichinh!$B:$IX,4,0)) -> 0.030586347 | L36: =IF(TYPE(VLOOKUP(I36,Chisotaichinh!$B:$IX,6,0))=16,"N/A",VLOOKUP(I36,Chisotaichinh!$B:$IX,6,0)) -> 424.4965 | M36: =IF(TYPE(VLOOKUP(I36,Chisotaichinh!$B:$IX,7,0))=16,"N/A",IF(VLOOKUP(I36,Chisotaichinh!$B:$IX,7,0)<0,0,VLOOKUP(I36,Chisotaichinh!$B:$IX,7,0))) -> 37.927285 | N36: =IF(TYPE(VLOOKUP(I36,Chisotaichinh!$B:$IX,8,0))=16,"N/A",VLOOKUP(I36,Chisotaichinh!$B:$IX,8,0)) -> 1.1681506
B37: =TopGD!A98 -> VNM | C37: =TopGD!E98/10^9 -> 111692.44 | D37: =IF(TYPE(VLOOKUP(B37,Chisotaichinh!$B:$IX,4,0))=16,"N/A",VLOOKUP(B37,Chisotaichinh!$B:$IX,4,0)) -> 0.40371695 | E37: =IF(TYPE(VLOOKUP(B37,Chisotaichinh!$B:$IX,6,0))=16,"N/A",VLOOKUP(B37,Chisotaichinh!$B:$IX,6,0)) -> 7293.6741 | F37: =IF(TYPE(VLOOKUP(B37,Chisotaichinh!$B:$IX,7,0))=16,"N/A",IF(VLOOKUP(B37,Chisotaichinh!$B:$IX,7,0)<0,0,VLOOKUP(B37,Chisotaichinh!$B:$IX,7,0))) -> 18.372085 | G37: =IF(TYPE(VLOOKUP(B37,Chisotaichinh!$B:$IX,8,0))=16,"N/A",VLOOKUP(B37,Chisotaichinh!$B:$IX,8,0)) -> 6.623641 | I37: =TopGD!A181 -> SQC | J37: =TopGD!E181/10^9 -> 8602 | K37: =IF(TYPE(VLOOKUP(I37,Chisotaichinh!$B:$IX,4,0))=16,"N/A",VLOOKUP(I37,Chisotaichinh!$B:$IX,4,0)) -> 0.091222487 | L37: =IF(TYPE(VLOOKUP(I37,Chisotaichinh!$B:$IX,6,0))=16,"N/A",VLOOKUP(I37,Chisotaichinh!$B:$IX,6,0)) -> 1109.9837 | M37: =IF(TYPE(VLOOKUP(I37,Chisotaichinh!$B:$IX,7,0))=16,"N/A",IF(VLOOKUP(I37,Chisotaichinh!$B:$IX,7,0)<0,0,VLOOKUP(I37,Chisotaichinh!$B:$IX,7,0))) -> 70.451486 | N37: =IF(TYPE(VLOOKUP(I37,Chisotaichinh!$B:$IX,8,0))=16,"N/A",VLOOKUP(I37,Chisotaichinh!$B:$IX,8,0)) -> 6.3085015
B38: =TopGD!A99 -> MSN | C38: =TopGD!E99/10^9 -> 66283.242 | D38: =IF(TYPE(VLOOKUP(B38,Chisotaichinh!$B:$IX,4,0))=16,"N/A",VLOOKUP(B38,Chisotaichinh!$B:$IX,4,0)) -> 0.064706663 | E38: =IF(TYPE(VLOOKUP(B38,Chisotaichinh!$B:$IX,6,0))=16,"N/A",VLOOKUP(B38,Chisotaichinh!$B:$IX,6,0)) -> 1469.409 | F38: =IF(TYPE(VLOOKUP(B38,Chisotaichinh!$B:$IX,7,0))=16,"N/A",IF(VLOOKUP(B38,Chisotaichinh!$B:$IX,7,0)<0,0,VLOOKUP(B38,Chisotaichinh!$B:$IX,7,0))) -> 63.971297 | G38: =IF(TYPE(VLOOKUP(B38,Chisotaichinh!$B:$IX,8,0))=16,"N/A",VLOOKUP(B38,Chisotaichinh!$B:$IX,8,0)) -> 4.1606555 | I38: =TopGD!A182 -> PVS | J38: =TopGD!E182/10^9 -> 7102.5367 | K38: =IF(TYPE(VLOOKUP(I38,Chisotaichinh!$B:$IX,4,0))=16,"N/A",VLOOKUP(I38,Chisotaichinh!$B:$IX,4,0)) -> 0.18581612 | L38: =IF(TYPE(VLOOKUP(I38,Chisotaichinh!$B:$IX,6,0))=16,"N/A",VLOOKUP(I38,Chisotaichinh!$B:$IX,6,0)) -> 3133.306 | M38: =IF(TYPE(VLOOKUP(I38,Chisotaichinh!$B:$IX,7,0))=16,"N/A",IF(VLOOKUP(I38,Chisotaichinh!$B:$IX,7,0)<0,0,VLOOKUP(I38,Chisotaichinh!$B:$IX,7,0))) -> 5.0745123 | N38: =IF(TYPE(VLOOKUP(I38,Chisotaichinh!$B:$IX,8,0))=16,"N/A",VLOOKUP(I38,Chisotaichinh!$B:$IX,8,0)) -> 0.97338948
B39: =TopGD!A100 -> CTG | C39: =TopGD!E100/10^9 -> 63689.815 | D39: =IF(TYPE(VLOOKUP(B39,Chisotaichinh!$B:$IX,4,0))=16,"N/A",VLOOKUP(B39,Chisotaichinh!$B:$IX,4,0)) -> 0.17185524 | E39: =IF(TYPE(VLOOKUP(B39,Chisotaichinh!$B:$IX,6,0))=16,"N/A",VLOOKUP(B39,Chisotaichinh!$B:$IX,6,0)) -> 2672.6954 | F39: =IF(TYPE(VLOOKUP(B39,Chisotaichinh!$B:$IX,7,0))=16,"N/A",IF(VLOOKUP(B39,Chisotaichinh!$B:$IX,7,0)<0,0,VLOOKUP(B39,Chisotaichinh!$B:$IX,7,0))) -> 7.2960054 | G39: =IF(TYPE(VLOOKUP(B39,Chisotaichinh!$B:$IX,8,0))=16,"N/A",VLOOKUP(B39,Chisotaichinh!$B:$IX,8,0)) -> 1.2709341 | I39: =TopGD!A183 -> SHB | J39: =TopGD!E183/10^9 -> 5936.7585 | K39: =IF(TYPE(VLOOKUP(I39,Chisotaichinh!$B:$IX,4,0))=16,"N/A",VLOOKUP(I39,Chisotaichinh!$B:$IX,4,0)) -> -0.022826749 | L39: =IF(TYPE(VLOOKUP(I39,Chisotaichinh!$B:$IX,6,0))=16,"N/A",VLOOKUP(I39,Chisotaichinh!$B:$IX,6,0)) -> -265.50749 | M39: =IF(TYPE(VLOOKUP(I39,Chisotaichinh!$B:$IX,7,0))=16,"N/A",IF(VLOOKUP(I39,Chisotaichinh!$B:$IX,7,0)<0,0,VLOOKUP(I39,Chisotaichinh!$B:$IX,7,0))) -> 0 | N39: =IF(TYPE(VLOOKUP(I39,Chisotaichinh!$B:$IX,8,0))=16,"N/A",VLOOKUP(I39,Chisotaichinh!$B:$IX,8,0)) -> 0.61278755
B40: =TopGD!A101 -> VCB | C40: =TopGD!E101/10^9 -> 63497.228 | D40: =IF(TYPE(VLOOKUP(B40,Chisotaichinh!$B:$IX,4,0))=16,"N/A",VLOOKUP(B40,Chisotaichinh!$B:$IX,4,0)) -> 0.10058335 | E40: =IF(TYPE(VLOOKUP(B40,Chisotaichinh!$B:$IX,6,0))=16,"N/A",VLOOKUP(B40,Chisotaichinh!$B:$IX,6,0)) -> 1803.6723 | F40: =IF(TYPE(VLOOKUP(B40,Chisotaichinh!$B:$IX,7,0))=16,"N/A",IF(VLOOKUP(B40,Chisotaichinh!$B:$IX,7,0)<0,0,VLOOKUP(B40,Chisotaichinh!$B:$IX,7,0))) -> 15.19123 | G40: =IF(TYPE(VLOOKUP(B40,Chisotaichinh!$B:$IX,8,0))=16,"N/A",VLOOKUP(B40,Chisotaichinh!$B:$IX,8,0)) -> 1.4946847 | I40: =TopGD!A184 -> VCG | J40: =TopGD!E184/10^9 -> 5123.8438 | K40: =IF(TYPE(VLOOKUP(I40,Chisotaichinh!$B:$IX,4,0))=16,"N/A",VLOOKUP(I40,Chisotaichinh!$B:$IX,4,0)) -> 0.023314277 | L40: =IF(TYPE(VLOOKUP(I40,Chisotaichinh!$B:$IX,6,0))=16,"N/A",VLOOKUP(I40,Chisotaichinh!$B:$IX,6,0)) -> 267.10985 | M40: =IF(TYPE(VLOOKUP(I40,Chisotaichinh!$B:$IX,7,0))=16,"N/A",IF(VLOOKUP(I40,Chisotaichinh!$B:$IX,7,0)<0,0,VLOOKUP(I40,Chisotaichinh!$B:$IX,7,0))) -> 43.427826 | N40: =IF(TYPE(VLOOKUP(I40,Chisotaichinh!$B:$IX,8,0))=16,"N/A",VLOOKUP(I40,Chisotaichinh!$B:$IX,8,0)) -> 0.98545727
B43: Top CP có hệ số Beta cao nhất sàn HOSE | I43: Top CP có hệ số Beta cao nhất sàn HNX
B44: Mã | C44: Beta | D44: ROE | E44: EPS | F44: P/E | G44: P/B | I44: Mã | J44: Beta | K44: ROE | L44: EPS | M44: P/E | N44: P/B
B45: =TopGD!A4 -> SGT | C45: =TopGD!B4 -> 2.8177991 | D45: =IF(TYPE(VLOOKUP(B45,Chisotaichinh!$B:$IX,4,0))=16,"N/A",VLOOKUP(B45,Chisotaichinh!$B:$IX,4,0)) -> -0.41093003 | E45: =IF(TYPE(VLOOKUP(B45,Chisotaichinh!$B:$IX,6,0))=16,"N/A",VLOOKUP(B45,Chisotaichinh!$B:$IX,6,0)) -> -3039.0772 | F45: =IF(TYPE(VLOOKUP(B45,Chisotaichinh!$B:$IX,7,0))=16,"N/A",IF(VLOOKUP(B45,Chisotaichinh!$B:$IX,7,0)<0,0,VLOOKUP(B45,Chisotaichinh!$B:$IX,7,0))) -> 0 | G45: =IF(TYPE(VLOOKUP(B45,Chisotaichinh!$B:$IX,8,0))=16,"N/A",VLOOKUP(B45,Chisotaichinh!$B:$IX,8,0)) -> 0.35738179 | I45: =TopGD!A14 -> VCG | J45: =TopGD!B14 -> 3.5252076 | K45: =IF(TYPE(VLOOKUP(I45,Chisotaichinh!$B:$IX,4,0))=16,"N/A",VLOOKUP(I45,Chisotaichinh!$B:$IX,4,0)) -> 0.023314277 | L45: =IF(TYPE(VLOOKUP(I45,Chisotaichinh!$B:$IX,6,0))=16,"N/A",VLOOKUP(I45,Chisotaichinh!$B:$IX,6,0)) -> 267.10985 | M45: =IF(TYPE(VLOOKUP(I45,Chisotaichinh!$B:$IX,7,0))=16,"N/A",IF(VLOOKUP(I45,Chisotaichinh!$B:$IX,7,0)<0,0,VLOOKUP(I45,Chisotaichinh!$B:$IX,7,0))) -> 43.427826 | N45: =IF(TYPE(VLOOKUP(I45,Chisotaichinh!$B:$IX,8,0))=16,"N/A",VLOOKUP(I45,Chisotaichinh!$B:$IX,8,0)) -> 0.98545727
B46: =TopGD!A5 -> ITA | C46: =TopGD!B5 -> 2.7961886 | D46: =IF(TYPE(VLOOKUP(B46,Chisotaichinh!$B:$IX,4,0))=16,"N/A",VLOOKUP(B46,Chisotaichinh!$B:$IX,4,0)) -> 0.0024812934 | E46: =IF(TYPE(VLOOKUP(B46,Chisotaichinh!$B:$IX,6,0))=16,"N/A",VLOOKUP(B46,Chisotaichinh!$B:$IX,6,0)) -> 33.534878 | F46: =IF(TYPE(VLOOKUP(B46,Chisotaichinh!$B:$IX,7,0))=16,"N/A",IF(VLOOKUP(B46,Chisotaichinh!$B:$IX,7,0)<0,0,VLOOKUP(B46,Chisotaichinh!$B:$IX,7,0))) -> 199.79199 | G46: =IF(TYPE(VLOOKUP(B46,Chisotaichinh!$B:$IX,8,0))=16,"N/A",VLOOKUP(B46,Chisotaichinh!$B:$IX,8,0)) -> 0.53298068 | I46: =TopGD!A15 -> PVL | J46: =TopGD!B15 -> 3.2519166 | K46: =IF(TYPE(VLOOKUP(I46,Chisotaichinh!$B:$IX,4,0))=16,"N/A",VLOOKUP(I46,Chisotaichinh!$B:$IX,4,0)) -> -0.049437257 | L46: =IF(TYPE(VLOOKUP(I46,Chisotaichinh!$B:$IX,6,0))=16,"N/A",VLOOKUP(I46,Chisotaichinh!$B:$IX,6,0)) -> -526.29085 | M46: =IF(TYPE(VLOOKUP(I46,Chisotaichinh!$B:$IX,7,0))=16,"N/A",IF(VLOOKUP(I46,Chisotaichinh!$B:$IX,7,0)<0,0,VLOOKUP(I46,Chisotaichinh!$B:$IX,7,0))) -> 0 | N46: =IF(TYPE(VLOOKUP(I46,Chisotaichinh!$B:$IX,8,0))=16,"N/A",VLOOKUP(I46,Chisotaichinh!$B:$IX,8,0)) -> 0.30193326
B47: =TopGD!A6 -> OGC | C47: =TopGD!B6 -> 2.7711879 | D47: =IF(TYPE(VLOOKUP(B47,Chisotaichinh!$B:$IX,4,0))=16,"N/A",VLOOKUP(B47,Chisotaichinh!$B:$IX,4,0)) -> 0.006236705 | E47: =IF(TYPE(VLOOKUP(B47,Chisotaichinh!$B:$IX,6,0))=16,"N/A",VLOOKUP(B47,Chisotaichinh!$B:$IX,6,0)) -> 69.068041 | F47: =IF(TYPE(VLOOKUP(B47,Chisotaichinh!$B:$IX,7,0))=16,"N/A",IF(VLOOKUP(B47,Chisotaichinh!$B:$IX,7,0)<0,0,VLOOKUP(B47,Chisotaichinh!$B:$IX,7,0))) -> 157.81539 | G47: =IF(TYPE(VLOOKUP(B47,Chisotaichinh!$B:$IX,8,0))=16,"N/A",VLOOKUP(B47,Chisotaichinh!$B:$IX,8,0)) -> 0.97925166 | I47: =TopGD!A16 -> PVA | J47: =TopGD!B16 -> 3.1159167 | K47: =IF(TYPE(VLOOKUP(I47,Chisotaichinh!$B:$IX,4,0))=16,"N/A",VLOOKUP(I47,Chisotaichinh!$B:$IX,4,0)) -> -0.75105167 | L47: =IF(TYPE(VLOOKUP(I47,Chisotaichinh!$B:$IX,6,0))=16,"N/A",VLOOKUP(I47,Chisotaichinh!$B:$IX,6,0)) -> -6080.4938 | M47: =IF(TYPE(VLOOKUP(I47,Chisotaichinh!$B:$IX,7,0))=16,"N/A",IF(VLOOKUP(I47,Chisotaichinh!$B:$IX,7,0)<0,0,VLOOKUP(I47,Chisotaichinh!$B:$IX,7,0))) -> 0 | N47: =IF(TYPE(VLOOKUP(I47,Chisotaichinh!$B:$IX,8,0))=16,"N/A",VLOOKUP(I47,Chisotaichinh!$B:$IX,8,0)) -> 0.90235642
B48: =TopGD!A7 -> GMD | C48: =TopGD!B7 -> 2.4945933 | D48: =IF(TYPE(VLOOKUP(B48,Chisotaichinh!$B:$IX,4,0))=16,"N/A",VLOOKUP(B48,Chisotaichinh!$B:$IX,4,0)) -> 0.048135344 | E48: =IF(TYPE(VLOOKUP(B48,Chisotaichinh!$B:$IX,6,0))=16,"N/A",VLOOKUP(B48,Chisotaichinh!$B:$IX,6,0)) -> 1913.5196 | F48: =IF(TYPE(VLOOKUP(B48,Chisotaichinh!$B:$IX,7,0))=16,"N/A",IF(VLOOKUP(B48,Chisotaichinh!$B:$IX,7,0)<0,0,VLOOKUP(B48,Chisotaichinh!$B:$IX,7,0))) -> 13.848826 | G48: =IF(TYPE(VLOOKUP(B48,Chisotaichinh!$B:$IX,8,0))=16,"N/A",VLOOKUP(B48,Chisotaichinh!$B:$IX,8,0)) -> 0.65837911 | I48: =TopGD!A17 -> PVX | J48: =TopGD!B17 -> 2.7920709 | K48: =IF(TYPE(VLOOKUP(I48,Chisotaichinh!$B:$IX,4,0))=16,"N/A",VLOOKUP(I48,Chisotaichinh!$B:$IX,4,0)) -> -0.3446796 | L48: =IF(TYPE(VLOOKUP(I48,Chisotaichinh!$B:$IX,6,0))=16,"N/A",VLOOKUP(I48,Chisotaichinh!$B:$IX,6,0)) -> -2815.8068 | M48: =IF(TYPE(VLOOKUP(I48,Chisotaichinh!$B:$IX,7,0))=16,"N/A",IF(VLOOKUP(I48,Chisotaichinh!$B:$IX,7,0)<0,0,VLOOKUP(I48,Chisotaichinh!$B:$IX,7,0))) -> 0 | N48: =IF(TYPE(VLOOKUP(I48,Chisotaichinh!$B:$IX,8,0))=16,"N/A",VLOOKUP(I48,Chisotaichinh!$B:$IX,8,0)) -> 0.84044687
B49: =TopGD!A8 -> KBC | C49: =TopGD!B8 -> 2.3960135 | D49: =IF(TYPE(VLOOKUP(B49,Chisotaichinh!$B:$IX,4,0))=16,"N/A",VLOOKUP(B49,Chisotaichinh!$B:$IX,4,0)) -> -0.1249822 | E49: =IF(TYPE(VLOOKUP(B49,Chisotaichinh!$B:$IX,6,0))=16,"N/A",VLOOKUP(B49,Chisotaichinh!$B:$IX,6,0)) -> -1767.5742 | F49: =IF(TYPE(VLOOKUP(B49,Chisotaichinh!$B:$IX,7,0))=16,"N/A",IF(VLOOKUP(B49,Chisotaichinh!$B:$IX,7,0)<0,0,VLOOKUP(B49,Chisotaichinh!$B:$IX,7,0))) -> 0 | G49: =IF(TYPE(VLOOKUP(B49,Chisotaichinh!$B:$IX,8,0))=16,"N/A",VLOOKUP(B49,Chisotaichinh!$B:$IX,8,0)) -> 0.56506786 | I49: =TopGD!A18 -> KMT | J49: =TopGD!B18 -> 2.7486946 | K49: =IF(TYPE(VLOOKUP(I49,Chisotaichinh!$B:$IX,4,0))=16,"N/A",VLOOKUP(I49,Chisotaichinh!$B:$IX,4,0)) -> 0.026805253 | L49: =IF(TYPE(VLOOKUP(I49,Chisotaichinh!$B:$IX,6,0))=16,"N/A",VLOOKUP(I49,Chisotaichinh!$B:$IX,6,0)) -> 318.01607 | M49: =IF(TYPE(VLOOKUP(I49,Chisotaichinh!$B:$IX,7,0))=16,"N/A",IF(VLOOKUP(I49,Chisotaichinh!$B:$IX,7,0)<0,0,VLOOKUP(I49,Chisotaichinh!$B:$IX,7,0))) -> 15.408026 | N49: =IF(TYPE(VLOOKUP(I49,Chisotaichinh!$B:$IX,8,0))=16,"N/A",VLOOKUP(I49,Chisotaichinh!$B:$IX,8,0)) -> 0.40666009
B52: BẢN TIN THỊ TRƯỜNG | N52: Trang 6

Sheet Disclaimer_Page6
B62: BẢN TIN THỊ TRƯỜNG | L62: Trang 7

Sheet Real-time Hose
A1: RecordIndex | B1: Ngay | C1: Gio | D1: VNIndex | E1: KLGD | F1: GiaThamChieu
A2: 1 | B2: 41459 | C2: 0.38702546 | D2: 489.2 | E2: 1576810 | F2: 487.35
A3: 2 | B3: 41459 | C3: 0.38734954 | D3: 488.94 | E3: 1685640 | F3: 487.35
A4: 4 | B4: 41459 | C4: 0.38880787 | D4: 488.53 | E4: 1949180 | F4: 487.35
A5: 6 | B5: 41459 | C5: 0.38944444 | D5: 488.53 | E5: 1949180 | F5: 487.35
A6: 8 | B6: 41459 | C6: 0.39034722 | D6: 488.29 | E6: 2316790 | F6: 487.35
A7: 10 | B7: 41459 | C7: 0.39158565 | D7: 488.34 | E7: 2572900 | F7: 487.35
A8: 12 | B8: 41459 | C8: 0.39222222 | D8: 488.34 | E8: 2572900 | F8: 487.35
A9: 16 | B9: 41459 | C9: 0.3943287 | D9: 488.34 | E9: 3160580 | F9: 487.35
A10: 18 | B10: 41459 | C10: 0.39501157 | D10: 488.34 | E10: 3160580 | F10: 487.35
A11: 20 | B11: 41459 | C11: 0.39594907 | D11: 488.11 | E11: 3621630 | F11: 487.35
A12: 22 | B12: 41459 | C12: 0.39719907 | D12: 488.57 | E12: 3999140 | F12: 487.35
A13: 24 | B13: 41459 | C13: 0.39782407 | D13: 489.03 | E13: 4151170 | F13: 487.35
... A101: 232 | B101: 41459 | C101: 0.61341435 | D101: 487.22 | E101: 39430283 | F101: 487.35

Sheet Real-time HNX
A1: RecordIndex | B1: Ngay | C1: Gio | D1: HNXIndex | E1: KLGD | F1: GiaThamChieu
A2: 1 | B2: 41459 | C2: 0.37565972 | D2: 63.06 | E2: 313100 | F2: 63.07
A3: 2 | B3: 41459 | C3: 0.37631944 | D3: 63.06 | E3: 321500 | F3: 63.07
A4: 4 | B4: 41459 | C4: 0.3777662 | D4: 62.94 | E4: 473500 | F4: 63.07
A5: 6 | B5: 41459 | C5: 0.37908565 | D5: 62.95 | E5: 563786 | F5: 63.07
A6: 8 | B6: 41459 | C6: 0.38048611 | D6: 63.01 | E6: 619586 | F6: 63.07
A7: 10 | B7: 41459 | C7: 0.38184028 | D7: 63.01 | E7: 678886 | F7: 63.07
A8: 12 | B8: 41459 | C8: 0.38325231 | D8: 63.01 | E8: 889886 | F8: 63.07
A9: 14 | B9: 41459 | C9: 0.3846875 | D9: 62.98 | E9: 953211 | F9: 63.07
A10: 18 | B10: 41459 | C10: 0.38746528 | D10: 62.93 | E10: 1193863 | F10: 63.07
A11: 20 | B11: 41459 | C11: 0.38885417 | D11: 62.92 | E11: 1375563 | F11: 63.07
A12: 22 | B12: 41459 | C12: 0.39016204 | D12: 62.91 | E12: 1444763 | F12: 63.07
A13: 24 | B13: 41459 | C13: 0.39162037 | D13: 62.92 | E13: 1483163 | F13: 63.07
... A101: 226 | B101: 41459 | C101: 0.59373843 | D101: 63.07 | E101: 20548185 | F101: 63.07

Sheet ThongkeTT
A1: UpdateDate | B1: GiaDongCua | C1: KLGD | D1: GTGD | E1: TongKLDatMua | F1: TongKLDatBan | G1: KLNDTNNMUA | H1: KLNDTNNBAN | I1: GTNDTNNMUA | J1: GTNDTNNBAN
A2: 41459 | B2: 48722 | C2: 3943028.3 | D2: 82735473190 | E2: 88961040 | F2: 90775830 | G2: 3034299 | H2: 5293959 | I2: 133940127000 | J2: 194288022000
A3: 41458 | B3: 48735 | C3: 4599140.6 | D3: 101178223300 | E3: 86502930 | F3: 95009300 | G3: 4089726 | H3: 5556796 | I3: 133651864000 | J3: 166205081000
A4: 41457 | B4: 48984 | C4: 3783596 | D4: 67026679300 | E4: 86957480 | F4: 79369770 | G4: 2138180 | H4: 2854300 | I4: 87426700000 | J4: 85824622000
A5: 41456 | B5: 48004 | C5: 3505538.2 | D5: 49954679300 | E5: 78514470 | F5: 77030090 | G5: 1628677 | H5: 4478702 | I5: 41471087000 | J5: 60668279000
A6: 41453 | B6: 48113 | C6: 6241230.3 | D6: 109371865980 | E6: 87345270 | F6: 114281900 | G6: 2416550 | H6: 1969130 | I6: 65199628000 | J6: 50373335000
A7: 41452 | B7: 48295 | C7: 4601988.3 | D7: 88747725820 | E7: 100764770 | F7: 92201540 | G7: 3452665 | H7: 5376965 | I7: 188490126000 | J7: 232989669000
A8: 41451 | B8: 47353 | C8: 6667588 | D8: 135014300700 | E8: 116056910 | F8: 107351220 | G8: 3679570 | H8: 15019350 | I8: 152282294000 | J8: 394833130000
A9: 41450 | B9: 47302 | C9: 8681965.4 | D9: 140211016380 | E9: 127700370 | F9: 158708740 | G9: 6068894 | H9: 12090664 | I9: 136629518000 | J9: 268080439000
A10: 41449 | B10: 48974 | C10: 5830895.7 | D10: 111127033880 | E10: 105704030 | F10: 117186110 | G10: 4440365 | H10: 11303915 | I10: 230597621000 | J10: 406697515000
A11: 41446 | B11: 49884 | C11: 9414465 | D11: 166128672900 | E11: 171010470 | F11: 169476340 | G11: 23143220 | H11: 41826740 | I11: 478533652000 | J11: 841677146000
A12: 41445 | B12: 49951 | C12: 4953401.3 | D12: 81418447470 | E12: 98898620 | F12: 119477160 | G12: 6138658 | H12: 9237763 | I12: 123399734000 | J12: 214846658000
A13: 41444 | B13: 50337 | C13: 4305837.5 | D13: 76906147750 | E13: 100596580 | F13: 100612150 | G13: 5166454 | H13: 7929955 | I13: 138599581000 | J13: 213200115000
... A31: 41418 | B31: 50024 | C31: 6251617.5 | D31: 110651782960 | E31: 127229440 | F31: 123486160 | G31: 3479970 | H31: 7288216 | I31: 113101247000 | J31: 190723014000
A33: UpdateDate | B33: GiaDongCua | C33: KLGD | D33: GTGD | E33: TongKLDatMua | F33: TongKLDatBan | G33: KLNDTNNMUA | H33: KLNDTNNBAN | I33: GTNDTNNMUA | J33: GTNDTNNBAN
A34: 41459 | B34: 63.07 | C34: 20548185 | D34: 163519559700 | E34: 47265900 | F34: 47729700 | G34: 1469424 | H34: 1244757 | I34: 21070705600 | J34: 17313001700
A35: 41458 | B35: 63.07 | C35: 24904238 | D35: 184723626500 | E35: 55708500 | F35: 60894900 | G35: 655900 | H35: 408400 | I35: 9769320000 | J35: 6713260000
A36: 41457 | B36: 63.2 | C36: 25539860 | D36: 181705032500 | E36: 53633200 | F36: 48767300 | G36: 610800 | H36: 366300 | I36: 5585415200 | J36: 4953610000
A37: 41456 | B37: 62.49 | C37: 16699762 | D37: 130369361300 | E37: 41840600 | F37: 46030200 | G37: 613600 | H37: 465500 | I37: 13200384000 | J37: 4906064000
A38: 41453 | B38: 62.76 | C38: 35908251 | D38: 262239874900 | E38: 52796200 | F38: 68668100 | G38: 750000 | H38: 135400 | I38: 8988670000 | J38: 722800000
A39: 41452 | B39: 62.85 | C39: 57483329 | D39: 391819524700 | E39: 61032300 | F39: 57130300 | G39: 264300 | H39: 1132500 | I39: 3581640000 | J39: 12759390000
A40: 41451 | B40: 62.24 | C40: 28995253 | D40: 208589809200 | E40: 63956300 | F40: 55724100 | G40: 170600 | H40: 2131860 | I40: 2419090000 | J40: 20389446000
A41: 41450 | B41: 62 | C41: 57599136 | D41: 444024859400 | E41: 83056500 | F41: 86611700 | G41: 1106900 | H41: 2004400 | I41: 16005520000 | J41: 23783140000
A42: 41449 | B42: 63.55 | C42: 37645066 | D42: 300450627800 | E42: 61299600 | F42: 72931700 | G42: 246800 | H42: 1755100 | I42: 3440090000 | J42: 18464870000
A43: 41446 | B43: 64.08 | C43: 6510209 | D43: 47085578300 | E43: 35915400 | F43: 66223700 | G43: 18042700 | H43: 1387000 | I43: 208592510000 | J43: 17476180000
A44: 41445 | B44: 64.53 | C44: 34495471 | D44: 288503784700 | E44: 64961800 | F44: 81855000 | G44: 3933100 | H44: 1087500 | I44: 45132133500 | J44: 13194930000
A45: 41444 | B45: 65.02 | C45: 29700585 | D45: 256802519800 | E45: 60372300 | F45: 79718300 | G45: 3082500 | H45: 653085 | I45: 46147200000 | J45: 24822313000
... A63: 41418 | B63: 62.06 | C63: 22828535 | D63: 189919424400 | E63: 66275200 | F63: 67049400 | G63: 558400 | H63: 1196115 | I63: 5980270000 | J63: 11096562000

Sheet TopGD
A1: Top 10 Beta của HOSE, và Top 10 Beta của HN
A3: ticker | B3: f5_15 | C3: updatedate | D3: exchangeid
A4: SGT | B4: 2.8177991 | C4: 41459 | D4: 0
A5: ITA | B5: 2.7961886 | C5: 41459 | D5: 0
A6: OGC | B6: 2.7711879 | C6: 41459 | D6: 0
A7: GMD | B7: 2.4945933 | C7: 41459 | D7: 0
A8: KBC | B8: 2.3960135 | C8: 41459 | D8: 0
A9: BVH | B9: 2.2806867 | C9: 41459 | D9: 0
A10: REE | B10: 2.2457777 | C10: 41459 | D10: 0
A11: PPC | B11: 2.2318093 | C11: 41459 | D11: 0
A12: HSG | B12: 2.1441658 | C12: 41459 | D12: 0
A13: PVF | B13: 2.1267582 | C13: 41459 | D13: 0
A14: VCG | B14: 3.5252076 | C14: 41459 | D14: 1
A15: PVL | B15: 3.2519166 | C15: 41459 | D15: 1
... A23: SDE | B23: 2.5086039 | C23: 41459 | D23: 1
A25: Top 10 GD Ngày- HOSE
A27: Top 5 NĐTNN
A29: Ticker | B29: UpdateDate | C29: KLBanRong
A30: VIC | B30: 41459 | C30: -539420
A31: HAG | B31: 41459 | C31: -240200
A32: DIG | B32: 41459 | C32: -227540
A33: PPC | B33: 41459 | C33: -214860
A34: ITA | B34: 41459 | C34: -193110
A35: HPG | B35: 41459 | C35: -188190
A36: NTL | B36: 41459 | C36: -135000
A37: STB | B37: 41459 | C37: -131760
A38: PVD | B38: 41459 | C38: -97750
A39: MSN | B39: 41459 | C39: -96130
A40: Ticker | B40: UpdateDate | C40: KLMuaRong
A41: FPT | B41: 41459 | C41: 662940
A42: PET | B42: 41459 | C42: 151400
A43: MBB | B43: 41459 | C43: 47660
A44: VIP | B44: 41459 | C44: 26340
A45: VNS | B45: 41459 | C45: 16870
A46: HAR | B46: 41459 | C46: 15640
A47: DPM | B47: 41459 | C47: 12530
A48: VFMVF1 | B48: 41459 | C48: 9830
A49: PHR | B49: 41459 | C49: 7050
A50: GMC | B50: 41459 | C50: 7000
A52: Top 5 KLGD
A54: Ma | B54: UpdateDate | C54: GiaTC | D54: GiaDC | E54: KLGD
A55: HQC | B55: 41459 | C55: 660 | D55: 680 | E55: 220618
A56: VIC | B56: 41459 | C56: 6350 | D56: 6300 | E56: 202270
A57: VHG | B57: 41459 | C57: 510 | D57: 540 | E57: 193057.4
A58: REE | B58: 41459 | C58: 2600 | D58: 2640 | E58: 163564
A59: HAG | B59: 41459 | C59: 2090 | D59: 2080 | E59: 159877
A60: ITA | B60: 41459 | C60: 680 | D60: 670 | E60: 154959
A61: FPT | B61: 41459 | C61: 4260 | D61: 4340 | E61: 150682
A62: PPC | B62: 41459 | C62: 2440 | D62: 2450 | E62: 145167
A63: OGC | B63: 41459 | C63: 1090 | D63: 1090 | E63: 103619
A64: DRC | B64: 41459 | C64: 3820 | D64: 3890 | E64: 94206
A66: Top 5 tăng giá
A68: Ma | B68: UpdateDate | C68: GiaTC | D68: GiaDC | E68: TDG | F68: PhanTramTDG
A69: SVI | B69: 41459 | C69: 3730 | D69: 3990 | E69: 260 | F69: 6.97
A70: C47 | B70: 41459 | C70: 1740 | D70: 1860 | E70: 120 | F70: 6.89
A71: COM | B71: 41459 | C71: 2410 | D71: 2570 | E71: 160 | F71: 6.63
A72: SVT | B72: 41459 | C72: 670 | D72: 710 | E72: 40 | F72: 5.97
A73: PTB | B73: 41459 | C73: 2700 | D73: 2860 | E73: 160 | F73: 5.92
A74: VHG | B74: 41459 | C74: 510 | D74: 540 | E74: 30 | F74: 5.88
A75: CLG | B75: 41459 | C75: 1490 | D75: 1570 | E75: 80 | F75: 5.36
A76: RIC | B76: 41459 | C76: 580 | D76: 610 | E76: 30 | F76: 5.17
A77: SGT | B77: 41459 | C77: 200 | D77: 210 | E77: 10 | F77: 5
A78: CLC | B78: 41459 | C78: 2020 | D78: 2120 | E78: 100 | F78: 4.95
A80: Top 5 giảm giá
A82: Ma | B82: UpdateDate | C82: GiaTC | D82: GiaDC | E82: PhanTramTDG
A83: CYC | B83: 41459 | C83: 290 | D83: 270 | E83: -6.9
A84: RDP | B84: 41459 | C84: 1600 | D84: 1490 | E84: -6.88
A85: LGC | B85: 41459 | C85: 1610 | D85: 1500 | E85: -6.84
A86: NKG | B86: 41459 | C86: 1260 | D86: 1180 | E86: -6.35
A87: ELC | B87: 41459 | C87: 2220 | D87: 2080 | E87: -6.31
A88: PXM | B88: 41459 | C88: 160 | D88: 150 | E88: -6.25
A89: MDG | B89: 41459 | C89: 380 | D89: 360 | E89: -5.27
A90: VID | B90: 41459 | C90: 380 | D90: 360 | E90: -5.27
A91: MCP | B91: 41459 | C91: 1390 | D91: 1320 | E91: -5.04
A92: TYA | B92: 41459 | C92: 400 | D92: 380 | E92: -5
A94: Top 5 vốn hóa
A96: Ma | B96: UpdateDate | C96: GiaTC | D96: GiaDC | E96: VonHoa
A97: GAS | B97: 41459 | C97: 6000 | D97: 6000 | E97: 113700000000000
A98: VNM | B98: 41459 | C98: 13400 | D98: 13400 | E98: 111692440584000
A99: MSN | B99: 41459 | C99: 9400 | D99: 9400 | E99: 66283242062000
A100: CTG | B100: 41459 | C100: 1960 | D100: 1950 | E100: 63689814786000
A101: VCB | B101: 41459 | C101: 2740 | D101: 2740 | E101: 63497227882400
A102: VIC | B102: 41459 | C102: 6350 | D102: 6300 | E102: 58503860919000
A103: BVH | B103: 41459 | C103: 4250 | D103: 4250 | E103: 28920035945000
A104: STB | B104: 41459 | C104: 1750 | D104: 1750 | E104: 19993952825000
A105: EIB | B105: 41459 | C105: 1480 | D105: 1480 | E105: 18285738979200
A106: DPM | B106: 41459 | C106: 4050 | D106: 4040 | E106: 15349344104000
A108: Top 10 GD Ngày- HNX
A110: Top 5 NĐTNN
A112: Ticker | B112: UpdateDate | C112: KLBanRong
A113: PSI | B113: 41459 | C113: -40000
A114: DHL | B114: 41459 | C114: -24100
A115: TIG | B115: 41459 | C115: -11700
A116: VCG | B116: 41459 | C116: -8000
A117: NBC | B117: 41459 | C117: -1000
A118: CAP | B118: 41459 | C118: -500
A119: VNC | B119: 41459 | C119: -133
A120: AAA | B120: 41459 | C120: 0
A121: ACB | B121: 41459 | C121: 0
A122: ADC | B122: 41459 | C122: 0
...

Sheet Chisotaichinh
A1: industryid | B1: Ma | C1: Ngay | D1: VonHoa | E1: ROE | F1: ROA | G1: EPS | H1: PE | I1: PB | J1: Beta | K1: FreeFloat | L1: FirstlistingDate | M1: ShortName
A2: -1 | B2: AAA | C2: 41459 | D2: 263340000000 | E2: 0.12699349 | F2: 0.070119764 | G2: 4422.4278 | H2: 3.0073979 | I2: 0.49233262 | J2: 0.78456972 | K2: 18810000 | L2: 40374.406 | M2: Công ty Cổ phần Nhựa và Môi trường xanh An Phát
A3: -1 | B3: AAM | C3: 41459 | D3: 186621062400 | E3: 0.031970001 | F3: 0.0286688 | G3: 944.56277 | H3: 22.867723 | I3: 0.95489459 | J3: -0.16562847 | K3: 4573791 | L3: 40080.515 | M3: Công ty Cổ Phần Thủy Sản Mê Kông
A4: -1 | B4: ABT | C4: 41459 | D4: 466041883500 | E4: 0.18934419 | F4: 0.14225543 | G4: 6865.9307 | H4: 5.8986904 | I4: 1.3950538 | J4: 0.25203622 | K4: 1291582 | L4: 39076 | M4: Công ty Cổ phần Xuất nhập khẩu Thủy sản Bến Tre
A5: -1 | B5: ACB | C5: 41459 | D5: 15096913746600 | E5: 0.030586347 | F5: 0.0019351527 | G5: 424.4965 | H5: 37.927285 | I5: 1.1681506 | J5: 0.38720711 | K5: 656387554 | L5: 39042.427 | M5: Ngân hàng Thương mại Cổ phần Á Châu
A6: -1 | B6: ACC | C6: 41459 | D6: 263000000000 | E6: 0.25173173 | F6: 0.18182807 | G6: 5183.4839 | H6: 5.0738076 | I6: 1.1963269 | J6: 0.76975561 | K6: 2230864 | L6: 40724.65 | M6: Công ty Cổ phần Bê tông Becamex
A7: -1 | B7: ACL | C7: 41459 | D7: 204236392500 | E7: 0.026357519 | F7: 0.0093756294 | G7: 393.56968 | H7: 28.203392 | I7: 0.7630145 | J7: 0.023066799 | K7: 7484289 | L7: 39317 | M7: Công ty Cổ phần Xuất nhập khẩu Thủy sản Cửu Long An Giang
A8: -1 | B8: ADC | C8: 41459 | D8: 14400000000 | E8: 0.31299636 | F8: 0.12525261 | G8: 4596.5116 | H8: 3.1328105 | I8: 0.9700456 | J8: 0.098217406 | K8: 419300 | L8: 40536.935 | M8: Công ty Cổ phần Mĩ thuật và Truyền thông
A9: -1 | B9: AGD | C9: 41459 | D9: 1053000000000 | E9: 0.15280768 | F9: 0.07944192 | G9: 5894.1315 | H9: 9.9251264 | I9: 1.4155068 | J9: 1.0926906 | K9: 4271712 | L9: 40185.45 | M9: Công ty Cổ phần Gò Đàng
A10: -1 | B10: AGF | C10: 41459 | D10: 538804167200 | E10: 0.061574415 | F10: 0.024382063 | G10: 3168.4412 | H10: 13.224168 | I10: 0.7977096 | J10: 1.884967 | K10: 430051 | L10: 37372 | M10: Công ty Cổ phần Xuất nhập khẩu Thủy sản An Giang
A11: -1 | B11: AGM | C11: 41459 | D11: 238420000000 | E11: 0.13606236 | F11: 0.045661721 | G11: 2710.4429 | H11: 4.8331584 | I11: 0.65779252 | J11: 0.33476715 | K11: 3384100 | L11: 41257.392 | M11: Công ty Cổ phần Xuất nhập khẩu An Giang
A12: -1 | B12: AGR | C12: 41459 | D12: 1098240000000 | E12: 0.015346607 | F12: 0.005219532 | G12: 165.69377 | H12: 31.383196 | I12: 0.48504121 | J12: 0.65498411 | K12: 31941024 | L12: 40157.436 | M12: Công ty Cổ phần Chứng khoán Ngân hàng Nông nghiệp và Phát triển Nông thôn Việt Nam
A13: -1 | B13: ALP | C13: 41459 | D13: 692943886800 | E13: -0.078917556 | F13: -0.043143057 | G13: -973.43944 | H13: -3.698227 | I13: 0.35511127 | J13: 1.368984 | K13: 37180965 | L13: 39423 | M13: Công ty Cổ phần Đầu tư Alphanam
... A410: -1 | B410: PSC | C410: 41459 | D410: 65760000000 | E410: 0.06360624 | F410: 0.032266485 | G410: 1439.9688 | H410: 9.5140951 | I410: 0.59141998 | J410: 0.17663035 | K410: 1239930 | L410: 39080 | M410: Công ty Cổ phần Vận tải và Dịch vụ Petrolimex Sài Gòn
A411: -1 | B411: PSD | C411: 41459 | D411: 896030100000 | E411: 0.75354887 | F411: 0.05423784 | G411: 8021.7498 | H411: 7.8536481 | I411: 3.8323974 | J411: 0 | L411: 41453.685 | M411: Công ty Cổ phần Phân phối Tổng hợp Dầu khí
A412: -1 | B412: PSG | C412: 41459 | D412: 28000000000 | E412: -3.2952844 | F412: -0.20711022 | G412: -6986.2354 | H412: -0.11451089 | I412: -3.1959511 | J412: 0.61301055 | K412: 16741574 | L412: 40617.587 | M412: Công ty Cổ phần Đầu tư và Xây lắp Dầu khí Sài Gòn
A413: -1 | B413: PSI | C413: 41459 | D413: 436841490000 | E413: 0.0065549429 | F413: 0.0036303801 | G413: 64.998007 | H413: 112.31114 | I413: 0.7341341 | J413: 1.5552154 | K413: 25763811 | L413: 40380.698 | M413: Công ty Cổ phần Chứng khoán Dầu khí
A414: -1 | B414: PTB | C414: 41459 | D414: 343218475600 | E414: 0.40913735 | F414: 0.12070326 | G414: 6776.7629 | H414: 4.2203041 | I414: 1.5054277 | J414: 0.88080335 | K414: 6052942 | L414: 40746.4 | M414: Công ty Cổ phần Phú Tài
A415: -1 | B415: PTC | C415: 41459 | D415: 55100000000 | E415: -0.28186504 | F415: -0.15473704 | G415: -5938.1583 | H415: -0.97673381 | I415: 0.31547816 | J415: 0.81390967 | K415: 2836510 | L415: 39797 | M415: Công ty Cổ phần Đầu tư và Xây dựng Bưu điện
A416: -1 | B416: PTI | C416: 41459 | D416: 529154944500 | E416: 0.099318586 | F416: 0.038789909 | G416: 1277.9035 | H416: 8.2165827 | I416: 0.78445694 | J416: 0.024449489 | K416: 27651113 | L416: 40604.484 | M416: Tổng Công ty Cổ phần Bảo hiểm Bưu điện
A417: -1 | B417: PTK | C417: 41459 | D417: 213840000000 | E417: 0.045803146 | F417: 0.031781521 | G417: 474.63371 | H417: 20.85819 | I417: 0.91663988 | J417: 0.64206095 | K417: 21420000 | L417: 41177.384 | M417: Công ty Cổ phần Luyện kim Phú Thịnh
A418: -1 | B418: PTL | C418: 41459 | D418: 266935716000 | E418: 0.0040658031 | F418: 0.0015838508 | G418: 41.049579 | H418: 65.774121 | I418: 0.26849509 | J418: 0.64080876 | K418: 30617165 | L418: 40443.371 | M418: Công ty Cổ phần Đầu tư Hạ tầng và Đô thị Dầu khí
A419: -1 | B419: PTM | C419: 41459 | D419: 32760000000 | E419: -0.066886196 | F419: -0.061712891 | G419: -644.44217 | H419: -12.103491 | I419: 0.84418179 | J419: 0.52474536 | K419: 1732050 | L419: 39829.881 | M419: Công ty Cổ phần Sản xuất, Thương mại và Dịch vụ ô tô PTM
A420: -1 | B420: PTS | C420: 41459 | D420: 21715200000 | E420: -0.060187479 | F420: -0.036187077 | G420: -844.88218 | H420: -4.6160282 | I420: 0.28072898 | J420: 0.70775141 | K420: 2679306 | L420: 39052 | M420: Công ty Cổ phần Vận tải và Dịch vụ Petrolimex Hải Phòng
A421: -1 | B421: PV2 | C421: 41459 | D421: 106919520000 | E421: -0.018243603 | F421: -0.014882346 | G421: -196.53549 | H421: -14.755605 | I421: 0.26504388 | J421: 2.2135586 | K421: 22121280 | L421: 40528.56 | M421: Công ty Cổ phần Đầu tư và Phát triển PVI
A422: -1 | B422: PVA | C422: 41459 | D422: 91753200000 | E422: -0.75105167 | F422: -0.064014765 | G422: -6080.4938 | H422: -0.69073338 | I422: 0.90235642 | J422: 3.1159167 | K422: 16266310 | L422: 39794.388 | M422: Công ty Cổ phần Tổng Công ty Xây lắp Dầu khí Nghệ An
A423: -1 | B423: PVC | C423: 41459 | D423: 815000000000 | E423: 0.14625785 | F423: 0.059291595 | G423: 2600.7458 | H423: 6.267433 | I423: 0.95742914 | J423: 1.5168777 | K423: 30000000 | L423: 39401 | M423: Tổng Công ty Dung dịch Khoan và Hoá phẩm Dầu khí - Công ty Cổ phần
... A691: -1 | B691: YBC | C691: 41459 | D691: 83240853000 | E691: -0.63422203 | F691: -0.057702567 | G691: -4529.6893 | H691: -3.8192465 | I691: 3.3026159 | J691: 0.14071546 | K691: 3019450 | L691: 39588 | M691: Công ty Cổ phần Xi măng và Khoáng sản Yên Bái
A692: 0 | B692: VNIndex | C692: 41459 | D692: 814199208518700 | E692: 0.205822 | F692: 0.11243064 | G692: 3647.6561 | H692: 13.794557 | I692: 2.9492392 | J692: 0.96780715 | K692: 0 | L692: 41459.728
A693: 1 | B693: HNXIndex | C693: 41459 | D693: 99067203927000 | E693: 0.081586725 | F693: 0.043040303 | G693: 1736.6915 | H693: 22.72279 | I693: 1.4674725 | J693: 0.85287933 | K693: 0 | L693: 41459.728
A694: 141 | B694: Dầu khí | C694: 41459 | D694: 18370363708900 | E694: 0.18982485 | F694: 0.064357987 | G694: 5082.6312 | H694: 5.6461488 | I694: 1.2079723 | J694: 1.1031014 | K694: 0 | L694: 41459.728
A695: 146 | B695: Nguyên vật liệu | C695: 41459 | D695: 66121705093400 | E695: 0.18834631 | F695: 0.12761698 | G695: 4429.0495 | H695: 8.2227089 | I695: 1.9488542 | J695: 0.95231503 | K695: 0 | L695: 41459.728
A696: 169 | B696: Công nghiệp | C696: 41459 | D696: 62594252763200 | E696: 0.10974676 | F696: 0.067101019 | G696: 2532.1258 | H696: 22.605791 | I696: 0.99836268 | J696: 1.2367478 | K696: 0 | L696: 41459.728
A697: 200 | B697: Hàng Tiêu dùng | C697: 41459 | D697: 229913149069700 | E697: 0.25248559 | F697: 0.18670385 | G697: 4864.1299 | H697: 14.9032 | I697: 4.8286482 | J697: 0.80275561 | K697: 0 | L697: 41459.728
A698: 230 | B698: Dược phẩm và Y tế | C698: 41459 | D698: 12652689151200 | E698: 0.26151355 | F698: 0.16524958 | G698: 6388.2692 | H698: 7.7134187 | I698: 2.3284595 | J698: 0.58848752 | K698: 0 | L698: 41459.728
A699: 239 | B699: Dịch vụ Tiêu dùng | C699: 41459 | D699: 9932008339800 | E699: 0.19283538 | F699: 0.079854302 | G699: 3378.6037 | H699: 9.5020253 | I699: 1.8189022 | J699: 0.39225119 | K699: 0 | L699: 41459.728
A700: 263 | B700: Viễn thông | C700: 41459 | D700: 54400000000 | E700: 0.031049918 | F700: 0.016029596 | G700: 627.7398 | H700: 0.033780123 | I700: 0.39487155 | J700: 1.190656 | K700: 0 | L700: 41459.728
A701: 270 | B701: Tiện ích Cộng đồng | C701: 41459 | D701: 137691151263000 | E701: 0.38310895 | F701: 0.21472418 | G701: 5576.6098 | H701: 9.0926091 | I701: 3.1868178 | J701: 1.1449525 | K701: 0 | L701: 41459.728
A702: 278 | B702: Tài chính | C702: 41459 | D702: 185515910764200 | E702: 0.077237967 | F702: 0.022299152 | G702: 1116.5722 | H702: 27.599551 | I702: 2.8302224 | J702: 1.289169 | K702: 0 | L702: 41459.728
A703: 304 | B703: Công nghệ Thông tin | C703: 41459 | D703: 15085696309900 | E703: 0.20741756 | F703: 0.094264828 | G703: 4730.0254 | H703: 7.1554746 | I703: 1.5736272 | J703: 0.94917638 | K703: 0 | L703: 41459.728
A704: 324 | B704: Ngân hàng | C704: 41459 | D704: 202592144467500 | E704: 0.11244781 | F704: 0.0093431109 | G704: 1754.7231 | H704: 7.1479863 | I704: 1.2922507 | J704: 0.76356594 | K704: 0 | L704: 41459.728

Sheet GDNganh
A1: Giá dịch ngành + vốn hóa
A3: Nganh | B3: 41418 | C3: 41421 | D3: 41422 | E3: 41423 | F3: 41424 | G3: 41425 | H3: 41428 | I3: 41429 | J3: 41430 | K3: 41431 | L3: 41432 | M3: 41435 | N3: 41436 | O3: 41437 | P3: 41438 | Q3: 41439 | R3: 41442 | S3: 41443 | T3: 41444 | U3: 41445 | V3: 41446 | W3: 41449 | X3: 41450 | Y3: 41451 | Z3: 41452 | AA3: 41453 | AB3: 41456 | AC3: 41457 | AD3: 41458 | AE3: 41459
A4: Công nghệ Thông tin | B4: 114.82 | C4: 117.27 | D4: 118.15 | E4: 119.97 | F4: 119.96 | G4: 121.45 | H4: 121.5 | I4: 122.3 | J4: 123.68 | K4: 124.77 | L4: 124.57 | M4: 124.45 | N4: 123.27 | O4: 122.74 | P4: 121.94 | Q4: 120.79 | R4: 118.02 | S4: 117.32 | T4: 117.44 | U4: 117.06 | V4: 116.77 | W4: 116.54 | X4: 113.32 | Y4: 113.99 | Z4: 114.37 | AA4: 114.6 | AB4: 114.63 | AC4: 115.71 | AD4: 116.12 | AE4: 117.43
A5: Công nghiệp | B5: 93.07 | C5: 95.07 | D5: 95.9 | E5: 96.03 | F5: 97.56 | G5: 97.04 | H5: 96.73 | I5: 95.28 | J5: 96.14 | K5: 97.82 | L5: 98.03 | M5: 97.64 | N5: 97.27 | O5: 98.45 | P5: 99.07 | Q5: 99.25 | R5: 96.78 | S5: 96.86 | T5: 97.38 | U5: 96.16 | V5: 96.14 | W5: 94.53 | X5: 91.32 | Y5: 91.3 | Z5: 92.59 | AA5: 92.53 | AB5: 92 | AC5: 93.79 | AD5: 94.01 | AE5: 94.24
A6: Dầu khí | B6: 87.67 | C6: 91.33 | D6: 93.7 | E6: 94.96 | F6: 97.4 | G6: 97.8 | H6: 96.69 | I6: 95.3 | J6: 97.06 | K6: 98.57 | L6: 99.79 | M6: 103.59 | N6: 101.73 | O6: 98.68 | P6: 101.56 | Q6: 98.55 | R6: 96.5 | S6: 97.01 | T6: 96.9 | U6: 97.68 | V6: 96.61 | W6: 94.2 | X6: 89.22 | Y6: 89.84 | Z6: 93.03 | AA6: 91.67 | AB6: 91.26 | AC6: 94.16 | AD6: 94.32 | AE6: 94.3
A7: Dịch vụ Tiêu dùng | B7: 220.88 | C7: 228.24 | D7: 230.93 | E7: 232.46 | F7: 231.34 | G7: 231.88 | H7: 235.76 | I7: 235.94 | J7: 243.89 | K7: 243.16 | L7: 242.72 | M7: 241.21 | N7: 243.08 | O7: 240.47 | P7: 240.63 | Q7: 240.8 | R7: 238.37 | S7: 239.76 | T7: 246.08 | U7: 243.59 | V7: 245.27 | W7: 242.4 | X7: 236.55 | Y7: 234.59 | Z7: 239.66 | AA7: 241.14 | AB7: 238.48 | AC7: 239.95 | AD7: 239.6 | AE7: 241.7
A8: Dược phẩm và Y tế | B8: 158.4 | C8: 156.98 | D8: 158.55 | E8: 160.97 | F8: 162.48 | G8: 163.91 | H8: 163.5 | I8: 160.04 | J8: 161.25 | K8: 162.64 | L8: 166.05 | M8: 169.31 | N8: 168.98 | O8: 169.14 | P8: 165.35 | Q8: 166.03 | R8: 163.67 | S8: 164.83 | T8: 167.31 | U8: 167.43 | V8: 168.47 | W8: 167.49 | X8: 165.67 | Y8: 166.07 | Z8: 166.26 | AA8: 165.23 | AB8: 165.93 | AC8: 167.14 | AD8: 166.76 | AE8: 167.32
A9: Hàng Tiêu dùng | B9: 445.75 | C9: 453.21 | D9: 455.16 | E9: 451.65 | F9: 455.2 | G9: 455.37 | H9: 454.24 | I9: 448.72 | J9: 451.88 | K9: 454.88 | L9: 456.33 | M9: 457.02 | N9: 460.68 | O9: 455.8 | P9: 446.92 | Q9: 446.8 | R9: 438.18 | S9: 439.74 | T9: 442.95 | U9: 440.78 | V9: 441.01 | W9: 432.08 | X9: 420.36 | Y9: 420.39 | Z9: 424.23 | AA9: 423.87 | AB9: 425.12 | AC9: 436.89 | AD9: 434.75 | AE9: 434.96
A10: Ngân hàng | B10: 144.95 | C10: 148.16 | D10: 148.65 | E10: 148.14 | F10: 150.88 | G10: 151.34 | H10: 152.14 | I10: 149.15 | J10: 150.22 | K10: 152.61 | L10: 155.78 | M10: 154 | N10: 152.63 | O10: 150.06 | P10: 150.88 | Q10: 149.57 | R10: 149.35 | S10: 150.1 | T10: 150.96 | U10: 150.79 | V10: 150.8 | W10: 148.31 | X10: 143.51 | Y10: 142.72 | Z10: 145.02 | AA10: 145.74 | AB10: 143.5 | AC10: 144.69 | AD10: 143.67 | AE10: 143.56
A11: Nguyên vật liệu | B11: 130.51 | C11: 132.94 | D11: 133.91 | E11: 134.34 | F11: 135.35 | G11: 135.8 | H11: 133.98 | I11: 129.73 | J11: 131.24 | K11: 132.02 | L11: 131.44 | M11: 130.06 | N11: 129.73 | O11: 128.76 | P11: 129.7 | Q11: 128.15 | R11: 126.23 | S11: 125.73 | T11: 126.18 | U11: 125.68 | V11: 124.24 | W11: 123.61 | X11: 121.36 | Y11: 121.84 | Z11: 124.13 | AA11: 123.99 | AB11: 122.36 | AC11: 123.6 | AD11: 123.97 | AE11: 123.67
A12: Tài chính | B12: 112.86 | C12: 115.85 | D12: 116.62 | E12: 118.64 | F12: 119.88 | G12: 117.05 | H12: 117.12 | I12: 117.1 | J12: 116.71 | K12: 117.14 | L12: 118.34 | M12: 117.88 | N12: 116.87 | O12: 116.8 | P12: 116.72 | Q12: 114.24 | R12: 111.35 | S12: 111.55 | T12: 112.7 | U12: 111.23 | V12: 110.8 | W12: 109.19 | X12: 105.25 | Y12: 104.68 | Z12: 107.15 | AA12: 106.14 | AB12: 105.09 | AC12: 107.54 | AD12: 106.81 | AE12: 106.52
A13: Tiện ích Cộng đồng | B13: 133.28 | C13: 138.7 | D13: 141.07 | E13: 138.09 | F13: 140.19 | G13: 138.14 | H13: 136.67 | I13: 134.31 | J13: 137.31 | K13: 140.93 | L13: 145.92 | M13: 143.54 | N13: 141.5 | O13: 141.3 | P13: 141.16 | Q13: 140.1 | R13: 135.36 | S13: 134.51 | T13: 136.08 | U13: 133.79 | V13: 134.22 | W13: 131.3 | X13: 125.78 | Y13: 128.45 | Z13: 132.84 | AA13: 131.01 | AB13: 133.99 | AC13: 136.45 | AD13: 135.3 | AE13: 135.37
A14: Von hóa 1 | B14: 209.0638 | C14: 214.2718 | D14: 215.6577 | E14: 215.192 | F14: 217.8498 | G14: 216.1004 | H14: 215.519 | I14: 212.8628 | J14: 214.8053 | K14: 217.2391 | L14: 220.5055 | M14: 219.3303 | N14: 218.2354 | O14: 215.9557 | P14: 214.9244 | Q14: 212.4047 | R14: 208.5261 | S14: 208.7961 | T14: 210.8258 | U14: 209.2478 | V14: 208.846 | W14: 204.6012 | X14: 197.584 | Y14: 197.7804 | Z14: 201.8004 | AA14: 201.0272 | AB14: 200.9303 | AC14: 205.2002 | AD14: 203.9201 | AE14: 203.7077
... A17: Von hóa 4 | B17: 199.2017 | C17: 202.1116 | D17: 203.6512 | E17: 204.7253 | F17: 206.557 | G17: 206.6778 | H17: 206.1805 | I17: 205.363 | J17: 206.2619 | K17: 207.1055 | L17: 207.7715 | M17: 207.8588 | N17: 208.121 | O17: 208.6475 | P17: 209.3725 | Q17: 210.0367 | R17: 207.3172 | S17: 207.9716 | T17: 208.9139 | U17: 208.6988 | V17: 208.7319 | W17: 207.5178 | X17: 203.8028 | Y17: 204.1793 | Z17: 205.5536 | AA17: 205.321 | AB17: 204.782 | AC17: 205.6091 | AD17: 205.2568 | AE17: 205.7845
A19: Chuỗi PE
A21: name | B21: 41418 | C21: 41421 | D21: 41422 | E21: 41423 | F21: 41424 | G21: 41425 | H21: 41428 | I21: 41429 | J21: 41430 | K21: 41431 | L21: 41432 | M21: 41435 | N21: 41436 | O21: 41437 | P21: 41438 | Q21: 41439 | R21: 41442 | S21: 41443 | T21: 41444 | U21: 41445 | V21: 41446 | W21: 41449 | X21: 41450 | Y21: 41451 | Z21: 41452 | AA21: 41453 | AB21: 41456 | AC21: 41457 | AD21: 41458 | AE21: 41459
A22: _HNXIndex | B22: 23.468373 | C22: 24.126637 | D22: 24.283642 | E22: 24.421519 | F22: 24.593372 | G22: 24.45476 | H22: 24.242802 | I22: 23.738578 | J22: 23.821472 | K22: 24.096742 | L22: 24.168689 | M22: 24.184747 | N22: 24.147731 | O22: 25.328643 | P22: 25.375348 | Q22: 25.433912 | R22: 25.109351 | S22: 25.195902 | T22: 25.233398 | U22: 25.005116 | V22: 25.005487 | W22: 24.874766 | X22: 23.853401 | Y22: 23.960635 | Z22: 24.154737 | AA22: 24.314627 | AB22: 24.269144 | AC22: 24.394759 | AD22: 24.295832 | AE22: 22.72279
A23: _VNIndex | B23: 14.057797 | C23: 14.370048 | D23: 14.473828 | E23: 14.443265 | F23: 14.610801 | G23: 14.536842 | H23: 14.500256 | I23: 14.325165 | J23: 14.427644 | K23: 14.672531 | L23: 14.905045 | M23: 14.783553 | N23: 14.695911 | O23: 14.595441 | P23: 14.502044 | Q23: 14.341005 | R23: 14.033926 | S23: 14.04398 | T23: 14.189379 | U23: 14.108125 | V23: 14.095502 | W23: 13.85349 | X23: 13.385167 | Y23: 13.417076 | Z23: 13.691298 | AA23: 13.637736 | AB23: 13.591361 | AC23: 13.85511 | AD23: 13.792697 | AE23: 13.794557
A24: Công nghệ Thông tin | B24: 7.289048 | C24: 7.4424345 | D24: 7.4978132 | E24: 7.6029904 | F24: 7.601806 | G24: 7.6949511 | H24: 7.6981922 | I24: 7.7506058 | J24: 7.3804394 | K24: 7.4461558 | L24: 7.4342327 | M24: 7.4559841 | N24: 7.3851954 | O24: 7.353166 | P24: 7.3056797 | Q24: 7.2378324 | R24: 7.0737404 | S24: 7.0345759 | T24: 7.041989 | U24: 7.0545405 | V24: 7.0339454 | W24: 7.0226335 | X24: 6.8312922 | Y24: 6.8699352 | Z24: 6.8940133 | AA24: 6.8922822 | AB24: 6.8938671 | AC24: 6.9581864 | AD24: 7.0748555 | AE24: 7.1554746
A25: Công nghiệp | B25: 17.124483 | C25: 17.6007 | D25: 17.740013 | E25: 17.732378 | F25: 17.949153 | G25: 17.861227 | H25: 17.78419 | I25: 21.376429 | J25: 21.387919 | K25: 21.750018 | L25: 21.681578 | M25: 21.592539 | N25: 21.4332 | O25: 21.547897 | P25: 21.679444 | Q25: 21.70489 | R25: 21.193029 | S25: 21.264361 | T25: 21.90905 | U25: 21.604572 | V25: 21.612846 | W25: 21.258249 | X25: 21.028133 | Y25: 21.174295 | Z25: 21.460682 | AA25: 21.441323 | AB25: 21.315904 | AC25: 21.455692 | AD25: 22.48485 | AE25: 22.605791
A26: Dầu khí | B26: 6.3238046 | C26: 6.588099 | D26: 6.758639 | E26: 6.8496987 | F26: 7.0257927 | G26: 7.0545174 | H26: 6.9742006 | I26: 5.7061493 | J26: 5.8116604 | K26: 5.9020751 | L26: 5.9753747 | M26: 6.2026999 | N26: 6.0915404 | O26: 5.9084754 | P26: 6.0813392 | Q26: 5.9007492 | R26: 5.7783776 | S26: 5.8085976 | T26: 5.8020959 | U26: 5.849075 | V26: 5.7844822 | W26: 5.6403579 | X26: 5.3422066 | Y26: 5.3791133 | Z26: 5.5701318 | AA26: 5.4886937 | AB26: 5.4646631 | AC26: 5.6377981 | AD26: 5.6476856 | AE26: 5.6461488
A27: Dịch vụ Tiêu dùng | B27: 8.2726104 | C27: 8.5381906 | D27: 8.6353068 | E27: 8.6892336 | F27: 8.649673 | G27: 8.6692877 | H27: 9.348489 | I27: 9.277678 | J27: 9.5764809 | K27: 9.5491741 | L27: 9.5368905 | M27: 9.4813258 | N27: 9.5535717 | O27: 9.4553838 | P27: 9.4608671 | Q27: 9.4699567 | R27: 9.3721858 | S27: 9.4267769 | T27: 9.657782 | U27: 9.5419122 | V27: 9.6056869 | W27: 9.5032815 | X27: 8.3863437 | Y27: 8.3201025 | Z27: 8.5015892 | AA27: 9.4770842 | AB27: 9.3766451 | AC27: 9.4305345 | AD27: 9.4182853 | AE27: 9.5020253
A28: Dược phẩm và Y tế | B28: 7.5320746 | C28: 7.4659896 | D28: 7.5395495 | E28: 7.7322317 | F28: 7.8016657 | G28: 7.8696426 | H28: 7.8499815 | I28: 7.5556881 | J28: 7.8095777 | K28: 7.8759164 | L28: 8.040184 | M28: 8.1958798 | N28: 8.1802799 | O28: 8.1817606 | P28: 8.0007558 | Q28: 8.033474 | R28: 7.9217132 | S28: 7.9768176 | T28: 8.0954157 | U28: 8.10108 | V28: 8.1506869 | W28: 8.1039319 | X28: 8.0171015 | Y28: 8.0323533 | Z28: 8.0414111 | AA28: 7.9943785 | AB28: 8.0277466 | AC28: 8.0853347 | AD28: 7.6881816 | AE28: 7.7134187
A29: Hàng Tiêu dùng | B29: 13.071528 | C29: 13.263516 | D29: 13.320013 | E29: 13.210628 | F29: 13.313564 | G29: 13.324941 | H29: 13.002185 | I29: 12.942257 | J29: 13.03323 | K29: 15.577481 | L29: 15.62941 | M29: 15.653619 | N29: 15.679317 | O29: 15.514608 | P29: 15.215525 | Q29: 15.116004 | R29: 14.822705 | S29: 14.874433 | T29: 14.97783 | U29: 14.916378 | V29: 14.925491 | W29: 14.675758 | X29: 14.285622 | Y29: 14.289168 | Z29: 14.418864 | AA29: 14.405115 | AB29: 14.44758 | AC29: 14.821472 | AD29: 14.903497 | AE29: 14.9032
A30: Ngân hàng | B30: 6.8915325 | C30: 7.0055007 | D30: 7.149844 | E30: 7.131188 | F30: 7.2304177 | G30: 7.266084 | H30: 7.2949614 | I30: 7.167972 | J30: 7.1970308 | K30: 7.3978846 | L30: 7.6271115 | M30: 7.4765754 | N30: 7.3795193 | O30: 7.2930446 | P30: 7.2800745 | Q30: 7.2327945 | R30: 7.1866547 | S30: 7.2135227 | T30: 7.3114291 | U30: 7.3088446 | V30: 7.4141634 | W30: 7.3231421 | X30: 7.0963183 | Y30: 7.1020873 | Z30: 7.2302086 | AA30: 7.2513906 | AB30: 7.125528 | AC30: 7.1728011 | AD30: 7.1396166 | AE30: 7.1479863
A31: Nguyên vật liệu | B31: 8.6599542 | C31: 8.8136437 | D31: 8.8657367 | E31: 8.8888253 | F31: 8.9477218 | G31: 8.9793199 | H31: 8.8546676 | I31: 8.6085147 | J31: 8.6776205 | K31: 8.7272923 | L31: 8.6896287 | M31: 8.604491 | N31: 8.5828306 | O31: 8.5091624 | P31: 8.5616525 | Q31: 8.4652156 | R31: 8.3325036 | S31: 8.2943444 | T31: 8.326952 | U31: 8.2864615 | V31: 8.1898673 | W31: 8.1479356 | X31: 8.0117491 | Y31: 8.0459989 | Z31: 8.1923593 | AA31: 8.1826865 | AB31: 8.0777092 | AC31: 8.1589599 | AD31: 8.2423113 | AE31: 8.2227089
A32: Tài chính | B32: 28.636615 | C32: 29.328001 | D32: 29.491999 | E32: 29.964989 | F32: 30.255854 | G32: 29.594642 | H32: 29.468329 | I32: 29.431678 | J32: 29.303917 | K32: 29.401251 | L32: 29.650582 | M32: 29.538077 | N32: 29.369799 | O32: 30.133331 | P32: 29.960232 | Q32: 29.373404 | R32: 28.689629 | S32: 28.731369 | T32: 28.99619 | U32: 28.886821 | V32: 28.670346 | W32: 28.224253 | X32: 27.289563 | Y32: 27.149868 | Z32: 27.761306 | AA32: 27.519915 | AB32: 27.26882 | AC32: 27.8524 | AD32: 27.667059 | AE32: 27.599551
... A38: Von hóa 4 | B38: 14.999101 | C38: 15.232537 | D38: 15.286831 | E38: 15.311715 | F38: 15.380476 | G38: 15.433115 | H38: 15.213825 | I38: 15.254457 | J38: 15.186007 | K38: 15.25075 | L38: 15.246943 | M38: 15.277792 | N38: 15.032442 | O38: 15.550489 | P38: 15.59277 | Q38: 15.656717 | R38: 15.462649 | S38: 15.506972 | T38: 15.560111 | U38: 15.541159 | V38: 15.414378 | W38: 15.338744 | X38: 15.119406 | Y38: 15.203585 | Z38: 15.287818 | AA38: 15.159882 | AB38: 15.103337 | AC38: 15.091762 | AD38: 15.050999 | AE38: 15.0689
A40: Giá trị giao dịch ngành tuần
A42: Ma | B42: industryid | C42: marketcapindex | D42: 41418 | E42: 41421 | F42: 41422 | G42: 41423 | H42: 41424 | I42: 41425 | J42: 41428 | K42: 41429 | L42: 41430 | M42: 41431 | N42: 41432 | O42: 41435 | P42: 41436 | Q42: 41437 | R42: 41438 | S42: 41439 | T42: 41442 | U42: 41443 | V42: 41444 | W42: 41445 | X42: 41446 | Y42: 41449 | Z42: 41450 | AA42: 41451 | AB42: 41452 | AC42: 41453 | AD42: 41456 | AE42: 41457 | AF42: 41458 | AG42: 41459
A43: AAA | B43: 150 | C43: 4 | D43: 2861530000 | E43: 10371560000 | F43: 5811610000 | G43: 27324810000 | H43: 13801200000 | I43: 10449870000 | J43: 8017850000 | K43: 8410440000 | L43: 5812140000 | M43: 5282830000 | N43: 8355030000 | O43: 7298130000 | P43: 3332240000 | Q43: 6303590000 | R43: 5933180000 | S43: 4519770000 | T43: 5890890000 | U43: 2343450000 | V43: 2425150000 | W43: 1476820000 | X43: 161840000 | Y43: 1651340000 | Z43: 5189430000 | AA43: 1196850000 | AB43: 1684720000 | AC43: 2056370000 | AD43: 418410000 | AE43: 1157430000 | AF43: 769820000 | AG43: 1063500000 | AH43: =VLOOKUP(B43,'Ma sector'!A:E,5,0) -> Nguyên vật liệu
A44: AAM | B44: 217 | C44: 4 | D44: 3704000 | E44: 470000 | F44: 113410000 | G44: 20094000 | H44: 702000 | I44: 22974000 | J44: 72464000 | K44: 133430000 | L44: 22040000 | M44: 2200000 | N44: 84260000 | O44: 24797000 | P44: 136417000 | Q44: 21800000 | R44: 64754000 | S44: 19530000 | T44: 3488000 | U44: 13249000 | V44: 23423000 | W44: 38820000 | X44: 163524000 | Y44: 22966000 | Z44: 14926000 | AA44: 70101000 | AB44: 127472000 | AC44: 24640000 | AD44: 45772000 | AE44: 7577000 | AF44: 2636000 | AG44: 42450000 | AH44: =VLOOKUP(B44,'Ma sector'!A:E,5,0) -> Hàng Tiêu dùng
A45: ABT | B45: 217 | C45: 3 | D45: 367310000 | E45: 73941000 | F45: 81000000 | G45: 5277000 | H45: 396000 | I45: 5205000 | J45: 6105000 | K45: 260750000 | L45: 6000000 | M45: 527580000 | N45: 2800000 | O45: 270790000 | P45: 2864000 | Q45: 0 | R45: 390000 | S45: 14805000 | T45: 16295000 | U45: 40776000 | V45: 4000000 | W45: 4399000 | X45: 39510000 | Y45: 2000000 | Z45: 33490000 | AA45: 0 | AB45: 27546000 | AC45: 155240000 | AD45: 752000 | AE45: 144099000 | AF45: 0 | AG45: 36990000 | AH45: =VLOOKUP(B45,'Ma sector'!A:E,5,0) -> Hàng Tiêu dùng
A46: ACB | B46: 289 | C46: 1 | D46: 1763354800 | E46: 11230352900 | F46: 10933865700 | G46: 11233430000 | H46: 5271908900 | I46: 11336576400 | J46: 18052086000 | K46: 8647617200 | L46: 4952237200 | M46: 8094345000 | N46: 9963345000 | O46: 6728484900 | P46: 6676810300 | Q46: 4686835000 | R46: 224752756600 | S46: 5787843800 | T46: 7170316300 | U46: 6769774100 | V46: 4640512000 | W46: 8183284300 | X46: 112680000 | Y46: 9315611400 | Z46: 23212220200 | AA46: 5419763000 | AB46: 17307123000 | AC46: 10832980800 | AD46: 5477890000 | AE46: 5471821500 | AF46: 6026674600 | AG46: 9671533600 | AH46: =VLOOKUP(B46,'Ma sector'!A:E,5,0) -> Ngân hàng
A47: ACC | B47: 180 | C47: 4 | D47: 3692290000 | E47: 265569000 | F47: 510453000 | G47: 4608411000 | H47: 950327000 | I47: 1687684000 | J47: 825008000 | K47: 1790607000 | L47: 639238000 | M47: 1134187000 | N47: 175685000 | O47: 473821000 | P47: 56223000 | Q47: 283859000 | R47: 292407000 | S47: 30810000 | T47: 508510000 | U47: 69596000 | V47: 28932000 | W47: 212457000 | X47: 168570000 | Y47: 69949000 | Z47: 94938000 | AA47: 4923000 | AB47: 1377000 | AC47: 89015000 | AD47: 411758000 | AE47: 58958000 | AF47: 166450000 | AG47: 86804000 | AH47: =VLOOKUP(B47,'Ma sector'!A:E,5,0) -> Công nghiệp
A48: ACL | B48: 217 | C48: 4 | D48: 6772000 | E48: 177507000 | F48: 4511000 | G48: 44000000 | H48: 112000 | I48: 1928241000 | J48: 5642286000 | K48: 273649000 | L48: 2086357000 | M48: 0 | N48: 137830000 | O48: 172423000 | P48: 27198000 | Q48: 24102000 | R48: 7864000 | S48: 70307000 | T48: 45320000 | U48: 3794000 | V48: 62969000 | W48: 50616000 | X48: 1085811000 | Y48: 3330226000 | Z48: 7275000 | AA48: 3332000 | AB48: 2046396000 | AC48: 2210000 | AD48: 1161000 | AE48: 432000 | AF48: 216000 | AG48: 10511000 | AH48: =VLOOKUP(B48,'Ma sector'!A:E,5,0) -> Hàng Tiêu dùng
A49: ADC | B49: 256 | C49: 4 | D49: 0 | E49: 27300000 | F49: 41640000 | G49: 73590000 | H49: 0 | I49: 31400000 | J49: 0 | K49: 0 | L49: 0 | M49: 0 | N49: 0 | O49: 0 | P49: 1320000 | Q49: 0 | R49: 0 | S49: 0 | T49: 0 | U49: 24300000 | V49: 1350000 | W49: 0 | X49: 0 | Y49: 118000000 | Z49: 221070000 | AA49: 0 | AB49: 19650000 | AC49: 2700000 | AD49: 369730000 | AE49: 0 | AF49: 1400000 | AG49: 14440000 | AH49: =VLOOKUP(B49,'Ma sector'!A:E,5,0) -> Dịch vụ Tiêu dùng
A50: AGD | B50: 217 | C50: 4 | D50: 0 | E50: 4520000 | F50: 0 | G50: 0 | H50: 0 | I50: 7980000 | J50: 0 | K50: 35145000 | L50: 76020000 | M50: 2500000 | N50: 0 | O50: 69702885000 | P50: 1120000 | Q50: 1575000 | R50: 1405265000 | S50: 32200000 | T50: 0 | U50: 2840000 | V50: 0 | W50: 590000 | X50: 1160000 | Y50: 590000 | Z50: 0 | AA50: 0 | AB50: 3850000 | AC50: 0 | AD50: 580000 | AE50: 0 | AF50: 0 | AG50: 2340000 | AH50: =VLOOKUP(B50,'Ma sector'!A:E,5,0) -> Hàng Tiêu dùng
A51: AGF | B51: 217 | C51: 4 | D51: 1064450000 | E51: 1926420000 | F51: 2933598000 | G51: 276485000 | H51: 1196145000 | I51: 1599167000 | J51: 817778000 | K51: 601811000 | L51: 342092000 | M51: 920647000 | N51: 584597000 | O51: 426870000 | P51: 210123000 | Q51: 257891000 | R51: 640797000 | S51: 594783000 | T51: 338454000 | U51: 3402095000 | V51: 568378000 | W51: 224973000 | X51: 337247000 | Y51: 2788813000 | Z51: 1094999000 | AA51: 1221183000 | AB51: 1006937000 | AC51: 1050654000 | AD51: 1062584000 | AE51: 2038674000 | AF51: 338163000 | AG51: 667391000 | AH51: =VLOOKUP(B51,'Ma sector'!A:E,5,0) -> Hàng Tiêu dùng
A52: AGM | B52: 218 | C52: 4 | D52: 3951000 | E52: 36002000 | F52: 19800000 | G52: 187740000 | H52: 3423000 | I52: 8643000 | J52: 170000 | K52: 7400000 | L52: 0 | M52: 7485000 | N52: 5040000 | O52: 648000 | P52: 3200000 | Q52: 168000 | R52: 11760000 | S52: 0 | T52: 8160000 | U52: 0 | V52: 10515000 | W52: 0 | X52: 4050000 | Y52: 10933000 | Z52: 4165000 | AA52: 5500000 | AB52: 3594000 | AC52: 140000 | AD52: 0 | AE52: 2020000 | AF52: 2949000 | AG52: 11466000 | AH52: =VLOOKUP(B52,'Ma sector'!A:E,5,0) -> Hàng Tiêu dùng
A53: AGR | B53: 300 | C53: 2 | D53: 37511000 | E53: 396688000 | F53: 380235000 | G53: 789356000 | H53: 573656000 | I53: 844690000 | J53: 382420000 | K53: 133216000 | L53: 365310000 | M53: 291662000 | N53: 1214120000 | O53: 295578000 | P53: 751059000 | Q53: 735409000 | R53: 768643000 | S53: 3388454000 | T53: 593624000 | U53: 422376000 | V53: 426429000 | W53: 766696000 | X53: 720765000 | Y53: 567782000 | Z53: 1045758000 | AA53: 287655000 | AB53: 363814000 | AC53: 700269000 | AD53: 386211000 | AE53: 543905000 | AF53: 342908000 | AG53: 143861000 | AH53: =VLOOKUP(B53,'Ma sector'!A:E,5,0) -> Tài chính
A54: ALP | B54: 187 | C54: 3 | D54: 65902000 | E54: 139814000 | F54: 240701000 | G54: 560975000 | H54: 247505000 | I54: 527340000 | J54: 685400000 | K54: 348522000 | L54: 443714000 | M54: 607694000 | N54: 374894000 | O54: 284960000 | P54: 277010000 | Q54: 41272000 | R54: 222537000 | S54: 158842000 | T54: 226824000 | U54: 394570000 | V54: 24176000 | W54: 245111000 | X54: 120725000 | Y54: 304061000 | Z54: 160108000 | AA54: 33134000 | AB54: 95854000 | AC54: 149081000 | AD54: 56386000 | AE54: 85795000 | AF54: 21016000 | AG54: 20569000 | AH54: =VLOOKUP(B54,'Ma sector'!A:E,5,0) -> Công nghiệp
... A71: AVF | B71: 217 | C71: 4 | D71: 1458567000 | E71: 4416811000 | F71: 3516855000 | G71: 10992777000 | H71: 5181802000 | I71: 4815524000 | J71: 2794859000 | K71: 3532312000 | L71: 2051104000 | M71: 1569145000 | N71: 1902957000 | O71: 1823719000 | P71: 2066599000 | Q71: 763045000 | R71: 1201716000 | S71: 1152370000 | T71: 1756030000 | U71: 2211571000 | V71: 1040870000 | W71: 1431955000 | X71: 1743329000 | Y71: 1457401000 | Z71: 2993211000 | AA71: 1399152000 | AB71: 876777000 | AC71: 885634000 | AD71: 407930000 | AE71: 806752000 | AF71: 192536000 | AG71: 503873000 | AH71: =VLOOKUP(B71,'Ma sector'!A:E,5,0) -> Hàng Tiêu dùng
A72: AVS | B72: 300 | C72: 4 | D72: 8800000 | E72: 55200000 | F72: 6050000 | G72: 7150000 | H72: 1100000 | I72: 64590000 | J72: 341260000 | K72: 166820000 | AH72: =VLOOKUP(B72,'Ma sector'!A:E,5,0) -> Tài chính
A73: B82 | B73: 181 | C73: 4 | D73: 0 | E73: 0 | F73: 0 | G73: 0 | H73: 0 | I73: 0 | J73: 5160000 | K73: 0 | L73: 0 | M73: 1140000 | N73: 0 | O73: 0 | P73: 2060000 | Q73: 0 | R73: 0 | S73: 0 | T73: 0 | U73: 0 | V73: 0 | W73: 9750000 | X73: 20000000 | Y73: 0 | Z73: 1900000 | AA73: 6510000 | AB73: 0 | AC73: 1860000 | AD73: 0 | AE73: 2670000 | AF73: 0 | AG73: 0 | AH73: =VLOOKUP(B73,'Ma sector'!A:E,5,0) -> Công nghiệp
A74: BBC | B74: 218 | C74: 4 | D74: 293172000 | E74: 95449000 | F74: 10596000 | G74: 150805000 | H74: 225636000 | I74: 389631000 | J74: 618812000 | K74: 151824000 | L74: 86356000 | M74: 30212000 | N74: 63515000 | O74: 38996000 | P74: 16252000 | Q74: 178784000 | R74: 581306000 | S74: 114192000 | T74: 34751000 | U74: 15960000 | V74: 49900000 | W74: 8576000 | X74: 25935000 | Y74: 16346000 | Z74: 147877000 | AA74: 59167000 | AB74: 155231000 | AC74: 169170000 | AD74: 51769000 | AE74: 15195000 | AF74: 292530000 | AG74: 49176000 | AH74: =VLOOKUP(B74,'Ma sector'!A:E,5,0) -> Hàng Tiêu dùng
A75: BBS | B75: 184 | C75: 4 | D75: 820000 | E75: 0 | F75: 0 | G75: 0 | H75: 36190000 | I75: 12900000 | J75: 287490000 | K75: 47500000 | L75: 0 | M75: 51380000 | N75: 0 | O75: 0 | P75: 9980000 | Q75: 0 | R75: 1020000 | S75: 11130000 | T75: 0 | U75: 45500000 | V75: 1810000 | W75: 9380000 | X75: 0 | Y75: 920000 | Z75: 71190000 | AA75: 33800000 | AB75: 34690000 | AC75: 0 | AD75: 1820000 | AE75: 0 | AF75: 193900000 | AG75: 35310000 | AH75: =VLOOKUP(B75,'Ma sector'!A:E,5,0) -> Công nghiệp
A76: BCC | B76: 180 | C76: 3 | D76: 439380000 | E76: 2561150000 | F76: 1152700000 | G76: 5271300000 | H76: 1006722500 | I76: 1286620000 | J76: 6785310000 | K76: 3294380000 | L76: 1662380000 | M76: 1354280000 | N76: 1403150000 | O76: 1317050000 | P76: 750620000 | Q76: 716330000 | R76: 653080000 | S76: 1165660000 | T76: 2135130000 | U76: 209870000 | V76: 812540000 | W76: 1182820000 | X76: 35680000 | Y76: 844070000 | Z76: 1505130000 | AA76: 419600000 | AB76: 114410000 | AC76: 123800000 | AD76: 257910000 | AE76: 90610000 | AF76: 238620000 | AG76: 223420000 | AH76: =VLOOKUP(B76,'Ma sector'!A:E,5,0) -> Công nghiệp
A77: BCE | B77: 181 | C77: 4 | D77: 26235000 | E77: 431850000 | F77: 189080000 | G77: 174567000 | H77: 258454000 | I77: 462850000 | J77: 168960000 | K77: 106980000 | L77: 43072000 | M77: 142060000 | N77: 396910000 | O77: 337697000 | P77: 174983000 | Q77: 463160000 | R77: 341121000 | S77: 123976000 | T77: 134392000 | U77: 117604000 | V77: 54158000 | W77: 89342000 | X77: 47722000 | Y77: 81820000 | Z77: 71648000 | AA77: 120170000 | AB77: 41364000 | AC77: 77318000 | AD77: 6638000 | AE77: 9752000 | AF77: 86900000 | AG77: 15800000 | AH77: =VLOOKUP(B77,'Ma sector'!A:E,5,0) -> Công nghiệp
A78: BCI | B78: 336 | C78: 2 | D78: 190326000 | E78: 610505000 | F78: 787347000 | G78: 409219000 | H78: 779193000 | I78: 2695228000 | J78: 4339147000 | K78: 3702435000 | L78: 2756303000 | M78: 4440710000 | N78: 11019542000 | O78: 1053186000 | P78: 1542759000 | Q78: 2062485000 | R78: 986758000 | S78: 2923195000 | T78: 1838706000 | U78: 1335921000 | V78: 1399985000 | W78: 1021498000 | X78: 238371000 | Y78: 322540000 | Z78: 8347298400 | AA78: 246191000 | AB78: 1554137000 | AC78: 1956662000 | AD78: 831287000 | AE78: 717876000 | AF78: 416208000 | AG78: 794212000 | AH78: =VLOOKUP(B78,'Ma sector'!A:E,5,0) -> Tài chính
A79: BDB | B79: 256 | C79: 4 | D79: 0 | E79: 15000000 | F79: 0 | G79: 0 | H79: 0 | I79: 0 | J79: 0 | K79: 0 | L79: 0 | M79: 0 | N79: 0 | O79: 0 | P79: 0 | Q79: 0 | R79: 340000 | S79: 0 | T79: 0 | U79: 0 | V79: 0 | W79: 1360000 | X79: 0 | Y79: 0 | Z79: 0 | AA79: 0 | AB79: 0 | AC79: 0 | AD79: 0 | AE79: 0 | AF79: 620000 | AG79: 0 | AH79: =VLOOKUP(B79,'Ma sector'!A:E,5,0) -> Dịch vụ Tiêu dùng
A80: BED | B80: 256 | C80: 4 | D80: 0 | E80: 0 | F80: 0 | G80: 0 | H80: 0 | I80: 0 | J80: 0 | K80: 0 | L80: 0 | M80: 29400000 | N80: 0 | O80: 1960000 | P80: 0 | Q80: 0 | R80: 0 | S80: 0 | T80: 0 | U80: 9800000 | V80: 0 | W80: 0 | X80: 0 | Y80: 0 | Z80: 0 | AA80: 0 | AB80: 0 | AC80: 0 | AD80: 0 | AE80: 0 | AF80: 0 | AG80: 0 | AH80: =VLOOKUP(B80,'Ma sector'!A:E,5,0) -> Dịch vụ Tiêu dùng
A81: BGM | B81: 166 | C81: 3 | D81: 1558869000 | E81: 2164898000 | F81: 1471763000 | G81: 3182552000 | H81: 1196791000 | I81: 1891414000 | J81: 1209177000 | K81: 1018926000 | L81: 488343000 | M81: 1982094000 | N81: 904426000 | O81: 1150174000 | P81: 863585000 | Q81: 634857000 | R81: 3108791000 | S81: 3929401000 | T81: 1280679000 | U81: 995137000 | V81: 1331914000 | W81: 1135637000 | X81: 1024816000 | Y81: 1370013000 | Z81: 1597579000 | AA81: 2310331000 | AB81: 1083843000 | AC81: 1460744000 | AD81: 576441000 | AE81: 626556000 | AF81: 514553000 | AG81: 384858000 | AH81: =VLOOKUP(B81,'Ma sector'!A:E,5,0) -> Nguyên vật liệu
A82: BHC | B82: 180 | C82: 4 | D82: 150000 | E82: 140000 | F82: 0 | G82: 1300000 | H82: 10940000 | I82: 1440000 | J82: 1460000 | K82: 1300000 | L82: 560000 | M82: 450000 | N82: 4210000 | O82: 780000 | P82: 1820000 | Q82: 280000 | R82: 1430000 | S82: 650000 | T82: 420000 | U82: 900000 | V82: 2470000 | W82: 1400000 | X82: 0 | Y82: 150000 | Z82: 160000 | AA82: 170000 | AB82: 0 | AC82: 0 | AD82: 1120000 | AE82: 0 | AF82: 0 | AG82: 0 | AH82: =VLOOKUP(B82,'Ma sector'!A:E,5,0) -> Công nghiệp
A83: BHS | B83: 218 | C83: 3 | D83: 320189000 | E83: 1768725000 | F83: 1487638000 | G83: 392338000 | H83: 524784000 | I83: 1780659000 | J83: 471152000 | K83: 716310000 | L83: 109250000 | M83: 378856000 | N83: 217203000 | O83: 240160000 | P83: 950657000 | Q83: 575154000 | R83: 253949000 | S83: 136360000 | T83: 540523000 | U83: 122732000 | V83: 102572000 | W83: 117017000 | X83: 36246000 | Y83: 184796000 | Z83: 477219000 | AA83: 76134000 | AB83: 145297000 | AC83: 180443000 | AD83: 125444000 | AE83: 33633000 | AF83: 399104000 | AG83: 145288000 | AH83: =VLOOKUP(B83,'Ma sector'!A:E,5,0) -> Hàng Tiêu dùng
A84: BHT | B84: 181 | C84: 4 | D84: 1700000 | E84: 680000 | F84: 0 | G84: 390000 | H84: 420000 | I84: 23260000 | J84: 0 | K84: 0 | L84: 0 | M84: 0 | N84: 410000 | O84: 0 | P84: 2270000 | Q84: 4220000 | R84: 0 | S84: 0 | T84: 0 | U84: 0 | V84: 0 | W84: 0 | X84: 0 | Y84: 0 | Z84: 460000 | AA84: 0 | AB84: 500000 | AC84: 0 | AD84: 0 | AE84: 0 | AF84: 0 | AG84: 0 | AH84: =VLOOKUP(B84,'Ma sector'!A:E,5,0) -> Công nghiệp
... A207: EFI | B207: 336 | C207: 4 | D207: 806410000 | E207: 491870000 | F207: 527230000 | G207: 2328150000 | H207: 2323910000 | I207: 1721980000 | J207: 1401030000 | K207: 1035500000 | L207: 524880000 | M207: 680120000 | N207: 590110000 | O207: 1158030000 | P207: 545010000 | Q207: 1607150000 | R207: 1511150000 | S207: 1104730000 | T207: 836930000 | U207: 3732620000 | V207: 1006180000 | W207: 552550000 | X207: 238460000 | Y207: 218200000 | Z207: 474900000 | AA207: 125700000 | AB207: 414180000 | AC207: 304860000 | AD207: 789450000 | AE207: 18300000 | AF207: 282400000 | AG207: 139160000 | AH207: =VLOOKUP(B207,'Ma sector'!A:E,5,0) -> Tài chính
A208: EIB | B208: 289 | C208: 1 | D208: 3184396000 | E208: 9578837000 | F208: 8402207000 | G208: 8287783000 | H208: 5126754000 | I208: 3977566000 | J208: 17053513000 | K208: 7356058000 | L208: 2332594000 | M208: 4792983000 | N208: 16759119000 | O208: 286901779000 | Q208: 8303455000 | R208: 12376956000 | S208: 5601412000 | T208: 11761224000 | U208: 6093971000 | V208: 12938788000 | W208: 15086847000 | X208: 25885609000 | Y208: 7566906000 | Z208: 14640426000 | AA208: 175930276000 | AB208: 21728837000 | AC208: 285351291200 | AD208: 1025301000 | AE208: 1381038000 | AF208: 3369288000 | AG208: 4676236000 | AH208: =VLOOKUP(B208,'Ma sector'!A:E,5,0) -> Ngân hàng
A209: EID | B209: 256 | C209: 4 | D209: 0 | E209: 561524000 | F209: 59860000 | G209: 49300000 | H209: 24960000 | I209: 18450000 | J209: 223610000 | K209: 113118000 | L209: 21190000 | M209: 10220000 | N209: 79848000 | O209: 457540000 | P209: 89576500 | Q209: 128850000 | R209: 1214810000 | S209: 531560000 | T209: 2528000 | U209: 154710000 | V209: 950000 | W209: 139230000 | X209: 0 | Y209: 0 | Z209: 0 | AA209: 18000000 | AB209: 26800000 | AC209: 445500 | AD209: 35880000 | AE209: 560790000 | AF209: 1860000 | AG209: 13800000 | AH209: =VLOOKUP(B209,'Ma sector'!A:E,5,0) -> Dịch vụ Tiêu dùng
A210: ELC | B210: 314 | C210: 2 | D210: 0 | E210: 30130000 | F210: 0 | G210: 46000000 | H210: 23460000 | I210: 53090000 | J210: 0 | K210: 0 | L210: 33500000 | M210: 0 | N210: 11300000 | O210: 22500000 | Q210: 0 | R210: 0 | S210: 0 | T210: 44400000 | U210: 0 | V210: 0 | W210: 11750000 | X210: 0 | Y210: 0 | Z210: 225000 | AA210: 944000 | AB210: 0 | AC210: 0 | AD210: 4520000 | AE210: 8880000 | AF210: 27988000 | AG210: 208000 | AH210: =VLOOKUP(B210,'Ma sector'!A:E,5,0) -> Công nghệ Thông tin
A211: EMC | B211: 187 | C211: 4 | D211: 4181000 | E211: 22447000 | F211: 73000 | G211: 27888000 | H211: 168041000 | I211: 179524000 | J211: 456707000 | K211: 279265000 | L211: 217602000 | M211: 251596000 | N211: 123416000 | O211: 223040000 | P211: 352936000 | Q211: 167441000 | R211: 52607000 | S211: 157999000 | T211: 78957000 | U211: 28592000 | V211: 6335000 | W211: 29032000 | X211: 26176000 | Y211: 63890000 | Z211: 114754000 | AA211: 64000 | AB211: 12624000 | AC211: 9984000 | AD211: 10863000 | AE211: 26824000 | AF211: 1950000 | AG211: 35947000 | AH211: =VLOOKUP(B211,'Ma sector'!A:E,5,0) -> Công nghiệp
A212: EVE | B212: 226 | C212: 3 | D212: 13851191000 | E212: 16572000 | F212: 1175000 | G212: 87611000 | H212: 3546000 | I212: 74015000 | J212: 139898000 | K212: 247800000 | L212: 430800000 | M212: 3962641000 | N212: 15496494000 | O212: 12250000 | P212: 1010887000 | Q212: 805777000 | R212: 590896000 | S212: 240000 | T212: 134963000 | U212: 0 | V212: 0 | W212: 0 | X212: 69900000 | Y212: 0 | Z212: 2557000 | AA212: 0 | AB212: 24658000 | AC212: 0 | AD212: 2399000 | AE212: 43477000 | AF212: 5090000 | AG212: 7685000 | AH212: =VLOOKUP(B212,'Ma sector'!A:E,5,0) -> Hàng Tiêu dùng
A213: FBT | B213: 217 | C213: 4 | D213: 50000 | E213: 5000000 | F213: 6890000 | G213: 14310000 | H213: 1007000 | I213: 50400000 | J213: 31853000 | K213: 4550000 | L213: 893000000 | M213: 1491874000 | N213: 5170000 | O213: 0 | P213: 94000 | Q213: 11233000 | R213: 3901000 | S213: 94000 | AH213: =VLOOKUP(B213,'Ma sector'!A:E,5,0) -> Hàng Tiêu dùng
A214: FCM | B214: 180 | C214: 3 | D214: 40777469000 | E214: 22112194000 | F214: 16751173000 | G214: 14234302000 | H214: 5275456000 | I214: 8503610000 | J214: 5910790000 | K214: 4960018000 | L214: 3718497000 | M214: 5197432000 | N214: 5637101000 | O214: 3366685000 | P214: 15991176000 | Q214: 37945624000 | R214: 20858324000 | S214: 13080655000 | T214: 14691724000 | U214: 6503408000 | V214: 13465939000 | W214: 21651176000 | X214: 6489698000 | Y214: 6964406000 | Z214: 16565263000 | AA214: 5882040000 | AB214: 4399180000 | AC214: 4240239000 | AD214: 2542650000 | AE214: 3223067000 | AF214: 2368864000 | AG214: 2482792000 | AH214: =VLOOKUP(B214,'Ma sector'!A:E,5,0) -> Công nghiệp
A215: FCN | B215: 181 | C215: 4 | D215: 2527594000 | E215: 8441549000 | F215: 5482661000 | G215: 5297880000 | H215: 2363947000 | I215: 5907484000 | J215: 16586670000 | K215: 10482894000 | L215: 4283795000 | M215: 6599197000 | N215: 12263083000 | O215: 6411274000 | P215: 8398459000 | Q215: 12905066000 | R215: 29420058000 | S215: 15856838000 | T215: 15584935000 | U215: 10219016000 | V215: 15208357000 | W215: 25563117000 | X215: 14423208000 | Y215: 12629738000 | Z215: 17735103000 | AA215: 11028012000 | AB215: 4815244000 | AC215: 7141904000 | AD215: 9606988000 | AE215: 4374568000 | AF215: 6217848000 | AG215: 7839195000 | AH215: =VLOOKUP(B215,'Ma sector'!A:E,5,0) -> Công nghiệp
A216: FDC | B216: 336 | C216: 3 | D216: 0 | E216: 2544000 | F216: 773878000 | G216: 383150000 | H216: 382050000 | I216: 410002000 | J216: 52060000 | K216: 80000000 | L216: 146500000 | M216: 19785000 | N216: 42500000 | O216: 1900000 | P216: 38750000 | Q216: 384000 | R216: 0 | S216: 0 | T216: 0 | U216: 605145300 | V216: 0 | W216: 0 | X216: 0 | Y216: 205000 | Z216: 0 | AA216: 1528000 | AB216: 1980000 | AC216: 195000 | AD216: 0 | AE216: 8342000 | AF216: 7972000 | AG216: 372000 | AH216: =VLOOKUP(B216,'Ma sector'!A:E,5,0) -> Tài chính
A217: FDG | B217: 217 | C217: 4 | D217: 100000 | E217: 6900000 | F217: 0 | G217: 0 | H217: 4650000 | I217: 5008000 | J217: 5020000 | K217: 2902000 | L217: 1757000 | M217: 0 | N217: 0 | O217: 10262000 | P217: 3922000 | Q217: 4157000 | R217: 4500000 | S217: 0 | T217: 140000 | U217: 2020000 | V217: 700000 | W217: 2146000 | X217: 5855000 | Y217: 75000 | Z217: 1660000 | AA217: 3019000 | AB217: 164000 | AC217: 77000 | AD217: 864000 | AE217: 210000 | AF217: 630000 | AG217: 6066000 | AH217: =VLOOKUP(B217,'Ma sector'!A:E,5,0) -> Hàng Tiêu dùng
A218: FDT | B218: 262 | C218: 4 | D218: 3140000 | E218: 60050000 | F218: 0 | G218: 0 | H218: 84150000 | I218: 2800000 | J218: 0 | K218: 2990000 | L218: 95680000 | M218: 0 | N218: 57200000 | O218: 2860000 | P218: 0 | Q218: 0 | R218: 5500000 | S218: 2650000 | T218: 0 | U218: 112910000 | V218: 2750000 | W218: 84000000 | X218: 0 | Y218: 26500000 | Z218: 2910000 | AA218: 2700000 | AB218: 2650000 | AC218: 0 | AD218: 0 | AE218: 2600000 | AF218: 2860000 | AG218: 0 | AH218: =VLOOKUP(B218,'Ma sector'!A:E,5,0) -> Dịch vụ Tiêu dùng
A219: FLC | B219: 336 | C219: 4 | D219: 830490000 | E219: 8203050000 | F219: 7964870000 | G219: 15414480000 | H219: 8056070000 | I219: 7018410000 | J219: 5360150000 | K219: 5504140000 | L219: 4931460000 | M219: 3954090000 | N219: 4238320000 | O219: 7196105000 | P219: 14941920000 | Q219: 5269430000 | R219: 7385160000 | S219: 4136990000 | T219: 16918120000 | U219: 33851660000 | V219: 32324540000 | W219: 28634150000 | X219: 8827840000 | Y219: 46917620000 | Z219: 33488600000 | AA219: 33831690000 | AB219: 222866010000 | AC219: 82994040000 | AD219: 24571060000 | AE219: 43701250000 | AF219: 54083850000 | AG219: 38614780000 | AH219: =VLOOKUP(B219,'Ma sector'!A:E,5,0) -> Tài chính
A220: FMC | B220: 217 | C220: 4 | D220: 61113000 | E220: 464443000 | F220: 100920000 | G220: 474360000 | H220: 75205000 | I220: 1740905000 | J220: 134835000 | K220: 53560000 | L220: 108394000 | M220: 465470000 | N220: 389023000 | O220: 37120000 | P220: 71200000 | Q220: 82060000 | R220: 155346000 | S220: 50062000 | T220: 254560000 | U220: 310889000 | V220: 271781000 | W220: 449952000 | X220: 49676000 | Y220: 438759000 | Z220: 105710000 | AA220: 6034000 | AB220: 190706000 | AC220: 453000 | AD220: 444746000 | AE220: 393582000 | AF220: 645308000 | AG220: 237319000 | AH220: =VLOOKUP(B220,'Ma sector'!A:E,5,0) -> Hàng Tiêu dùng
A221: FPT | B221: 310 | C221: 1 | D221: 13700603000 | E221: 15669631000 | F221: 14229915000 | G221: 36428893500 | H221: 12903675000 | I221: 25999145000 | J221: 13937933000 | K221: 41877944000 | L221: 5172588000 | M221: 8578088000 | N221: 6601352000 | O221: 11684946000 | P221: 13074548000 | Q221: 8743204000 | R221: 18465162000 | S221: 11439642000 | T221: 10674608000 | U221: 14191854000 | V221: 4552678000 | W221: 6184628000 | X221: 17105950000 | Y221: 9514857200 | Z221: 27933065000 | AA221: 8845402000 | AB221: 10777656000 | AC221: 4786335000 | AD221: 1802498000 | AE221: 3476432000 | AF221: 7043497000 | AG221: 67465277000 | AH221: =VLOOKUP(B221,'Ma sector'!A:E,5,0) -> Công nghệ Thông tin
A222: GAS | B222: 275 | C222: 1 | D222: 34727210000 | E222: 55508890000 | F222: 53445275000 | G222: 72622845000 | H222: 41302390000 | I222: 54140700000 | J222: 31505060000 | K222: 49490805000 | L222: 34030190000 | M222: 72458450000 | N222: 50110445000 | O222: 46835645000 | P222: 49811860000 | Q222: 27464020000 | R222: 42835525000 | S222: 21512735000 | T222: 52498275000 | U222: 46691135000 | V222: 15624060000 | W222: 27308575000 | X222: 15595710000 | Y222: 33552630000 | Z222: 54111380000 | AA222: 25903135000 | AB222: 44855025000 | AC222: 28047610000 | AD222: 20920340000 | AE222: 25102200000 | AF222: 25879405000 | AG222: 8945060000 | AH222: =VLOOKUP(B222,'Ma sector'!A:E,5,0) -> Tiện ích Cộng đồng
A223: GBS | B223: 300 | C223: 4 | D223: 46980000 | E223: 201970000 | F223: 485830000 | G223: 716290000 | H223: 586200000 | I223: 821290000 | J223: 830090000 | K223: 552460000 | L223: 185370000 | M223: 404570000 | N223: 327450000 | O223: 309750000 | P223: 719320000 | Q223: 191480000 | R223: 59660000 | S223: 348910000 | T223: 443160000 | U223: 86100000 | V223: 69470000 | W223: 190850000 | X223: 496620000 | Y223: 22140000 | Z223: 3910000 | AA223: 36480000 | AB223: 32850000 | AC223: 890500000 | AD223: 183790000 | AE223: 430100000 | AF223: 120690000 | AG223: 156300000 | AH223: =VLOOKUP(B223,'Ma sector'!A:E,5,0) -> Tài chính
A224: GDT | B224: 221 | C224: 4 | D224: 0 | E224: 15660000 | F224: 186000 | G224: 1830000 | H224: 0 | I224: 0 | J224: 0 | K224: 120723000 | L224: 0 | M224: 109970000 | N224: 2586000 | O224: 56248000 | P224: 14924000 | Q224: 51300000 | R224: 183700000 | S224: 370000 | T224: 20440000 | U224: 0 | V224: 72117000 | W224: 17868000 | X224: 173000 | Y224: 0 | Z224: 368000 | AA224: 172000 | AB224: 519000 | AC224: 1020000 | AD224: 9210000 | AE224: 1892000 | AF224: 87220000 | AG224: 0 | AH224: =VLOOKUP(B224,'Ma sector'!A:E,5,0) -> Hàng Tiêu dùng
A225: GFC | B225: 217 | C225: 4 | D225: 0 | E225: 270540000 | F225: 2300000 | G225: 217070000 | H225: 17473800 | I225: 230000 | J225: 960000 | K225: 3360000 | L225: 490000 | M225: 240000 | N225: 260000 | O225: 0 | P225: 9700000 | Q225: 14820000 | R225: 0 | S225: 8070000 | T225: 1400000 | U225: 0 | V225: 5880000 | W225: 1500000 | X225: 0 | Y225: 3600000 | Z225: 780000 | AA225: 0 | AB225: 2520000 | AC225: 0 | AD225: 1380000 | AE225: 0 | AF225: 3880000 | AG225: 0 | AH225: =VLOOKUP(B225,'Ma sector'!A:E,5,0) -> Hàng Tiêu dùng
... A243: HBC | B243: 181 | C243: 3 | D243: 8851233000 | E243: 10980831000 | F243: 4669999000 | G243: 3451974000 | H243: 1619616000 | I243: 3367804000 | J243: 1060679000 | K243: 2345951000 | L243: 1421547000 | M243: 6409394000 | N243: 12239520000 | O243: 5940596000 | P243: 2576180000 | Q243: 4710250000 | R243: 3350577000 | S243: 5153807000 | T243: 2194365000 | U243: 2501708000 | V243: 1443761000 | W243: 754815000 | X243: 1070608000 | Y243: 1684759000 | Z243: 3196828000 | AA243: 1303489000 | AB243: 775773000 | AC243: 1354780000 | AD243: 212727000 | AE243: 950238000 | AF243: 1583858000 | AG243: 1268011000 | AH243: =VLOOKUP(B243,'Ma sector'!A:E,5,0) -> Công nghiệp
A244: HBD | B244: 184 | C244: 4 | D244: 390000 | E244: 12440000 | F244: 0 | G244: 8280000 | H244: 7700000 | I244: 0 | J244: 3500000 | K244: 0 | L244: 4810000 | M244: 1400000 | N244: 0 | O244: 700000 | P244: 0 | Q244: 0 | R244: 0 | S244: 0 | T244: 33600000 | U244: 69830000 | V244: 59920000 | W244: 49300000 | X244: 21000000 | Y244: 6430000 | Z244: 2670000 | AA244: 19600000 | AB244: 36380000 | AH244: =VLOOKUP(B244,'Ma sector'!A:E,5,0) -> Công nghiệp
A245: HBE | B245: 256 | C245: 4 | D245: 0 | E245: 53800000 | F245: 19600000 | G245: 0 | H245: 460000 | I245: 0 | J245: 0 | K245: 440000 | L245: 420000 | M245: 400000 | N245: 0 | O245: 360000 | P245: 20280000 | Q245: 7020000 | R245: 28080000 | S245: 15540000 | T245: 0 | U245: 2200000 | V245: 26840000 | W245: 13640000 | X245: 0 | Y245: 18000000 | Z245: 900000 | AA245: 4940000 | AB245: 0 | AC245: 6990000 | AD245: 23500000 | AE245: 500000 | AF245: 0 | AG245: 0 | AH245: =VLOOKUP(B245,'Ma sector'!A:E,5,0) -> Dịch vụ Tiêu dùng
A246: HBS | B246: 300 | C246: 4 | D246: 248420000 | E246: 319808000 | F246: 193920000 | G246: 243530000 | H246: 1332300000 | I246: 1368427000 | J246: 266576500 | K246: 214500000 | L246: 796436500 | M246: 837600000 | N246: 220000 | O246: 390960000 | P246: 1248000000 | Q246: 782800000 | R246: 1300960000 | S246: 1035818000 | T246: 1041440000 | U246: 520960000 | V246: 90720000 | W246: 553480000 | X246: 0 | Y246: 1044690000 | Z246: 1593448000 | AA246: 1897300000 | AB246: 357480000 | AC246: 1080040000 | AD246: 176000 | AE246: 1484810000 | AF246: 739500000 | AG246: 940390000 | AH246: =VLOOKUP(B246,'Ma sector'!A:E,5,0) -> Tài chính
A247: HCC | B247: 180 | C247: 4 | D247: 0 | E247: 58830000 | F247: 31416000 | G247: 37200000 | H247: 33040000 | I247: 1220000 | J247: 68970000 | K247: 85400000 | L247: 0 | M247: 702000 | N247: 6000000 | O247: 87082000 | P247: 169790000 | Q247: 44970000 | R247: 1240000 | S247: 122830000 | T247: 94730000 | U247: 69180000 | V247: 13000000 | W247: 56820000 | X247: 0 | Y247: 16410000 | Z247: 1200000 | AA247: 5830000 | AB247: 0 | AC247: 13960000 | AD247: 52000000 | AE247: 0 | AF247: 0 | AG247: 0 | AH247: =VLOOKUP(B247,'Ma sector'!A:E,5,0) -> Công nghiệp
A248: HCM | B248: 300 | C248: 2 | D248: 4355109000 | E248: 7326824000 | F248: 4664055000 | G248: 12546944000 | H248: 3499343000 | I248: 7386732000 | J248: 3532451000 | K248: 6939911000 | L248: 4837467000 | M248: 9275943000 | N248: 13561349000 | O248: 12920207000 | P248: 8035124000 | Q248: 3709514000 | R248: 6227518000 | S248: 3662300000 | T248: 9400823000 | U248: 8579595000 | V248: 2779408000 | W248: 3710811000 | X248: 6742224000 | Y248: 3771266000 | Z248: 5705161000 | AA248: 4360656000 | AB248: 2164277000 | AC248: 2484194000 | AD248: 1377741000 | AE248: 2860595000 | AF248: 3425457000 | AG248: 8888815000 | AH248: =VLOOKUP(B248,'Ma sector'!A:E,5,0) -> Tài chính
A249: HCT | B249: 180 | C249: 4 | D249: 63620000 | E249: 0 | F249: 28800000 | G249: 610000 | H249: 20040000 | I249: 0 | J249: 0 | K249: 29730000 | L249: 23940000 | M249: 45030000 | N249: 550000 | O249: 2340000 | P249: 1720000 | Q249: 0 | R249: 560000 | S249: 0 | T249: 1190000 | U249: 1650000 | V249: 600000 | W249: 0 | X249: 0 | Y249: 0 | Z249: 0 | AA249: 3300000 | AB249: 2900000 | AC249: 1130000 | AD249: 0 | AE249: 0 | AF249: 600000 | AG249: 0 | AH249: =VLOOKUP(B249,'Ma sector'!A:E,5,0) -> Công nghiệp
A250: HDA | B250: 180 | C250: 4 | D250: 0 | E250: 19210000 | F250: 0 | G250: 990000 | H250: 0 | I250: 1920000 | J250: 460920000 | K250: 830000 | L250: 8890000 | M250: 970000 | N250: 1040000 | O250: 0 | P250: 0 | Q250: 0 | R250: 0 | S250: 1130000 | T250: 0 | U250: 0 | V250: 42240000 | W250: 0 | X250: 0 | Y250: 830000 | Z250: 9950000 | AA250: 1540000 | AB250: 41570000 | AC250: 0 | AD250: 13480000 | AE250: 0 | AF250: 27350000 | AG250: 3850000 | AH250: =VLOOKUP(B250,'Ma sector'!A:E,5,0) -> Công nghiệp
A251: HDC | B251: 336 | C251: 3 | D251: 52814000 | E251: 179654000 | F251: 159238000 | G251: 438196000 | H251: 119408000 | I251: 44100000 | J251: 72271000 | K251: 179525000 | L251: 328300000 | M251: 37230000 | N251: 101945000 | O251: 294280000 | P251: 329371000 | Q251: 132037000 | R251: 207212000 | S251: 30196000 | T251: 252518000 | U251: 24217000 | V251: 16170000 | W251: 175523000 | X251: 39738000 | Y251: 80866000 | Z251: 42945000 | AA251: 14864000 | AB251: 363940000 | AC251: 507731600 | AD251: 10000500000 | AE251: 807822000 | AF251: 0 | AG251: 45820000 | AH251: =VLOOKUP(B251,'Ma sector'!A:E,5,0) -> Tài chính
A252: HDG | B252: 336 | C252: 2 | D252: 38113000 | E252: 831596000 | F252: 1138580000 | G252: 1486150000 | H252: 649872000 | I252: 4760632000 | J252: 1187323000 | K252: 567029000 | L252: 1876687000 | M252: 839256000 | N252: 1219452000 | O252: 568266000 | P252: 454335000 | Q252: 436450000 | R252: 208031000 | S252: 272645000 | T252: 351360000 | U252: 397159000 | V252: 247027000 | W252: 21834000 | X252: 21618000 | Y252: 554065000 | Z252: 532941000 | AA252: 187388000 | AB252: 71506000 | AC252: 82210000 | AD252: 124769000 | AE252: 66344000 | AF252: 31004000 | AG252: 134042000 | AH252: =VLOOKUP(B252,'Ma sector'!A:E,5,0) -> Tài chính
A253: HDO | B253: 184 | C253: 4 | D253: 350880000 | E253: 724890000 | F253: 606690000 | G253: 594320000 | H253: 414440000 | I253: 1421990000 | J253: 2473420000 | K253: 1636845800 | L253: 1124720000 | M253: 844190000 | N253: 1386640000 | O253: 2768200000 | P253: 315910000 | Q253: 933810000 | R253: 549070000 | S253: 712290000 | T253: 506920000 | U253: 378520000 | V253: 471350000 | W253: 441360000 | X253: 1100000 | Y253: 302720000 | Z253: 404320000 | AA253: 319280000 | AB253: 1183150000 | AC253: 409430000 | AD253: 102010000 | AE253: 246530000 | AF253: 648330000 | AG253: 1345230000 | AH253: =VLOOKUP(B253,'Ma sector'!A:E,5,0) -> Công nghiệp
A254: HEV | B254: 256 | C254: 4 | D254: 0 | E254: 0 | F254: 0 | G254: 0 | H254: 0 | I254: 1430000 | J254: 0 | K254: 25900000 | L254: 1400000 | M254: 9090000 | N254: 7520000 | O254: 28430000 | P254: 62790000 | Q254: 146730000 | R254: 74620000 | S254: 107020000 | T254: 0 | U254: 3450000 | V254: 0 | W254: 23000000 | X254: 0 | Y254: 0 | Z254: 1150000 | AA254: 1040000 | AB254: 0 | AC254: 2220000 | AD254: 4420000 | AE254: 0 | AF254: 0 | AG254: 2270000 | AH254: =VLOOKUP(B254,'Ma sector'!A:E,5,0) -> Dịch vụ Tiêu dùng
A255: HGM | B255: 166 | C255: 4 | D255: 35100000 | E255: 751100000 | F255: 168000000 | G255: 0 | H255: 48400000 | I255: 23800000 | J255: 45900000 | K255: 55300000 | L255: 0 | M255: 23400000 | N255: 0 | O255: 33900000 | P255: 177020000 | Q255: 270000000 | R255: 43800000 | S255: 2424900000 | T255: 598900000 | U255: 37480000 | V255: 89190000 | W255: 1316830000 | X255: 0 | Y255: 63490000 | Z255: 139090000 | AA255: 12890000 | AB255: 516270000 | AC255: 38950000 | AD255: 13090000 | AE255: 150880000 | AF255: 26000000 | AG255: 664220000 | AH255: =VLOOKUP(B255,'Ma sector'!A:E,5,0) -> Nguyên vật liệu
A256: HHC | B256: 218 | C256: 4 | D256: 0 | E256: 3320000 | F256: 67200000 | G256: 85680000 | H256: 3360000 | I256: 42100000 | J256: 13680000 | K256: 1700000 | L256: 0 | M256: 765000 | N256: 0 | O256: 5180000 | P256: 13880000 | Q256: 3500000 | R256: 1830000 | S256: 3540000 | T256: 1700000 | U256: 8500000 | V256: 102634100 | W256: 1700000 | X256: 0 | Y256: 0 | Z256: 0 | AA256: 6840000 | AB256: 23370000 | AC256: 34200000 | AD256: 59380000 | AE256: 0 | AF256: 30600000 | AG256: 0 | AH256: =VLOOKUP(B256,'Ma sector'!A:E,5,0) -> Hàng Tiêu dùng
... A454: PSC | B454: 194 | C454: 4 | D454: 0 | E454: 1640000 | F454: 0 | G454: 1790000 | H454: 46200000 | I454: 3180000 | J454: 0 | K454: 13950000 | L454: 0 | M454: 0 | N454: 1450000 | O454: 0 | P454: 1310000 | Q454: 1200000 | R454: 7110000 | S454: 0 | T454: 1100000 | U454: 990000 | V454: 0 | W454: 62000000 | X454: 0 | Y454: 0 | Z454: 100210000 | AA454: 12500000 | AB454: 0 | AC454: 0 | AD454: 0 | AE454: 0 | AF454: 0 | AG454: 1370000 | AH454: =VLOOKUP(B454,'Ma sector'!A:E,5,0) -> Công nghiệp
A455: PSD | B455: 253 | C455: 4 | AC455: 265800000 | AD455: 39800000 | AE455: 0 | AF455: 6400000 | AG455: 12600000 | AH455: =VLOOKUP(B455,'Ma sector'!A:E,5,0) -> Dịch vụ Tiêu dùng
A456: PSG | B456: 181 | C456: 4 | D456: 710000 | E456: 31230000 | F456: 74570000 | G456: 285620000 | H456: 134100000 | I456: 582800000 | J456: 196630000 | K456: 297760000 | L456: 56090000 | M456: 76910000 | N456: 207350000 | O456: 144930000 | P456: 30530000 | Q456: 8480000 | R456: 14370000 | S456: 26360000 | T456: 274580000 | U456: 78610000 | V456: 17760000 | W456: 63520000 | X456: 0 | Y456: 22000000 | Z456: 15320000 | AA456: 43310000 | AB456: 24830000 | AC456: 2830000 | AD456: 2160000 | AE456: 7320000 | AF456: 21860000 | AG456: 35370000 | AH456: =VLOOKUP(B456,'Ma sector'!A:E,5,0) -> Công nghiệp
A457: PSI | B457: 300 | C457: 4 | D457: 50720000 | E457: 562740000 | F457: 429860000 | G457: 3169330000 | H457: 4245281500 | I457: 8765682500 | J457: 6516720000 | K457: 3081862500 | L457: 4837945000 | M457: 10833917500 | N457: 6173722000 | O457: 6467870000 | P457: 7447370000 | Q457: 2016910000 | R457: 3137230000 | S457: 2338360000 | T457: 1746310000 | U457: 2495310000 | V457: 386400000 | W457: 1415380000 | X457: 134770000 | Y457: 1217810000 | Z457: 1322920000 | AA457: 1157780000 | AB457: 3869930000 | AC457: 260890000 | AD457: 383650000 | AE457: 353430000 | AF457: 216180000 | AG457: 5420977500 | AH457: =VLOOKUP(B457,'Ma sector'!A:E,5,0) -> Tài chính
A458: PTB | B458: 180 | C458: 4 | D458: 1254380000 | E458: 1901982000 | F458: 3005209000 | G458: 1874663000 | H458: 878896000 | I458: 1680505000 | J458: 1621273000 | K458: 980277000 | L458: 499937000 | M458: 1006997000 | N458: 4981905000 | O458: 2487931000 | P458: 311908000 | Q458: 522862000 | R458: 951557000 | S458: 980593000 | T458: 805597000 | U458: 950936000 | V458: 149391000 | W458: 896724000 | X458: 283474000 | Y458: 531945000 | Z458: 1051545000 | AA458: 765712000 | AB458: 183740000 | AC458: 277056000 | AD458: 1406592000 | AE458: 38115000 | AF458: 1063185000 | AG458: 1261810000 | AH458: =VLOOKUP(B458,'Ma sector'!A:E,5,0) -> Công nghiệp
A459: PTC | B459: 181 | C459: 4 | D459: 597101000 | E459: 203139000 | F459: 79350000 | G459: 504298000 | H459: 317433000 | I459: 194912000 | J459: 573967000 | K459: 652820000 | L459: 14880000 | M459: 600748000 | N459: 138483000 | O459: 87719000 | P459: 407498000 | Q459: 121704000 | R459: 252518000 | S459: 604740000 | T459: 131334000 | U459: 282340000 | V459: 335769000 | W459: 151015000 | X459: 225100000 | Y459: 538643000 | Z459: 254009000 | AA459: 59256000 | AB459: 294990000 | AC459: 246015000 | AD459: 983348000 | AE459: 1308209000 | AF459: 209400000 | AG459: 37145000 | AH459: =VLOOKUP(B459,'Ma sector'!A:E,5,0) -> Công nghiệp
A460: PTI | B460: 290 | C460: 3 | D460: 8400000 | E460: 380000 | F460: 3150000 | G460: 0 | H460: 0 | I460: 0 | J460: 17280000 | K460: 10995900 | L460: 16520000 | M460: 0 | N460: 2584500 | O460: 7210000 | P460: 107100000 | Q460: 226192000 | R460: 1100330000 | S460: 62600000 | T460: 4450000 | U460: 675000 | V460: 1000000 | W460: 30000000 | X460: 0 | Y460: 190050000 | Z460: 33580000 | AA460: 0 | AB460: 1040000 | AC460: 0 | AD460: 2060000 | AE460: 76600000 | AF460: 0 | AG460: 0 | AH460: =VLOOKUP(B460,'Ma sector'!A:E,5,0) -> Tài chính
A461: PTK | B461: 166 | C461: 4 | D461: 1512224000 | E461: 2397057000 | F461: 1044649000 | G461: 961493000 | H461: 992384000 | I461: 1550589000 | J461: 1914121000 | K461: 2001647000 | L461: 1668685000 | M461: 1197356000 | N461: 1291637000 | O461: 1460875000 | P461: 1254955000 | Q461: 1554206000 | R461: 1420195000 | S461: 1387063000 | T461: 1258430000 | U461: 808484000 | V461: 1261590000 | W461: 1258030000 | X461: 1193900000 | Y461: 1107179000 | Z461: 1051383000 | AA461: 1324213000 | AB461: 1105401000 | AC461: 1276094000 | AD461: 861424000 | AE461: 471022000 | AF461: 589590000 | AG461: 287450000 | AH461: =VLOOKUP(B461,'Ma sector'!A:E,5,0) -> Nguyên vật liệu
A462: PTL | B462: 336 | C462: 2 | D462: 225843000 | E462: 1006138000 | F462: 616713000 | G462: 3037694000 | H462: 631571000 | I462: 1859711000 | J462: 1212562000 | K462: 819557000 | L462: 262006000 | M462: 747592000 | N462: 296725000 | O462: 518979000 | P462: 371533000 | Q462: 15230880000 | R462: 414064000 | S462: 378539000 | T462: 796920000 | U462: 278267000 | V462: 649929000 | W462: 51388000 | X462: 284164000 | Y462: 859678000 | Z462: 727461000 | AA462: 363799000 | AB462: 134219000 | AC462: 253604000 | AD462: 200092000 | AE462: 88191000 | AF462: 57697000 | AG462: 298756000 | AH462: =VLOOKUP(B462,'Ma sector'!A:E,5,0) -> Tài chính
A463: PTM | B463: 189 | C463: 4 | D463: 0 | E463: 0 | F463: 0 | G463: 0 | H463: 1560000 | I463: 0 | J463: 0 | K463: 0 | L463: 0 | M463: 770000 | N463: 0 | O463: 0 | P463: 1560000 | Q463: 0 | R463: 0 | S463: 0 | T463: 0 | U463: 0 | V463: 0 | W463: 1540000 | X463: 0 | Y463: 0 | Z463: 0 | AA463: 780000 | AB463: 0 | AC463: 0 | AD463: 0 | AE463: 0 | AF463: 0 | AG463: 0 | AH463: =VLOOKUP(B463,'Ma sector'!A:E,5,0) -> Công nghiệp
A464: PTS | B464: 194 | C464: 4 | D464: 9110000 | E464: 1706000 | F464: 10578000 | G464: 7880000 | H464: 258000 | I464: 1000000 | J464: 18940000 | K464: 13340000 | L464: 470000 | M464: 45210000 | N464: 1790000 | O464: 6080000 | P464: 460000 | Q464: 19570000 | R464: 900000 | S464: 8660000 | T464: 470000 | U464: 5210000 | V464: 450000 | W464: 450000 | X464: 470000 | Y464: 44320000 | Z464: 14010000 | AA464: 23200000 | AB464: 90250000 | AC464: 440000 | AD464: 7750000 | AE464: 2580000 | AF464: 10890000 | AG464: 1220000 | AH464: =VLOOKUP(B464,'Ma sector'!A:E,5,0) -> Công nghiệp
...

Sheet Líchukien
A1: Ticker | B1: EventName | C1: Note | D1: NgayThongBao | E1: NgayThucHien | F1: NgayDKCC | G1: NgayGDKHQ
A2: HUT | B2: Niêm yết thêm | C2: Niêm yết thêm | D2: 41453.435 | E2: 41459.435 | F2: 41459.729 | G2: 41459.729
A3: HQC | B3: Niêm yết thêm | C3: Niêm yết thêm | D3: 41452.569 | E3: 41459.569 | F3: 41459.729 | G3: 41459.729
A4: VNA | B4: Thay đổi BLĐ | C4: Thay đổi BLĐ | D4: 41459.697 | E4: 41459.697 | F4: 41459.729 | G4: 41459.729
A5: BRC | B5: Trả cổ tức bằng tiền mặt | C5: Trả cổ tức bằng tiền mặt | D5: 41436.702 | E5: 41459.702 | F5: 41449.702 | G5: 41445.702
A6: TCM | B6: Họp Hội đồng Quản trị | C6: Họp Hội đồng Quản trị | D6: 41459.709 | E6: 41459.709 | F6: 41459.729 | G6: 41459.729
A7: NTP | B7: Trả cổ tức bằng tiền mặt | C7: Trả cổ tức bằng tiền mặt | D7: 41424.713 | E7: 41459.713 | F7: 41436.713 | G7: 41432.713
A8: BMP | B8: Trả cổ tức bằng tiền mặt | C8: Trả cổ tức bằng tiền mặt | D8: 41436.41 | E8: 41460.41 | F8: 41446.412 | G8: 41444.412
A9: TPC | B9: Trả cổ tức bằng tiền mặt | C9: Trả cổ tức bằng tiền mặt | D9: 41432.41 | E9: 41460.41 | F9: 41444.412 | G9: 41442.412
A10: APP | B10: Trả cổ tức bằng tiền mặt | C10: Trả cổ tức bằng tiền mặt | D10: 41436.427 | E10: 41460.427 | F10: 41445.427 | G10: 41443.427
A11: HLD | B11: Trả cổ tức bằng tiền mặt | C11: Trả cổ tức bằng tiền mặt | D11: 41436.424 | E11: 41463.424 | F11: 41446.424 | G11: 41444.424
A12: NBB | B12: Phát hành cổ phiếu | C12: Phát hành cổ phiếu | D12: 41446.426 | E12: 41463.426 | F12: 41456.426 | G12: 41452.426
A13: HTV | B13: Lấy ý kiến cổ đông bằng văn bản | C13: Lấy ý kiến cổ đông bằng văn bản | D13: 41442.442 | E13: 41463.442 | F13: 41453.442 | G13: 41451.442
... A31: SSF | B31: Trả cổ tức bằng tiền mặt | C31: Trả cổ tức bằng tiền mặt | D31: 41436.393 | E31: 41470.393 | F31: 41442.393 | G31: 41438.393

Sheet Ma sector
A1: ID | B1: Name | C1: Level 4 | D1: Level 1 | E1: Tên level 1
A2: 144 | B2: Sản xuất và Khai thác dầu khí | C2: 4 | D2: 1 | E2: Dầu khí
A3: 145 | B3: Tổ hợp Dầu khí | C3: 4 | D3: 1 | E3: Dầu khí
A4: 150 | B4: Nhựa, cao su & sợi | C4: 4 | D4: 1 | E4: Nguyên vật liệu
A5: 151 | B5: Sản phẩm hóa dầu, Nông dược & Hóa chất khác | C5: 4 | D5: 1 | E5: Nguyên vật liệu
A6: 155 | B6: Lâm sản và Chế biến gỗ | C6: 4 | D6: 1 | E6: Nguyên vật liệu
A7: 156 | B7: Sản xuất giấy | C7: 4 | D7: 1 | E7: Nguyên vật liệu
A8: 157 | B8: Nhôm | C8: 4 | D8: 1 | E8: Nguyên vật liệu
A9: 158 | B9: Kim Loại màu | C9: 4 | D9: 1 | E9: Nguyên vật liệu
A10: 159 | B10: Thép và sản phẩm thép | C10: 4 | D10: 1 | E10: Nguyên vật liệu
A11: 160 | B11: Khai thác Than | C11: 4 | D11: 1 | E11: Nguyên vật liệu
A12: 165 | B12: Đá quý và Kim cương | C12: 4 | D12: 1 | E12: Nguyên vật liệu
A13: 166 | B13: Khai khoáng | C13: 4 | D13: 1 | E13: Nguyên vật liệu
... A105: 339 | B105: Tư Vấn, Định giá, Môi giới Bất động sản | C105: 4 | D105: 1 | E105: Tài chính
